BEGIN:VCALENDAR
VERSION:2.0
PRODID:-//Jubel - ECPv6.15.20//NONSGML v1.0//EN
CALSCALE:GREGORIAN
METHOD:PUBLISH
X-WR-CALNAME:Jubel
X-ORIGINAL-URL:https://jubel.se
X-WR-CALDESC:Händelser för Jubel
REFRESH-INTERVAL;VALUE=DURATION:PT1H
X-Robots-Tag:noindex
X-PUBLISHED-TTL:PT1H
BEGIN:VTIMEZONE
TZID:Europe/Stockholm
BEGIN:DAYLIGHT
TZOFFSETFROM:+0100
TZOFFSETTO:+0200
TZNAME:CEST
DTSTART:20250330T010000
END:DAYLIGHT
BEGIN:STANDARD
TZOFFSETFROM:+0200
TZOFFSETTO:+0100
TZNAME:CET
DTSTART:20251026T010000
END:STANDARD
BEGIN:DAYLIGHT
TZOFFSETFROM:+0100
TZOFFSETTO:+0200
TZNAME:CEST
DTSTART:20260329T010000
END:DAYLIGHT
BEGIN:STANDARD
TZOFFSETFROM:+0200
TZOFFSETTO:+0100
TZNAME:CET
DTSTART:20261025T010000
END:STANDARD
BEGIN:DAYLIGHT
TZOFFSETFROM:+0100
TZOFFSETTO:+0200
TZNAME:CEST
DTSTART:20270328T010000
END:DAYLIGHT
BEGIN:STANDARD
TZOFFSETFROM:+0200
TZOFFSETTO:+0100
TZNAME:CET
DTSTART:20271031T010000
END:STANDARD
END:VTIMEZONE
BEGIN:VEVENT
DTSTART;VALUE=DATE:20260711
DTEND;VALUE=DATE:20260712
DTSTAMP:20260419T184416
CREATED:20251203T070009Z
LAST-MODIFIED:20251202T205529Z
UID:10001428-1783728000-1783814399@jubel.se
SUMMARY:The Tallest Man on Earth
DESCRIPTION:
URL:https://jubel.se/biljetter/the-tallest-man-on-earth
LOCATION:Musikkväll på Kalfjäll\, Tänndalen
CATEGORIES:Konsert
END:VEVENT
BEGIN:VEVENT
DTSTART;VALUE=DATE:20260717
DTEND;VALUE=DATE:20260718
DTSTAMP:20260419T184416
CREATED:20251203T070033Z
LAST-MODIFIED:20251202T205628Z
UID:10001429-1784246400-1784332799@jubel.se
SUMMARY:Tommy Körberg
DESCRIPTION:
URL:https://jubel.se/biljetter/tommy-korberg
LOCATION:Musikkväll på Kalfjäll\, Tänndalen
CATEGORIES:Konsert
END:VEVENT
BEGIN:VEVENT
DTSTART;VALUE=DATE:20260725
DTEND;VALUE=DATE:20260726
DTSTAMP:20260419T184416
CREATED:20251216T094641Z
LAST-MODIFIED:20251216T094641Z
UID:10001444-1784937600-1785023999@jubel.se
SUMMARY:Markus Krunegård
DESCRIPTION:
URL:https://jubel.se/biljetter/markus-krunegard
LOCATION:Musikkväll på Kalfjäll\, Tänndalen
CATEGORIES:Konsert
END:VEVENT
BEGIN:VEVENT
DTSTART;VALUE=DATE:20260730
DTEND;VALUE=DATE:20260731
DTSTAMP:20260419T184416
CREATED:20260416T060002Z
LAST-MODIFIED:20260416T071130Z
UID:10001661-1785369600-1785455999@jubel.se
SUMMARY:Countrykväll på Kalfjäll
DESCRIPTION:
URL:https://jubel.se/biljetter/musikkvall-pa-kalfjall
LOCATION:Musikkväll på Kalfjäll\, Tänndalen
CATEGORIES:Konsert
END:VEVENT
END:VCALENDAR