BEGIN:VCALENDAR
VERSION:2.0
PRODID:-//Jubel - ECPv6.15.20//NONSGML v1.0//EN
CALSCALE:GREGORIAN
METHOD:PUBLISH
X-WR-CALNAME:Jubel
X-ORIGINAL-URL:https://jubel.se
X-WR-CALDESC:Händelser för Jubel
REFRESH-INTERVAL;VALUE=DURATION:PT1H
X-Robots-Tag:noindex
X-PUBLISHED-TTL:PT1H
BEGIN:VTIMEZONE
TZID:Europe/Stockholm
BEGIN:DAYLIGHT
TZOFFSETFROM:+0100
TZOFFSETTO:+0200
TZNAME:CEST
DTSTART:20250330T010000
END:DAYLIGHT
BEGIN:STANDARD
TZOFFSETFROM:+0200
TZOFFSETTO:+0100
TZNAME:CET
DTSTART:20251026T010000
END:STANDARD
BEGIN:DAYLIGHT
TZOFFSETFROM:+0100
TZOFFSETTO:+0200
TZNAME:CEST
DTSTART:20260329T010000
END:DAYLIGHT
BEGIN:STANDARD
TZOFFSETFROM:+0200
TZOFFSETTO:+0100
TZNAME:CET
DTSTART:20261025T010000
END:STANDARD
BEGIN:DAYLIGHT
TZOFFSETFROM:+0100
TZOFFSETTO:+0200
TZNAME:CEST
DTSTART:20270328T010000
END:DAYLIGHT
BEGIN:STANDARD
TZOFFSETFROM:+0200
TZOFFSETTO:+0100
TZNAME:CET
DTSTART:20271031T010000
END:STANDARD
END:VTIMEZONE
BEGIN:VEVENT
DTSTART;VALUE=DATE:20260418
DTEND;VALUE=DATE:20260419
DTSTAMP:20260419T235839
CREATED:20260202T131211Z
LAST-MODIFIED:20260202T131211Z
UID:10001521-1776470400-1776556799@jubel.se
SUMMARY:AKA lisa
DESCRIPTION:
URL:https://jubel.se/biljetter/aka-lisa-8
LOCATION:Annelundsgården\, Malmö
CATEGORIES:Konsert
END:VEVENT
BEGIN:VEVENT
DTSTART;VALUE=DATE:20260418
DTEND;VALUE=DATE:20260419
DTSTAMP:20260419T235839
CREATED:20260130T082750Z
LAST-MODIFIED:20260130T082750Z
UID:10001507-1776470400-1776556799@jubel.se
SUMMARY:Nordan - Lena Willemark & Ale Möller
DESCRIPTION:
URL:https://jubel.se/biljetter/nordan-lena-willemark-ale-moller-5
LOCATION:Cassels konsert- och kulturhus\, Grängesberg
CATEGORIES:Konsert
END:VEVENT
BEGIN:VEVENT
DTSTART;VALUE=DATE:20260418
DTEND;VALUE=DATE:20260419
DTSTAMP:20260419T235839
CREATED:20260120T092801Z
LAST-MODIFIED:20260120T092801Z
UID:10001497-1776470400-1776556799@jubel.se
SUMMARY:Tommy Nilsson
DESCRIPTION:
URL:https://jubel.se/biljetter/tommy-nilsson-10
LOCATION:Birka Gotland
CATEGORIES:Konsert
END:VEVENT
BEGIN:VEVENT
DTSTART;VALUE=DATE:20260418
DTEND;VALUE=DATE:20260419
DTSTAMP:20260419T235839
CREATED:20251118T070057Z
LAST-MODIFIED:20251117T161742Z
UID:10001395-1776470400-1776556799@jubel.se
SUMMARY:Peter Jöback
DESCRIPTION:
URL:https://jubel.se/biljetter/peter-joback-40
LOCATION:Luleå\, Kulturens hus
CATEGORIES:Konsert
END:VEVENT
BEGIN:VEVENT
DTSTART;VALUE=DATE:20260417
DTEND;VALUE=DATE:20260418
DTSTAMP:20260419T235839
CREATED:20260130T090109Z
LAST-MODIFIED:20260130T090109Z
UID:10001519-1776384000-1776470399@jubel.se
SUMMARY:AKA lisa
DESCRIPTION:
URL:https://jubel.se/biljetter/aka-lisa-6
LOCATION:Nefertiti\, Göteborg
CATEGORIES:Konsert
END:VEVENT
BEGIN:VEVENT
DTSTART;VALUE=DATE:20260417
DTEND;VALUE=DATE:20260418
DTSTAMP:20260419T235839
CREATED:20251118T070006Z
LAST-MODIFIED:20251117T161647Z
UID:10001394-1776384000-1776470399@jubel.se
SUMMARY:Peter Jöback
DESCRIPTION:
URL:https://jubel.se/biljetter/peter-joback-39
LOCATION:Umeå\, Idun
CATEGORIES:Konsert
END:VEVENT
BEGIN:VEVENT
DTSTART;VALUE=DATE:20260415
DTEND;VALUE=DATE:20260416
DTSTAMP:20260419T235839
CREATED:20251202T090028Z
LAST-MODIFIED:20251202T105641Z
UID:10001426-1776211200-1776297599@jubel.se
SUMMARY:Viktor Norén
DESCRIPTION:
URL:https://jubel.se/biljetter/viktor-noren-64
LOCATION:Hässleholm Kulturhus\, Hässleholm
CATEGORIES:Konsert
END:VEVENT
BEGIN:VEVENT
DTSTART;VALUE=DATE:20260414
DTEND;VALUE=DATE:20260415
DTSTAMP:20260419T235839
CREATED:20251202T090007Z
LAST-MODIFIED:20251202T105856Z
UID:10001425-1776124800-1776211199@jubel.se
SUMMARY:Viktor Norén
DESCRIPTION:
URL:https://jubel.se/biljetter/viktor-noren-63
LOCATION:Jönköping Konsert & Kongress\, Jönköping
CATEGORIES:Konsert
END:VEVENT
BEGIN:VEVENT
DTSTART;VALUE=DATE:20260411
DTEND;VALUE=DATE:20260412
DTSTAMP:20260419T235839
CREATED:20260311T091824Z
LAST-MODIFIED:20260311T091824Z
UID:10001593-1775865600-1775951999@jubel.se
SUMMARY:noll2
DESCRIPTION:
URL:https://jubel.se/biljetter/noll2-17
LOCATION:Vårskidan 2026\, Järvsö
CATEGORIES:Konsert
END:VEVENT
BEGIN:VEVENT
DTSTART;VALUE=DATE:20260411
DTEND;VALUE=DATE:20260412
DTSTAMP:20260419T235839
CREATED:20251128T090040Z
LAST-MODIFIED:20251127T144425Z
UID:10001413-1775865600-1775951999@jubel.se
SUMMARY:John Lindberg Trio
DESCRIPTION:
URL:https://jubel.se/biljetter/john-lindberg-trio-79
LOCATION:Nalen\, Stockholm
END:VEVENT
BEGIN:VEVENT
DTSTART;VALUE=DATE:20260410
DTEND;VALUE=DATE:20260411
DTSTAMP:20260419T235839
CREATED:20260306T091230Z
LAST-MODIFIED:20260306T091230Z
UID:10001590-1775779200-1775865599@jubel.se
SUMMARY:Moa Lignell
DESCRIPTION:
URL:https://jubel.se/biljetter/moa-lignell-23
LOCATION:Slaktkyrkan\, Stockholm
CATEGORIES:Konsert
END:VEVENT
BEGIN:VEVENT
DTSTART;VALUE=DATE:20260408
DTEND;VALUE=DATE:20260409
DTSTAMP:20260419T235839
CREATED:20260203T112111Z
LAST-MODIFIED:20260203T112111Z
UID:10001522-1775606400-1775692799@jubel.se
SUMMARY:Viktor Norén
DESCRIPTION:
URL:https://jubel.se/biljetter/viktor-noren-74
LOCATION:Aurora Kultur & Kongress\, Kiruna
CATEGORIES:Konsert
END:VEVENT
BEGIN:VEVENT
DTSTART;VALUE=DATE:20260402
DTEND;VALUE=DATE:20260403
DTSTAMP:20260419T235839
CREATED:20260319T171851Z
LAST-MODIFIED:20260319T171851Z
UID:10001605-1775088000-1775174399@jubel.se
SUMMARY:noll2
DESCRIPTION:
URL:https://jubel.se/biljetter/noll2-20
LOCATION:X&Y\, Borås
CATEGORIES:Konsert
END:VEVENT
BEGIN:VEVENT
DTSTART;VALUE=DATE:20260329
DTEND;VALUE=DATE:20260330
DTSTAMP:20260419T235839
CREATED:20251121T091812Z
LAST-MODIFIED:20251121T091812Z
UID:10001406-1774742400-1774828799@jubel.se
SUMMARY:Tomas Andersson Wij
DESCRIPTION:
URL:https://jubel.se/biljetter/tomas-andersson-wij-135
LOCATION:Nora kyrka\, Nora
CATEGORIES:Konsert
END:VEVENT
BEGIN:VEVENT
DTSTART;VALUE=DATE:20260328
DTEND;VALUE=DATE:20260329
DTSTAMP:20260419T235839
CREATED:20260125T155039Z
LAST-MODIFIED:20260304T194119Z
UID:10001504-1774656000-1774742399@jubel.se
SUMMARY:Division 7
DESCRIPTION:
URL:https://jubel.se/biljetter/division-7-35
LOCATION:Kollektivet Livet\, Stockholm
CATEGORIES:Konsert
END:VEVENT
BEGIN:VEVENT
DTSTART;VALUE=DATE:20260328
DTEND;VALUE=DATE:20260329
DTSTAMP:20260419T235839
CREATED:20251121T091720Z
LAST-MODIFIED:20251121T091720Z
UID:10001405-1774656000-1774742399@jubel.se
SUMMARY:Tomas Andersson Wij
DESCRIPTION:
URL:https://jubel.se/biljetter/tomas-andersson-wij-134
LOCATION:Trefaldighetskyrkan\, Örebro
CATEGORIES:Konsert
END:VEVENT
BEGIN:VEVENT
DTSTART;VALUE=DATE:20260325
DTEND;VALUE=DATE:20260326
DTSTAMP:20260419T235839
CREATED:20251017T080309Z
LAST-MODIFIED:20251017T080309Z
UID:10001372-1774396800-1774483199@jubel.se
SUMMARY:Lina Hedlund
DESCRIPTION:
URL:https://jubel.se/biljetter/lina-hedlund-15
LOCATION:Biljardkompaniet\, Kristianstad
CATEGORIES:Föreställning
END:VEVENT
BEGIN:VEVENT
DTSTART;VALUE=DATE:20260324
DTEND;VALUE=DATE:20260325
DTSTAMP:20260419T235839
CREATED:20251202T090027Z
LAST-MODIFIED:20251202T105743Z
UID:10001424-1774310400-1774396799@jubel.se
SUMMARY:Viktor Norén
DESCRIPTION:
URL:https://jubel.se/biljetter/viktor-noren-62
LOCATION:Cassels konsert- och kulturhus\, Grängesberg
CATEGORIES:Konsert
END:VEVENT
BEGIN:VEVENT
DTSTART;VALUE=DATE:20260323
DTEND;VALUE=DATE:20260324
DTSTAMP:20260419T235839
CREATED:20251222T084906Z
LAST-MODIFIED:20251222T084906Z
UID:10001479-1774224000-1774310399@jubel.se
SUMMARY:Viktor Norén
DESCRIPTION:
URL:https://jubel.se/biljetter/viktor-noren-73
LOCATION:Cassels konsert- och kulturhus\, Grängesberg
CATEGORIES:Konsert
END:VEVENT
BEGIN:VEVENT
DTSTART;VALUE=DATE:20260321
DTEND;VALUE=DATE:20260323
DTSTAMP:20260419T235839
CREATED:20250910T143059Z
LAST-MODIFIED:20250910T123456Z
UID:10001316-1774051200-1774223999@jubel.se
SUMMARY:Mimikry
DESCRIPTION:
URL:https://jubel.se/biljetter/mimikry-32
LOCATION:Galaxen Nöje\, Borlänge
END:VEVENT
BEGIN:VEVENT
DTSTART;VALUE=DATE:20260320
DTEND;VALUE=DATE:20260321
DTSTAMP:20260419T235839
CREATED:20260120T092627Z
LAST-MODIFIED:20260120T092627Z
UID:10001495-1773964800-1774051199@jubel.se
SUMMARY:Tommy Nilsson
DESCRIPTION:
URL:https://jubel.se/biljetter/tommy-nilsson-8
LOCATION:Filipstads Kyrka\, Filipstad
CATEGORIES:Konsert
END:VEVENT
BEGIN:VEVENT
DTSTART;VALUE=DATE:20260320
DTEND;VALUE=DATE:20260321
DTSTAMP:20260419T235839
CREATED:20251121T091615Z
LAST-MODIFIED:20251121T091615Z
UID:10001404-1773964800-1774051199@jubel.se
SUMMARY:Tomas Andersson Wij
DESCRIPTION:
URL:https://jubel.se/biljetter/tomas-andersson-wij-133
LOCATION:S:t Johannes Kyrka\, Johannesgatan 21\, Malmö\, 11138\, Sweden
CATEGORIES:Konsert
END:VEVENT
BEGIN:VEVENT
DTSTART;VALUE=DATE:20260315
DTEND;VALUE=DATE:20260316
DTSTAMP:20260419T235839
CREATED:20251017T080202Z
LAST-MODIFIED:20251017T080202Z
UID:10001371-1773532800-1773619199@jubel.se
SUMMARY:Lina Hedlund
DESCRIPTION:
URL:https://jubel.se/biljetter/lina-hedlund-14
LOCATION:Sara Kulturhus\, Skellefteå
CATEGORIES:Föreställning
END:VEVENT
BEGIN:VEVENT
DTSTART;VALUE=DATE:20260314
DTEND;VALUE=DATE:20260315
DTSTAMP:20260419T235839
CREATED:20251219T090013Z
LAST-MODIFIED:20251219T083143Z
UID:10001464-1773446400-1773532799@jubel.se
SUMMARY:Maxida Märak
DESCRIPTION:
URL:https://jubel.se/biljetter/maxida-marak-48
LOCATION:Aurora Kultur & Kongress\, Kiruna
CATEGORIES:Konsert
END:VEVENT
BEGIN:VEVENT
DTSTART;VALUE=DATE:20260314
DTEND;VALUE=DATE:20260315
DTSTAMP:20260419T235839
CREATED:20251121T091516Z
LAST-MODIFIED:20251121T091516Z
UID:10001403-1773446400-1773532799@jubel.se
SUMMARY:Tomas Andersson Wij
DESCRIPTION:
URL:https://jubel.se/biljetter/tomas-andersson-wij-132
LOCATION:Tingvallskyrkan\, Karlstad
CATEGORIES:Konsert
END:VEVENT
BEGIN:VEVENT
DTSTART;VALUE=DATE:20260313
DTEND;VALUE=DATE:20260314
DTSTAMP:20260419T235839
CREATED:20260224T105034Z
LAST-MODIFIED:20260224T105034Z
UID:10001553-1773360000-1773446399@jubel.se
SUMMARY:Elliot
DESCRIPTION:
URL:https://jubel.se/biljetter/elliot
LOCATION:Scalateatern (Källaren)\, Stockholm
CATEGORIES:Konsert
END:VEVENT
BEGIN:VEVENT
DTSTART;VALUE=DATE:20260313
DTEND;VALUE=DATE:20260314
DTSTAMP:20260419T235839
CREATED:20260123T122258Z
LAST-MODIFIED:20260123T122332Z
UID:10001502-1773360000-1773446399@jubel.se
SUMMARY:Körklubben
DESCRIPTION:
URL:https://jubel.se/biljetter/korklubben-2
LOCATION:Kägelbanan\, Södra Teatern
END:VEVENT
BEGIN:VEVENT
DTSTART;VALUE=DATE:20260313
DTEND;VALUE=DATE:20260314
DTSTAMP:20260419T235839
CREATED:20250509T075955Z
LAST-MODIFIED:20251017T075615Z
UID:10001131-1773360000-1773446399@jubel.se
SUMMARY:Lina Hedlund
DESCRIPTION:
URL:https://jubel.se/biljetter/lina-hedlund-7
LOCATION:Linköping Konsert & Kongress\, Linköping
CATEGORIES:Föreställning
END:VEVENT
BEGIN:VEVENT
DTSTART;VALUE=DATE:20260313
DTEND;VALUE=DATE:20260314
DTSTAMP:20260419T235839
CREATED:20251219T090056Z
LAST-MODIFIED:20251219T083009Z
UID:10001463-1773360000-1773446399@jubel.se
SUMMARY:Maxida Märak
DESCRIPTION:
URL:https://jubel.se/biljetter/maxida-marak-47
LOCATION:Kulturens Hus\, Luleå
CATEGORIES:Konsert
END:VEVENT
BEGIN:VEVENT
DTSTART;VALUE=DATE:20260309
DTEND;VALUE=DATE:20260310
DTSTAMP:20260419T235839
CREATED:20260114T143237Z
LAST-MODIFIED:20260114T143318Z
UID:10001487-1773014400-1773100799@jubel.se
SUMMARY:Silvana Imam
DESCRIPTION:
URL:https://jubel.se/biljetter/silvana-imam-23
LOCATION:DR Koncerthuset\, Köpenhamn
CATEGORIES:Konsert
END:VEVENT
END:VCALENDAR