BEGIN:VCALENDAR
VERSION:2.0
PRODID:-//Jubel - ECPv6.15.20//NONSGML v1.0//EN
CALSCALE:GREGORIAN
METHOD:PUBLISH
X-ORIGINAL-URL:https://jubel.se
X-WR-CALDESC:Händelser för Jubel
REFRESH-INTERVAL;VALUE=DURATION:PT1H
X-Robots-Tag:noindex
X-PUBLISHED-TTL:PT1H
BEGIN:VTIMEZONE
TZID:Europe/Stockholm
BEGIN:DAYLIGHT
TZOFFSETFROM:+0100
TZOFFSETTO:+0200
TZNAME:CEST
DTSTART:20240331T010000
END:DAYLIGHT
BEGIN:STANDARD
TZOFFSETFROM:+0200
TZOFFSETTO:+0100
TZNAME:CET
DTSTART:20241027T010000
END:STANDARD
BEGIN:DAYLIGHT
TZOFFSETFROM:+0100
TZOFFSETTO:+0200
TZNAME:CEST
DTSTART:20250330T010000
END:DAYLIGHT
BEGIN:STANDARD
TZOFFSETFROM:+0200
TZOFFSETTO:+0100
TZNAME:CET
DTSTART:20251026T010000
END:STANDARD
BEGIN:DAYLIGHT
TZOFFSETFROM:+0100
TZOFFSETTO:+0200
TZNAME:CEST
DTSTART:20260329T010000
END:DAYLIGHT
BEGIN:STANDARD
TZOFFSETFROM:+0200
TZOFFSETTO:+0100
TZNAME:CET
DTSTART:20261025T010000
END:STANDARD
END:VTIMEZONE
BEGIN:VEVENT
DTSTART;VALUE=DATE:20250723
DTEND;VALUE=DATE:20250724
DTSTAMP:20260420T135000
CREATED:20250311T090838Z
LAST-MODIFIED:20250311T091148Z
UID:10001039-1753228800-1753315199@jubel.se
SUMMARY:Dina Ögon
DESCRIPTION:
URL:https://jubel.se/biljetter/dina-ogon-2
LOCATION:Åresjön\, Åre
CATEGORIES:Konsert
END:VEVENT
BEGIN:VEVENT
DTSTART;VALUE=DATE:20250723
DTEND;VALUE=DATE:20250724
DTSTAMP:20260420T135000
CREATED:20241219T090001Z
LAST-MODIFIED:20241219T091650Z
UID:10000939-1753228800-1753315199@jubel.se
SUMMARY:Atomic Swing x Popsicle
DESCRIPTION:
URL:https://jubel.se/biljetter/atomic-swing-12
LOCATION:Bjerreds station\, Bjärred
CATEGORIES:Konsert
END:VEVENT
BEGIN:VEVENT
DTSTART;VALUE=DATE:20250722
DTEND;VALUE=DATE:20250723
DTSTAMP:20260420T135000
CREATED:20250404T103806Z
LAST-MODIFIED:20250414T085323Z
UID:10001066-1753142400-1753228799@jubel.se
SUMMARY:Per Persson & Nya Packet
DESCRIPTION:
URL:https://jubel.se/biljetter/per-persson-nya-packet-49
LOCATION:Ön\, Hedesunda
CATEGORIES:Konsert
END:VEVENT
BEGIN:VEVENT
DTSTART;VALUE=DATE:20250722
DTEND;VALUE=DATE:20250723
DTSTAMP:20260420T135000
CREATED:20250311T090050Z
LAST-MODIFIED:20250311T090645Z
UID:10001028-1753142400-1753228799@jubel.se
SUMMARY:Atomic Swing
DESCRIPTION:
URL:https://jubel.se/biljetter/atomic-swing-22
LOCATION:Tyrolen\, Alvesta
CATEGORIES:Konsert
END:VEVENT
BEGIN:VEVENT
DTSTART;VALUE=DATE:20250722
DTEND;VALUE=DATE:20250723
DTSTAMP:20260420T135000
CREATED:20250311T090026Z
LAST-MODIFIED:20250311T091036Z
UID:10001027-1753142400-1753228799@jubel.se
SUMMARY:Popsicle
DESCRIPTION:
URL:https://jubel.se/biljetter/popsicle-5
LOCATION:Tyrolen\, Alvesta
CATEGORIES:Konsert
END:VEVENT
BEGIN:VEVENT
DTSTART;VALUE=DATE:20250722
DTEND;VALUE=DATE:20250723
DTSTAMP:20260420T135000
CREATED:20250304T110635Z
LAST-MODIFIED:20250304T110635Z
UID:10001017-1753142400-1753228799@jubel.se
SUMMARY:Dina Ögon
DESCRIPTION:
URL:https://jubel.se/biljetter/dina-ogon
LOCATION:Ystegårn\, Forsa
CATEGORIES:Konsert
END:VEVENT
BEGIN:VEVENT
DTSTART;VALUE=DATE:20250721
DTEND;VALUE=DATE:20250722
DTSTAMP:20260420T135000
CREATED:20250125T180124Z
LAST-MODIFIED:20250125T180221Z
UID:10000967-1753056000-1753142399@jubel.se
SUMMARY:Popsicle
DESCRIPTION:
URL:https://jubel.se/biljetter/popsicle-2
LOCATION:Kackelstugan\, Borgholm
CATEGORIES:Konsert
END:VEVENT
BEGIN:VEVENT
DTSTART;VALUE=DATE:20250721
DTEND;VALUE=DATE:20250722
DTSTAMP:20260420T135000
CREATED:20250125T175907Z
LAST-MODIFIED:20250125T180302Z
UID:10000966-1753056000-1753142399@jubel.se
SUMMARY:Atomic Swing
DESCRIPTION:
URL:https://jubel.se/biljetter/atomic-swing-13
LOCATION:Kackelstugan\, Borgholm
CATEGORIES:Konsert
END:VEVENT
BEGIN:VEVENT
DTSTART;VALUE=DATE:20250721
DTEND;VALUE=DATE:20250722
DTSTAMP:20260420T135000
CREATED:20241129T084930Z
LAST-MODIFIED:20250328T093401Z
UID:10000887-1753056000-1753142399@jubel.se
SUMMARY:Viktor Norén
DESCRIPTION:
URL:https://jubel.se/biljetter/gustaf-viktor-noren-51
LOCATION:Grå Gåsen\, Burgsvik
CATEGORIES:Konsert
END:VEVENT
BEGIN:VEVENT
DTSTART;VALUE=DATE:20250720
DTEND;VALUE=DATE:20250721
DTSTAMP:20260420T135000
CREATED:20250415T073634Z
LAST-MODIFIED:20250415T074359Z
UID:10001083-1752969600-1753055999@jubel.se
SUMMARY:Daniel Adams-Ray
DESCRIPTION:
URL:https://jubel.se/biljetter/daniel-adams-ray-30
LOCATION:Fallens Dagar\, Trollhättan
CATEGORIES:Festival
END:VEVENT
BEGIN:VEVENT
DTSTART;VALUE=DATE:20250720
DTEND;VALUE=DATE:20250721
DTSTAMP:20260420T135000
CREATED:20241217T121020Z
LAST-MODIFIED:20250328T090958Z
UID:10000923-1752969600-1753055999@jubel.se
SUMMARY:Viktor Norén
DESCRIPTION:
URL:https://jubel.se/biljetter/gustaf-viktor-noren-55
LOCATION:Vida Art\, Öland
CATEGORIES:Konsert
END:VEVENT
BEGIN:VEVENT
DTSTART;VALUE=DATE:20250719
DTEND;VALUE=DATE:20250720
DTSTAMP:20260420T135000
CREATED:20250522T122859Z
LAST-MODIFIED:20250601T141948Z
UID:10001179-1752883200-1752969599@jubel.se
SUMMARY:Silvana Imam
DESCRIPTION:
URL:https://jubel.se/biljetter/silvana-imam-17
LOCATION:Trästockfestivalen\, Skellefteå
CATEGORIES:Festival
END:VEVENT
BEGIN:VEVENT
DTSTART;VALUE=DATE:20250719
DTEND;VALUE=DATE:20250720
DTSTAMP:20260420T135000
CREATED:20250522T081533Z
LAST-MODIFIED:20250522T081533Z
UID:10001176-1752883200-1752969599@jubel.se
SUMMARY:Sofia Karlsson
DESCRIPTION:
URL:https://jubel.se/biljetter/sofia-karlsson-98
LOCATION:Bolagsgården\, Järvsö
CATEGORIES:Konsert
END:VEVENT
BEGIN:VEVENT
DTSTART;VALUE=DATE:20250719
DTEND;VALUE=DATE:20250720
DTSTAMP:20260420T135000
CREATED:20250520T145012Z
LAST-MODIFIED:20250520T145012Z
UID:10001161-1752883200-1752969599@jubel.se
SUMMARY:Engmans Kapell
DESCRIPTION:
URL:https://jubel.se/biljetter/engmans-kapell-39
LOCATION:Farmhouse\, Delsbo
CATEGORIES:Konsert
END:VEVENT
BEGIN:VEVENT
DTSTART;VALUE=DATE:20250719
DTEND;VALUE=DATE:20250720
DTSTAMP:20260420T135000
CREATED:20241217T120823Z
LAST-MODIFIED:20250328T090930Z
UID:10000922-1752883200-1752969599@jubel.se
SUMMARY:Viktor Norén
DESCRIPTION:
URL:https://jubel.se/biljetter/gustaf-viktor-noren-54
LOCATION:Tjolöholms slott\, Kungsbacka
CATEGORIES:Konsert
END:VEVENT
BEGIN:VEVENT
DTSTART;VALUE=DATE:20250719
DTEND;VALUE=DATE:20250720
DTSTAMP:20260420T135000
CREATED:20241213T090037Z
LAST-MODIFIED:20250414T084953Z
UID:10000897-1752883200-1752969599@jubel.se
SUMMARY:Jakob Hellman och Per Persson & Nya Packet
DESCRIPTION:
URL:https://jubel.se/biljetter/jakob-hellman-och-per-persson-nya-packet-2
LOCATION:Musikkväll på Kalfjäll\, Tänndalen
CATEGORIES:Konsert
END:VEVENT
BEGIN:VEVENT
DTSTART;VALUE=DATE:20250719
DTEND;VALUE=DATE:20250720
DTSTAMP:20260420T135000
CREATED:20250612T083607Z
LAST-MODIFIED:20250612T090047Z
UID:10001235-1752883200-1752969599@jubel.se
SUMMARY:Mimikry
DESCRIPTION:
URL:https://jubel.se/biljetter/mimikry-26
LOCATION:Saluhallen\, Drottninggatan 9\, Motala
CATEGORIES:Konsert
END:VEVENT
BEGIN:VEVENT
DTSTART;VALUE=DATE:20250719
DTEND;VALUE=DATE:20250720
DTSTAMP:20260420T135000
CREATED:20250602T131354Z
LAST-MODIFIED:20250711T145946Z
UID:10001211-1752883200-1752969599@jubel.se
SUMMARY:John Lindberg Trio
DESCRIPTION:
URL:https://jubel.se/biljetter/john-lindberg-trio-62
LOCATION:Stock Rock Östmarksfestivalen\, Bastvålsvägen 9\, Östmark\, 685 97
CATEGORIES:Festival
END:VEVENT
BEGIN:VEVENT
DTSTART;VALUE=DATE:20250718
DTEND;VALUE=DATE:20250719
DTSTAMP:20260420T135000
CREATED:20250522T081436Z
LAST-MODIFIED:20250522T081436Z
UID:10001175-1752796800-1752883199@jubel.se
SUMMARY:Sofia Karlsson
DESCRIPTION:
URL:https://jubel.se/biljetter/sofia-karlsson-97
LOCATION:Tovastugan\, Nyköping
CATEGORIES:Konsert
END:VEVENT
BEGIN:VEVENT
DTSTART;VALUE=DATE:20250718
DTEND;VALUE=DATE:20250719
DTSTAMP:20260420T135000
CREATED:20250520T093903Z
LAST-MODIFIED:20250520T093903Z
UID:10001153-1752796800-1752883199@jubel.se
SUMMARY:Annika Wickihalder
DESCRIPTION:
URL:https://jubel.se/biljetter/annika-wickihalder-17
LOCATION:Stenegård\, Järvsö
CATEGORIES:Konsert
END:VEVENT
BEGIN:VEVENT
DTSTART;VALUE=DATE:20250718
DTEND;VALUE=DATE:20250719
DTSTAMP:20260420T135000
CREATED:20250404T071343Z
LAST-MODIFIED:20250404T071343Z
UID:10001065-1752796800-1752883199@jubel.se
SUMMARY:Silvana Imam
DESCRIPTION:
URL:https://jubel.se/biljetter/silvana-imam-15
LOCATION:Teaterparken\, Landskrona
CATEGORIES:Konsert
END:VEVENT
BEGIN:VEVENT
DTSTART;VALUE=DATE:20250718
DTEND;VALUE=DATE:20250719
DTSTAMP:20260420T135000
CREATED:20250402T080016Z
LAST-MODIFIED:20250402T084141Z
UID:10001057-1752796800-1752883199@jubel.se
SUMMARY:Livets Lirare
DESCRIPTION:
URL:https://jubel.se/biljetter/livets-lirare-4
LOCATION:Tyrolen\, Alvesta
CATEGORIES:Konsert
END:VEVENT
BEGIN:VEVENT
DTSTART;VALUE=DATE:20250718
DTEND;VALUE=DATE:20250719
DTSTAMP:20260420T135000
CREATED:20241217T120654Z
LAST-MODIFIED:20250328T090812Z
UID:10000921-1752796800-1752883199@jubel.se
SUMMARY:Viktor Norén
DESCRIPTION:
URL:https://jubel.se/biljetter/gustaf-viktor-noren-53
LOCATION:Stenegård\, Järvsö
CATEGORIES:Konsert
END:VEVENT
BEGIN:VEVENT
DTSTART;VALUE=DATE:20250718
DTEND;VALUE=DATE:20250719
DTSTAMP:20260420T135000
CREATED:20250602T104733Z
LAST-MODIFIED:20250711T150646Z
UID:10001205-1752796800-1752883199@jubel.se
SUMMARY:John Lindberg Trio
DESCRIPTION:
URL:https://jubel.se/biljetter/john-lindberg-trio-53
LOCATION:Drottningskärs Kastell\, Karlskrona
END:VEVENT
BEGIN:VEVENT
DTSTART;VALUE=DATE:20250717
DTEND;VALUE=DATE:20250718
DTSTAMP:20260420T135000
CREATED:20250522T081334Z
LAST-MODIFIED:20250522T081334Z
UID:10001174-1752710400-1752796799@jubel.se
SUMMARY:Sofia Karlsson
DESCRIPTION:
URL:https://jubel.se/biljetter/sofia-karlsson-96
LOCATION:Mårbacka\, Östra Ämtervik
CATEGORIES:Konsert
END:VEVENT
BEGIN:VEVENT
DTSTART;VALUE=DATE:20250717
DTEND;VALUE=DATE:20250718
DTSTAMP:20260420T135000
CREATED:20250520T144903Z
LAST-MODIFIED:20250520T144903Z
UID:10001160-1752710400-1752796799@jubel.se
SUMMARY:Engmans Kapell
DESCRIPTION:
URL:https://jubel.se/biljetter/engmans-kapell-38
LOCATION:Blidösund Live\, Stockholm
CATEGORIES:Konsert
END:VEVENT
BEGIN:VEVENT
DTSTART;VALUE=DATE:20250717
DTEND;VALUE=DATE:20250718
DTSTAMP:20260420T135000
CREATED:20250402T080017Z
LAST-MODIFIED:20250402T083436Z
UID:10001056-1752710400-1752796799@jubel.se
SUMMARY:Livets Lirare
DESCRIPTION:
URL:https://jubel.se/biljetter/livets-lirare-3
LOCATION:Skansen Kronan\, Göteborg
CATEGORIES:Konsert
END:VEVENT
BEGIN:VEVENT
DTSTART;VALUE=DATE:20250717
DTEND;VALUE=DATE:20250718
DTSTAMP:20260420T135000
CREATED:20241218T092136Z
LAST-MODIFIED:20250414T084918Z
UID:10000925-1752710400-1752796799@jubel.se
SUMMARY:Jakob Hellman och Per Persson & Nya Packet
DESCRIPTION:
URL:https://jubel.se/biljetter/jakob-hellman-och-per-persson-nya-packet-5
LOCATION:Stora Gåsemora\, Fårö
CATEGORIES:Konsert
END:VEVENT
BEGIN:VEVENT
DTSTART;VALUE=DATE:20250717
DTEND;VALUE=DATE:20250718
DTSTAMP:20260420T135000
CREATED:20241217T120205Z
LAST-MODIFIED:20250328T090856Z
UID:10000920-1752710400-1752796799@jubel.se
SUMMARY:Viktor Norén
DESCRIPTION:
URL:https://jubel.se/biljetter/gustaf-viktor-noren-52
LOCATION:Gropen\, Leksand
CATEGORIES:Konsert
END:VEVENT
BEGIN:VEVENT
DTSTART;VALUE=DATE:20250716
DTEND;VALUE=DATE:20250717
DTSTAMP:20260420T135000
CREATED:20250716T090212Z
LAST-MODIFIED:20250716T091523Z
UID:10001263-1752624000-1752710399@jubel.se
SUMMARY:Sofia Karlsson
DESCRIPTION:
URL:https://jubel.se/biljetter/sofia-karlsson-88
LOCATION:Artipelag\, Gustavsberg
END:VEVENT
END:VCALENDAR