BEGIN:VCALENDAR
VERSION:2.0
PRODID:-//Jubel - ECPv6.15.20//NONSGML v1.0//EN
CALSCALE:GREGORIAN
METHOD:PUBLISH
X-ORIGINAL-URL:https://jubel.se
X-WR-CALDESC:Händelser för Jubel
REFRESH-INTERVAL;VALUE=DURATION:PT1H
X-Robots-Tag:noindex
X-PUBLISHED-TTL:PT1H
BEGIN:VTIMEZONE
TZID:Europe/Stockholm
BEGIN:DAYLIGHT
TZOFFSETFROM:+0100
TZOFFSETTO:+0200
TZNAME:CEST
DTSTART:20230326T010000
END:DAYLIGHT
BEGIN:STANDARD
TZOFFSETFROM:+0200
TZOFFSETTO:+0100
TZNAME:CET
DTSTART:20231029T010000
END:STANDARD
BEGIN:DAYLIGHT
TZOFFSETFROM:+0100
TZOFFSETTO:+0200
TZNAME:CEST
DTSTART:20240331T010000
END:DAYLIGHT
BEGIN:STANDARD
TZOFFSETFROM:+0200
TZOFFSETTO:+0100
TZNAME:CET
DTSTART:20241027T010000
END:STANDARD
BEGIN:DAYLIGHT
TZOFFSETFROM:+0100
TZOFFSETTO:+0200
TZNAME:CEST
DTSTART:20250330T010000
END:DAYLIGHT
BEGIN:STANDARD
TZOFFSETFROM:+0200
TZOFFSETTO:+0100
TZNAME:CET
DTSTART:20251026T010000
END:STANDARD
END:VTIMEZONE
BEGIN:VEVENT
DTSTART;VALUE=DATE:20241214
DTEND;VALUE=DATE:20241215
DTSTAMP:20260420T210252
CREATED:20240826T080421Z
LAST-MODIFIED:20241118T091515Z
UID:10000793-1734134400-1734220799@jubel.se
SUMMARY:Robert Gustafsson
DESCRIPTION:
URL:https://jubel.se/biljetter/robert-gustafsson-20
LOCATION:Ystads teater\, Ystad
CATEGORIES:Föreställning
END:VEVENT
BEGIN:VEVENT
DTSTART;VALUE=DATE:20241214
DTEND;VALUE=DATE:20241215
DTSTAMP:20260420T210252
CREATED:20240404T090809Z
LAST-MODIFIED:20240404T092001Z
UID:10000579-1734134400-1734220799@jubel.se
SUMMARY:Gustaf & Viktor Norén
DESCRIPTION:
URL:https://jubel.se/biljetter/gustaf-viktor-noren-23
LOCATION:Frihamnskyrkan\, Göteborg
CATEGORIES:Konsert
END:VEVENT
BEGIN:VEVENT
DTSTART;VALUE=DATE:20241213
DTEND;VALUE=DATE:20241214
DTSTAMP:20260420T210252
CREATED:20241015T085128Z
LAST-MODIFIED:20241015T085128Z
UID:10000860-1734048000-1734134399@jubel.se
SUMMARY:John Lindberg Trio
DESCRIPTION:
URL:https://jubel.se/biljetter/john-lindberg-trio-32
LOCATION:Aveny\, Sundsvall\, Esplanaden 29\, Sundsvall\, 852 26
END:VEVENT
BEGIN:VEVENT
DTSTART;VALUE=DATE:20241213
DTEND;VALUE=DATE:20241214
DTSTAMP:20260420T210252
CREATED:20241011T080037Z
LAST-MODIFIED:20241011T075643Z
UID:10000848-1734048000-1734134399@jubel.se
SUMMARY:Engmans Kapell
DESCRIPTION:
URL:https://jubel.se/biljetter/engmans-kapell-27
LOCATION:Rigoletto\, Stockholm
CATEGORIES:Konsert
END:VEVENT
BEGIN:VEVENT
DTSTART;VALUE=DATE:20241213
DTEND;VALUE=DATE:20241214
DTSTAMP:20260420T210252
CREATED:20240920T080339Z
LAST-MODIFIED:20240925T075409Z
UID:10000827-1734048000-1734134399@jubel.se
SUMMARY:Gustaf & Viktor Norén
DESCRIPTION:
URL:https://jubel.se/biljetter/gustaf-viktor-noren-42
LOCATION:Aktivitetsfabriken\, Hudiksvall
CATEGORIES:Konsert
END:VEVENT
BEGIN:VEVENT
DTSTART;VALUE=DATE:20241213
DTEND;VALUE=DATE:20241214
DTSTAMP:20260420T210252
CREATED:20240827T141943Z
LAST-MODIFIED:20240827T141943Z
UID:10000799-1734048000-1734134399@jubel.se
SUMMARY:Sofia Karlsson
DESCRIPTION:
URL:https://jubel.se/biljetter/sofia-karlsson-73
LOCATION:Stora Teatern\, Göteborg
CATEGORIES:Konsert
END:VEVENT
BEGIN:VEVENT
DTSTART;VALUE=DATE:20241212
DTEND;VALUE=DATE:20241213
DTSTAMP:20260420T210252
CREATED:20240826T080255Z
LAST-MODIFIED:20240828T082411Z
UID:10000792-1733961600-1734047999@jubel.se
SUMMARY:Robert Gustafsson
DESCRIPTION:
URL:https://jubel.se/biljetter/robert-gustafsson-19
LOCATION:De Geerhallen\, Norrköping
CATEGORIES:Föreställning
END:VEVENT
BEGIN:VEVENT
DTSTART;VALUE=DATE:20241210
DTEND;VALUE=DATE:20241211
DTSTAMP:20260420T210252
CREATED:20241125T122801Z
LAST-MODIFIED:20241125T122801Z
UID:10000883-1733788800-1733875199@jubel.se
SUMMARY:Förevigt nu | Ainbusk\, En hyllning
DESCRIPTION:
URL:https://jubel.se/biljetter/forevigt-nu-ainbusk-en-hyllning
LOCATION:Cirkus\, Stockholm
CATEGORIES:Konsert
END:VEVENT
BEGIN:VEVENT
DTSTART;VALUE=DATE:20241210
DTEND;VALUE=DATE:20241211
DTSTAMP:20260420T210252
CREATED:20240920T080339Z
LAST-MODIFIED:20240925T075433Z
UID:10000826-1733788800-1733875199@jubel.se
SUMMARY:Gustaf & Viktor Norén
DESCRIPTION:
URL:https://jubel.se/biljetter/gustaf-viktor-noren-41
LOCATION:Clarion Sea U\, Helsingborg
CATEGORIES:Konsert
END:VEVENT
BEGIN:VEVENT
DTSTART;VALUE=DATE:20241209
DTEND;VALUE=DATE:20241210
DTSTAMP:20260420T210252
CREATED:20240920T080339Z
LAST-MODIFIED:20240925T075959Z
UID:10000825-1733702400-1733788799@jubel.se
SUMMARY:Gustaf & Viktor Norén
DESCRIPTION:
URL:https://jubel.se/biljetter/gustaf-viktor-noren-40
LOCATION:Frihamnskyrkan\, Göteborg
CATEGORIES:Konsert
END:VEVENT
BEGIN:VEVENT
DTSTART;VALUE=DATE:20241208
DTEND;VALUE=DATE:20241209
DTSTAMP:20260420T210252
CREATED:20241121T145330Z
LAST-MODIFIED:20241121T145330Z
UID:10000881-1733616000-1733702399@jubel.se
SUMMARY:Engmans Kapell
DESCRIPTION:
URL:https://jubel.se/biljetter/engmans-kapell-31
LOCATION:Kilafors biografteater\, Kilafors
END:VEVENT
BEGIN:VEVENT
DTSTART;VALUE=DATE:20241208
DTEND;VALUE=DATE:20241209
DTSTAMP:20260420T210252
CREATED:20241011T080021Z
LAST-MODIFIED:20241010T161658Z
UID:10000847-1733616000-1733702399@jubel.se
SUMMARY:Engmans Kapell
DESCRIPTION:
URL:https://jubel.se/biljetter/engmans-kapell-26
LOCATION:Kilafors biografteater\, Kilafors
CATEGORIES:Konsert
END:VEVENT
BEGIN:VEVENT
DTSTART;VALUE=DATE:20241208
DTEND;VALUE=DATE:20241209
DTSTAMP:20260420T210252
CREATED:20240920T080337Z
LAST-MODIFIED:20240925T075536Z
UID:10000823-1733616000-1733702399@jubel.se
SUMMARY:Gustaf & Viktor Norén
DESCRIPTION:
URL:https://jubel.se/biljetter/gustaf-viktor-noren-38
LOCATION:Jönköping Konsert & Kongress\, Jönköping
CATEGORIES:Konsert
END:VEVENT
BEGIN:VEVENT
DTSTART;VALUE=DATE:20241208
DTEND;VALUE=DATE:20241209
DTSTAMP:20260420T210252
CREATED:20240830T091809Z
LAST-MODIFIED:20240830T092249Z
UID:10000809-1733616000-1733702399@jubel.se
SUMMARY:Per Persson & Nya Packet
DESCRIPTION:
URL:https://jubel.se/biljetter/per-persson-nya-packet-45
LOCATION:Babel\, Malmö
CATEGORIES:Konsert
END:VEVENT
BEGIN:VEVENT
DTSTART;VALUE=DATE:20241208
DTEND;VALUE=DATE:20241209
DTSTAMP:20260420T210252
CREATED:20240826T085330Z
LAST-MODIFIED:20240826T085330Z
UID:10000796-1733616000-1733702399@jubel.se
SUMMARY:Carola
DESCRIPTION:
URL:https://jubel.se/biljetter/carola-75
LOCATION:Sollidenscenen\, Skansen
CATEGORIES:Konsert
END:VEVENT
BEGIN:VEVENT
DTSTART;VALUE=DATE:20241208
DTEND;VALUE=DATE:20241209
DTSTAMP:20260420T210252
CREATED:20240404T090632Z
LAST-MODIFIED:20240404T091903Z
UID:10000578-1733616000-1733702399@jubel.se
SUMMARY:Gustaf & Viktor Norén
DESCRIPTION:
URL:https://jubel.se/biljetter/gustaf-viktor-noren-22
LOCATION:Jönköping Konsert & Kongress\, Jönköping
CATEGORIES:Konsert
END:VEVENT
BEGIN:VEVENT
DTSTART;VALUE=DATE:20241207
DTEND;VALUE=DATE:20241208
DTSTAMP:20260420T210252
CREATED:20241121T145152Z
LAST-MODIFIED:20241121T145229Z
UID:10000880-1733529600-1733615999@jubel.se
SUMMARY:Engmans Kapell
DESCRIPTION:
URL:https://jubel.se/biljetter/engmans-kapell-30
LOCATION:Hudiksvalls teater\, Hudiksvall
END:VEVENT
BEGIN:VEVENT
DTSTART;VALUE=DATE:20241207
DTEND;VALUE=DATE:20241208
DTSTAMP:20260420T210252
CREATED:20241015T084813Z
LAST-MODIFIED:20241205T134207Z
UID:10000859-1733529600-1733615999@jubel.se
SUMMARY:John Lindberg Trio
DESCRIPTION:
URL:https://jubel.se/biljetter/john-lindberg-trio-31
LOCATION:Moraparken\, Mora\, Parkvägen 1\, Mora\, 792 37\, Sweden
CATEGORIES:Konsert
END:VEVENT
BEGIN:VEVENT
DTSTART;VALUE=DATE:20241207
DTEND;VALUE=DATE:20241208
DTSTAMP:20260420T210252
CREATED:20241011T080049Z
LAST-MODIFIED:20241014T151820Z
UID:10000846-1733529600-1733615999@jubel.se
SUMMARY:Engmans Kapell
DESCRIPTION:
URL:https://jubel.se/biljetter/engmans-kapell-25
LOCATION:Hudiksvalls teater\, Hudiksvall
CATEGORIES:Konsert
END:VEVENT
BEGIN:VEVENT
DTSTART;VALUE=DATE:20241207
DTEND;VALUE=DATE:20241208
DTSTAMP:20260420T210252
CREATED:20240830T091735Z
LAST-MODIFIED:20240902T074236Z
UID:10000808-1733529600-1733615999@jubel.se
SUMMARY:Per Persson & Nya Packet
DESCRIPTION:
URL:https://jubel.se/biljetter/per-persson-nya-packet-44
LOCATION:Arbis\, Norrköping
CATEGORIES:Konsert
END:VEVENT
BEGIN:VEVENT
DTSTART;VALUE=DATE:20241207
DTEND;VALUE=DATE:20241208
DTSTAMP:20260420T210252
CREATED:20240823T073540Z
LAST-MODIFIED:20241108T131431Z
UID:10000785-1733529600-1733615999@jubel.se
SUMMARY:Gustaf & Viktor Norén
DESCRIPTION:
URL:https://jubel.se/biljetter/gustaf-viktor-noren-31
LOCATION:Hatstore Arena\, Kalmar
CATEGORIES:Konsert
END:VEVENT
BEGIN:VEVENT
DTSTART;TZID=Europe/Stockholm:20241206T153000
DTEND;TZID=Europe/Stockholm:20241206T170000
DTSTAMP:20260420T210252
CREATED:20240823T072630Z
LAST-MODIFIED:20240823T072831Z
UID:10000784-1733499000-1733504400@jubel.se
SUMMARY:Gustaf & Viktor Norén
DESCRIPTION:Matiné
URL:https://jubel.se/biljetter/gustaf-viktor-noren-30
LOCATION:Sara Kulturhus\, Skellefteå
CATEGORIES:Konsert
END:VEVENT
BEGIN:VEVENT
DTSTART;VALUE=DATE:20241206
DTEND;VALUE=DATE:20241207
DTSTAMP:20260420T210252
CREATED:20241015T084732Z
LAST-MODIFIED:20241205T134134Z
UID:10000858-1733443200-1733529599@jubel.se
SUMMARY:John Lindberg Trio
DESCRIPTION:
URL:https://jubel.se/biljetter/john-lindberg-trio-30
LOCATION:Moraparken\, Mora\, Parkvägen 1\, Mora\, 792 37\, Sweden
END:VEVENT
BEGIN:VEVENT
DTSTART;VALUE=DATE:20241206
DTEND;VALUE=DATE:20241207
DTSTAMP:20260420T210252
CREATED:20241011T080040Z
LAST-MODIFIED:20241010T161512Z
UID:10000845-1733443200-1733529599@jubel.se
SUMMARY:Engmans Kapell
DESCRIPTION:
URL:https://jubel.se/biljetter/engmans-kapell-24
LOCATION:Söderhamns teater\, Söderhamn
CATEGORIES:Konsert
END:VEVENT
BEGIN:VEVENT
DTSTART;VALUE=DATE:20241206
DTEND;VALUE=DATE:20241207
DTSTAMP:20260420T210252
CREATED:20240826T085239Z
LAST-MODIFIED:20240826T085607Z
UID:10000795-1733443200-1733529599@jubel.se
SUMMARY:Carola
DESCRIPTION:
URL:https://jubel.se/biljetter/carola-74
LOCATION:Sollidenscenen\, Skansen
CATEGORIES:Konsert
END:VEVENT
BEGIN:VEVENT
DTSTART;VALUE=DATE:20241206
DTEND;VALUE=DATE:20241207
DTSTAMP:20260420T210252
CREATED:20240404T090225Z
LAST-MODIFIED:20240408T075651Z
UID:10000577-1733443200-1733529599@jubel.se
SUMMARY:Gustaf & Viktor Norén
DESCRIPTION:
URL:https://jubel.se/biljetter/gustaf-viktor-noren-21
LOCATION:Sara Kulturhus\, Skellefteå
CATEGORIES:Konsert
END:VEVENT
BEGIN:VEVENT
DTSTART;VALUE=DATE:20241206
DTEND;VALUE=DATE:20241207
DTSTAMP:20260420T210252
CREATED:20240830T091644Z
LAST-MODIFIED:20240830T092428Z
UID:10000807-1733443200-1733529599@jubel.se
SUMMARY:Per Persson & Nya Packet
DESCRIPTION:
URL:https://jubel.se/biljetter/per-persson-nya-packet-43
LOCATION:Nefertiti\, Göteborg
CATEGORIES:Konsert
END:VEVENT
BEGIN:VEVENT
DTSTART;VALUE=DATE:20241205
DTEND;VALUE=DATE:20241206
DTSTAMP:20260420T210252
CREATED:20241112T105613Z
LAST-MODIFIED:20241112T122921Z
UID:10000879-1733356800-1733443199@jubel.se
SUMMARY:Robert Gustafsson
DESCRIPTION:
URL:https://jubel.se/biljetter/robert-gustafsson-21
LOCATION:Stora Teatern\, Göteborg
CATEGORIES:Föreställning
END:VEVENT
BEGIN:VEVENT
DTSTART;VALUE=DATE:20241205
DTEND;VALUE=DATE:20241206
DTSTAMP:20260420T210252
CREATED:20241001T090225Z
LAST-MODIFIED:20241001T090225Z
UID:10000835-1733356800-1733443199@jubel.se
SUMMARY:Moa Lignell
DESCRIPTION:
URL:https://jubel.se/biljetter/moa-lignell-6
LOCATION:Nefertiti\, Göteborg
CATEGORIES:Konsert
END:VEVENT
BEGIN:VEVENT
DTSTART;VALUE=DATE:20241205
DTEND;VALUE=DATE:20241206
DTSTAMP:20260420T210252
CREATED:20240920T080339Z
LAST-MODIFIED:20240925T075604Z
UID:10000824-1733356800-1733443199@jubel.se
SUMMARY:Gustaf & Viktor Norén
DESCRIPTION:
URL:https://jubel.se/biljetter/gustaf-viktor-noren-39
LOCATION:Idunteatern\, Folkets Hus\, Umeå
CATEGORIES:Konsert
END:VEVENT
END:VCALENDAR