BEGIN:VCALENDAR
VERSION:2.0
PRODID:-//Jubel - ECPv6.15.20//NONSGML v1.0//EN
CALSCALE:GREGORIAN
METHOD:PUBLISH
X-ORIGINAL-URL:https://jubel.se
X-WR-CALDESC:Händelser för Jubel
REFRESH-INTERVAL;VALUE=DURATION:PT1H
X-Robots-Tag:noindex
X-PUBLISHED-TTL:PT1H
BEGIN:VTIMEZONE
TZID:Europe/Stockholm
BEGIN:DAYLIGHT
TZOFFSETFROM:+0100
TZOFFSETTO:+0200
TZNAME:CEST
DTSTART:20230326T010000
END:DAYLIGHT
BEGIN:STANDARD
TZOFFSETFROM:+0200
TZOFFSETTO:+0100
TZNAME:CET
DTSTART:20231029T010000
END:STANDARD
BEGIN:DAYLIGHT
TZOFFSETFROM:+0100
TZOFFSETTO:+0200
TZNAME:CEST
DTSTART:20240331T010000
END:DAYLIGHT
BEGIN:STANDARD
TZOFFSETFROM:+0200
TZOFFSETTO:+0100
TZNAME:CET
DTSTART:20241027T010000
END:STANDARD
BEGIN:DAYLIGHT
TZOFFSETFROM:+0100
TZOFFSETTO:+0200
TZNAME:CEST
DTSTART:20250330T010000
END:DAYLIGHT
BEGIN:STANDARD
TZOFFSETFROM:+0200
TZOFFSETTO:+0100
TZNAME:CET
DTSTART:20251026T010000
END:STANDARD
END:VTIMEZONE
BEGIN:VEVENT
DTSTART;VALUE=DATE:20241102
DTEND;VALUE=DATE:20241103
DTSTAMP:20260424T230110
CREATED:20240501T081923Z
LAST-MODIFIED:20240501T081923Z
UID:10000636-1730505600-1730591999@jubel.se
SUMMARY:Tomas Andersson Wij
DESCRIPTION:
URL:https://jubel.se/biljetter/tomas-andersson-wij-80
LOCATION:Göransson Arena\, Sandviken
CATEGORIES:Konsert
END:VEVENT
BEGIN:VEVENT
DTSTART;VALUE=DATE:20241101
DTEND;VALUE=DATE:20241102
DTSTAMP:20260424T230110
CREATED:20240501T082029Z
LAST-MODIFIED:20240501T082029Z
UID:10000645-1730419200-1730505599@jubel.se
SUMMARY:Tomas Andersson Wij
DESCRIPTION:
URL:https://jubel.se/biljetter/tomas-andersson-wij-82
LOCATION:Helsingborgs Arena\, Helsingborg
CATEGORIES:Konsert
END:VEVENT
BEGIN:VEVENT
DTSTART;VALUE=DATE:20241026
DTEND;VALUE=DATE:20241027
DTSTAMP:20260424T230110
CREATED:20240905T134836Z
LAST-MODIFIED:20240905T134836Z
UID:10000813-1729900800-1729987199@jubel.se
SUMMARY:Mimikry
DESCRIPTION:
URL:https://jubel.se/biljetter/mimikry-14
LOCATION:Huskvarna Folkets Park\, Huskvarna
CATEGORIES:Konsert
END:VEVENT
BEGIN:VEVENT
DTSTART;VALUE=DATE:20241026
DTEND;VALUE=DATE:20241027
DTSTAMP:20260424T230110
CREATED:20240503T133454Z
LAST-MODIFIED:20240503T133454Z
UID:10000658-1729900800-1729987199@jubel.se
SUMMARY:Division 7
DESCRIPTION:
URL:https://jubel.se/biljetter/division-7-12
LOCATION:Kulturens Hus\, Luleå
END:VEVENT
BEGIN:VEVENT
DTSTART;VALUE=DATE:20241026
DTEND;VALUE=DATE:20241027
DTSTAMP:20260424T230110
CREATED:20240501T082109Z
LAST-MODIFIED:20240501T082109Z
UID:10000644-1729900800-1729987199@jubel.se
SUMMARY:Tomas Andersson Wij
DESCRIPTION:
URL:https://jubel.se/biljetter/tomas-andersson-wij-83
LOCATION:Malmö Arena\, Malmö
CATEGORIES:Konsert
END:VEVENT
BEGIN:VEVENT
DTSTART;VALUE=DATE:20241025
DTEND;VALUE=DATE:20241026
DTSTAMP:20260424T230110
CREATED:20241014T100023Z
LAST-MODIFIED:20241014T100023Z
UID:10000853-1729814400-1729900799@jubel.se
SUMMARY:John Lindberg Trio
DESCRIPTION:
URL:https://jubel.se/biljetter/john-lindberg-trio-26
LOCATION:Barbros Bollnäs\, Östra Stationsgatan 17\, Bollnäs\, 821 42\, Sweden
CATEGORIES:Konsert
END:VEVENT
BEGIN:VEVENT
DTSTART;VALUE=DATE:20241025
DTEND;VALUE=DATE:20241026
DTSTAMP:20260424T230110
CREATED:20240905T134756Z
LAST-MODIFIED:20240905T134756Z
UID:10000812-1729814400-1729900799@jubel.se
SUMMARY:Mimikry
DESCRIPTION:
URL:https://jubel.se/biljetter/mimikry-13
LOCATION:Arbis\, Norrköping
CATEGORIES:Konsert
END:VEVENT
BEGIN:VEVENT
DTSTART;VALUE=DATE:20241025
DTEND;VALUE=DATE:20241026
DTSTAMP:20260424T230110
CREATED:20240503T133345Z
LAST-MODIFIED:20240503T133345Z
UID:10000657-1729814400-1729900799@jubel.se
SUMMARY:Division 7
DESCRIPTION:
URL:https://jubel.se/biljetter/division-7-11
LOCATION:Väven\, Umeå
END:VEVENT
BEGIN:VEVENT
DTSTART;VALUE=DATE:20241025
DTEND;VALUE=DATE:20241026
DTSTAMP:20260424T230110
CREATED:20240501T082146Z
LAST-MODIFIED:20240501T082202Z
UID:10000643-1729814400-1729900799@jubel.se
SUMMARY:Tomas Andersson Wij
DESCRIPTION:
URL:https://jubel.se/biljetter/tomas-andersson-wij-84
LOCATION:Scandinavium\, Göteborg
CATEGORIES:Konsert
END:VEVENT
BEGIN:VEVENT
DTSTART;VALUE=DATE:20241024
DTEND;VALUE=DATE:20241025
DTSTAMP:20260424T230110
CREATED:20240503T133913Z
LAST-MODIFIED:20240503T133913Z
UID:10000660-1729728000-1729814399@jubel.se
SUMMARY:Division 7
DESCRIPTION:
URL:https://jubel.se/biljetter/division-7-14
LOCATION:Stuck on live Jazzköket\, Östersund
END:VEVENT
BEGIN:VEVENT
DTSTART;VALUE=DATE:20241020
DTEND;VALUE=DATE:20241021
DTSTAMP:20260424T230110
CREATED:20240813T150713Z
LAST-MODIFIED:20240916T142642Z
UID:10000780-1729382400-1729468799@jubel.se
SUMMARY:Sofia Karlsson
DESCRIPTION:
URL:https://jubel.se/biljetter/sofia-karlsson-70
LOCATION:Musikaliska Kvarteret / Clarasalen\, Stockholm
CATEGORIES:Konsert
END:VEVENT
BEGIN:VEVENT
DTSTART;VALUE=DATE:20241019
DTEND;VALUE=DATE:20241020
DTSTAMP:20260424T230110
CREATED:20241015T090508Z
LAST-MODIFIED:20241015T090508Z
UID:10000862-1729296000-1729382399@jubel.se
SUMMARY:Andreas-Mattsson
DESCRIPTION:
URL:https://jubel.se/biljetter/andreas-mattsson-3
LOCATION:Luleå Live
CATEGORIES:Konsert
END:VEVENT
BEGIN:VEVENT
DTSTART;VALUE=DATE:20241019
DTEND;VALUE=DATE:20241020
DTSTAMP:20260424T230110
CREATED:20241008T110609Z
LAST-MODIFIED:20241009T125022Z
UID:10000840-1729296000-1729382399@jubel.se
SUMMARY:Moa Lignell
DESCRIPTION:
URL:https://jubel.se/biljetter/moa-lignell-8
LOCATION:Luleå Live
CATEGORIES:Konsert
END:VEVENT
BEGIN:VEVENT
DTSTART;VALUE=DATE:20241019
DTEND;VALUE=DATE:20241020
DTSTAMP:20260424T230110
CREATED:20240905T134714Z
LAST-MODIFIED:20240905T134714Z
UID:10000811-1729296000-1729382399@jubel.se
SUMMARY:Mimikry
DESCRIPTION:
URL:https://jubel.se/biljetter/mimikry-12
LOCATION:Club Deströyer\, Sundsvall
CATEGORIES:Konsert
END:VEVENT
BEGIN:VEVENT
DTSTART;VALUE=DATE:20241019
DTEND;VALUE=DATE:20241020
DTSTAMP:20260424T230110
CREATED:20240516T080311Z
LAST-MODIFIED:20240516T080311Z
UID:10000702-1729296000-1729382399@jubel.se
SUMMARY:John Lindberg Trio
DESCRIPTION:
URL:https://jubel.se/biljetter/john-lindberg-trio-22
LOCATION:Katalin\, Uppsala
CATEGORIES:Konsert
END:VEVENT
BEGIN:VEVENT
DTSTART;VALUE=DATE:20241018
DTEND;VALUE=DATE:20241019
DTSTAMP:20260424T230110
CREATED:20241014T095810Z
LAST-MODIFIED:20241014T095810Z
UID:10000852-1729209600-1729295999@jubel.se
SUMMARY:John Lindberg Trio
DESCRIPTION:
URL:https://jubel.se/biljetter/john-lindberg-trio-25
LOCATION:heymakers\, Falun\, Myntgatan 43\, Falun\, 791 60
CATEGORIES:Konsert
END:VEVENT
BEGIN:VEVENT
DTSTART;VALUE=DATE:20241018
DTEND;VALUE=DATE:20241019
DTSTAMP:20260424T230110
CREATED:20240905T134615Z
LAST-MODIFIED:20240905T134615Z
UID:10000810-1729209600-1729295999@jubel.se
SUMMARY:Mimikry
DESCRIPTION:
URL:https://jubel.se/biljetter/mimikry-11
LOCATION:Nöjesfabriken\, Karlstad
END:VEVENT
BEGIN:VEVENT
DTSTART;VALUE=DATE:20241013
DTEND;VALUE=DATE:20241014
DTSTAMP:20260424T230110
CREATED:20240508T075819Z
LAST-MODIFIED:20240508T075819Z
UID:10000672-1728777600-1728863999@jubel.se
SUMMARY:Sofia Karlsson
DESCRIPTION:
URL:https://jubel.se/biljetter/sofia-karlsson-63
LOCATION:Cassels konsert- och kulturhus\, Grängesberg
END:VEVENT
BEGIN:VEVENT
DTSTART;VALUE=DATE:20241012
DTEND;VALUE=DATE:20241013
DTSTAMP:20260424T230110
CREATED:20240503T133140Z
LAST-MODIFIED:20240503T133231Z
UID:10000656-1728691200-1728777599@jubel.se
SUMMARY:Division 7
DESCRIPTION:
URL:https://jubel.se/biljetter/division-7-10
LOCATION:Plan B\, Malmö\, Sverige
END:VEVENT
BEGIN:VEVENT
DTSTART;VALUE=DATE:20241012
DTEND;VALUE=DATE:20241013
DTSTAMP:20260424T230110
CREATED:20240722T081339Z
LAST-MODIFIED:20240917T124451Z
UID:10000778-1728691200-1728777599@jubel.se
SUMMARY:Sofia Karlsson
DESCRIPTION:
URL:https://jubel.se/biljetter/sofia-karlsson-69
LOCATION:Folkan\, Lindesberg
END:VEVENT
BEGIN:VEVENT
DTSTART;VALUE=DATE:20241011
DTEND;VALUE=DATE:20241012
DTSTAMP:20260424T230110
CREATED:20240508T075652Z
LAST-MODIFIED:20240508T075652Z
UID:10000671-1728604800-1728691199@jubel.se
SUMMARY:Sofia Karlsson
DESCRIPTION:
URL:https://jubel.se/biljetter/sofia-karlsson-62
LOCATION:Stora Teatern\, Göteborg
END:VEVENT
BEGIN:VEVENT
DTSTART;VALUE=DATE:20241011
DTEND;VALUE=DATE:20241012
DTSTAMP:20260424T230110
CREATED:20240503T134300Z
LAST-MODIFIED:20240503T134300Z
UID:10000661-1728604800-1728691199@jubel.se
SUMMARY:Division 7
DESCRIPTION:
URL:https://jubel.se/biljetter/division-7-15
LOCATION:The Tivoli\, Helsingborg
END:VEVENT
BEGIN:VEVENT
DTSTART;VALUE=DATE:20241010
DTEND;VALUE=DATE:20241011
DTSTAMP:20260424T230110
CREATED:20240508T075420Z
LAST-MODIFIED:20240508T075420Z
UID:10000670-1728518400-1728604799@jubel.se
SUMMARY:Sofia Karlsson
DESCRIPTION:
URL:https://jubel.se/biljetter/sofia-karlsson-61
LOCATION:Kulturkvarteret\, Kristianstad
END:VEVENT
BEGIN:VEVENT
DTSTART;VALUE=DATE:20241010
DTEND;VALUE=DATE:20241011
DTSTAMP:20260424T230110
CREATED:20240503T133024Z
LAST-MODIFIED:20240503T133024Z
UID:10000655-1728518400-1728604799@jubel.se
SUMMARY:Division 7
DESCRIPTION:
URL:https://jubel.se/biljetter/division-7-9
LOCATION:Kafé Deluxe\, Växjö
END:VEVENT
BEGIN:VEVENT
DTSTART;VALUE=DATE:20241009
DTEND;VALUE=DATE:20241010
DTSTAMP:20260424T230110
CREATED:20240508T075256Z
LAST-MODIFIED:20240508T075511Z
UID:10000669-1728432000-1728518399@jubel.se
SUMMARY:Sofia Karlsson
DESCRIPTION:
URL:https://jubel.se/biljetter/sofia-karlsson-60
LOCATION:Dynamo\, Norrköping
END:VEVENT
BEGIN:VEVENT
DTSTART;VALUE=DATE:20241008
DTEND;VALUE=DATE:20241009
DTSTAMP:20260424T230110
CREATED:20240711T094047Z
LAST-MODIFIED:20240930T083414Z
UID:10000775-1728345600-1728431999@jubel.se
SUMMARY:Sofia Karlsson
DESCRIPTION:
URL:https://jubel.se/biljetter/sofia-karlsson-68
LOCATION:Scalateatern\, Karlstad
CATEGORIES:Konsert
END:VEVENT
BEGIN:VEVENT
DTSTART;VALUE=DATE:20241005
DTEND;VALUE=DATE:20241006
DTSTAMP:20260424T230110
CREATED:20240917T100140Z
LAST-MODIFIED:20240917T100140Z
UID:10000815-1728086400-1728172799@jubel.se
SUMMARY:Annika Wickihalder
DESCRIPTION:
URL:https://jubel.se/biljetter/annika-wickihalder-12
LOCATION:Kulturnatten i Själevad\, Örnsköldsvik
CATEGORIES:Konsert
END:VEVENT
BEGIN:VEVENT
DTSTART;VALUE=DATE:20241005
DTEND;VALUE=DATE:20241006
DTSTAMP:20260424T230110
CREATED:20240503T132857Z
LAST-MODIFIED:20240503T132857Z
UID:10000654-1728086400-1728172799@jubel.se
SUMMARY:Division 7
DESCRIPTION:
URL:https://jubel.se/biljetter/division-7-8
LOCATION:Pustervik\, Göteborg
END:VEVENT
BEGIN:VEVENT
DTSTART;VALUE=DATE:20241004
DTEND;VALUE=DATE:20241005
DTSTAMP:20260424T230110
CREATED:20240503T132729Z
LAST-MODIFIED:20240503T132729Z
UID:10000653-1728000000-1728086399@jubel.se
SUMMARY:Division 7
DESCRIPTION:
URL:https://jubel.se/biljetter/division-7-7
LOCATION:Skylten\, Linköping
END:VEVENT
BEGIN:VEVENT
DTSTART;VALUE=DATE:20240928
DTEND;VALUE=DATE:20240929
DTSTAMP:20260424T230110
CREATED:20240712T085529Z
LAST-MODIFIED:20240712T085529Z
UID:10000777-1727481600-1727567999@jubel.se
SUMMARY:Rebecca & Fiona
DESCRIPTION:
URL:https://jubel.se/biljetter/rebecca-fiona-21
LOCATION:Kägelbanan\, Stockholm
CATEGORIES:Festival
END:VEVENT
END:VCALENDAR