BEGIN:VCALENDAR
VERSION:2.0
PRODID:-//Jubel - ECPv6.15.20//NONSGML v1.0//EN
CALSCALE:GREGORIAN
METHOD:PUBLISH
X-ORIGINAL-URL:https://jubel.se
X-WR-CALDESC:Händelser för Jubel
REFRESH-INTERVAL;VALUE=DURATION:PT1H
X-Robots-Tag:noindex
X-PUBLISHED-TTL:PT1H
BEGIN:VTIMEZONE
TZID:Europe/Stockholm
BEGIN:DAYLIGHT
TZOFFSETFROM:+0100
TZOFFSETTO:+0200
TZNAME:CEST
DTSTART:20250330T010000
END:DAYLIGHT
BEGIN:STANDARD
TZOFFSETFROM:+0200
TZOFFSETTO:+0100
TZNAME:CET
DTSTART:20251026T010000
END:STANDARD
BEGIN:DAYLIGHT
TZOFFSETFROM:+0100
TZOFFSETTO:+0200
TZNAME:CEST
DTSTART:20260329T010000
END:DAYLIGHT
BEGIN:STANDARD
TZOFFSETFROM:+0200
TZOFFSETTO:+0100
TZNAME:CET
DTSTART:20261025T010000
END:STANDARD
BEGIN:DAYLIGHT
TZOFFSETFROM:+0100
TZOFFSETTO:+0200
TZNAME:CEST
DTSTART:20270328T010000
END:DAYLIGHT
BEGIN:STANDARD
TZOFFSETFROM:+0200
TZOFFSETTO:+0100
TZNAME:CET
DTSTART:20271031T010000
END:STANDARD
END:VTIMEZONE
BEGIN:VEVENT
DTSTART;VALUE=DATE:20260226
DTEND;VALUE=DATE:20260227
DTSTAMP:20260420T012102
CREATED:20251209T092004Z
LAST-MODIFIED:20251209T092004Z
UID:10001438-1772064000-1772150399@jubel.se
SUMMARY:Barnens Festival Afterski Edition Åre
DESCRIPTION:
URL:https://jubel.se/biljetter/barnens-festival-afterski-edition-are-3
LOCATION:Holiday Club Åre\, Åre
CATEGORIES:Festival
END:VEVENT
BEGIN:VEVENT
DTSTART;VALUE=DATE:20260226
DTEND;VALUE=DATE:20260227
DTSTAMP:20260420T012102
CREATED:20250923T112528Z
LAST-MODIFIED:20250923T112528Z
UID:10001340-1772064000-1772150399@jubel.se
SUMMARY:Per Persson
DESCRIPTION:
URL:https://jubel.se/biljetter/per-persson-10
LOCATION:Koordinaten\, Oxelösund
CATEGORIES:Konsert
END:VEVENT
BEGIN:VEVENT
DTSTART;VALUE=DATE:20260225
DTEND;VALUE=DATE:20260226
DTSTAMP:20260420T012102
CREATED:20251209T091801Z
LAST-MODIFIED:20251209T091801Z
UID:10001435-1771977600-1772063999@jubel.se
SUMMARY:Barnens Festival Afterski Edition Sälen
DESCRIPTION:
URL:https://jubel.se/biljetter/barnens-festival-afterski-edition-salen-3
LOCATION:Experium\, Sälen
CATEGORIES:Festival
END:VEVENT
BEGIN:VEVENT
DTSTART;VALUE=DATE:20260222
DTEND;VALUE=DATE:20260223
DTSTAMP:20260420T012102
CREATED:20251118T070020Z
LAST-MODIFIED:20251120T081619Z
UID:10001391-1771718400-1771804799@jubel.se
SUMMARY:Peter Jöback
DESCRIPTION:
URL:https://jubel.se/biljetter/peter-joback-36
LOCATION:Chat Noir\, Oslo
CATEGORIES:Konsert
END:VEVENT
BEGIN:VEVENT
DTSTART;VALUE=DATE:20260221
DTEND;VALUE=DATE:20260222
DTSTAMP:20260420T012102
CREATED:20260120T075734Z
LAST-MODIFIED:20260120T075734Z
UID:10001489-1771632000-1771718399@jubel.se
SUMMARY:Tommy Nilsson
DESCRIPTION:
URL:https://jubel.se/biljetter/tommy-nilsson-6
LOCATION:Hässleholm Kulturhus\, Hässleholm
CATEGORIES:Konsert
END:VEVENT
BEGIN:VEVENT
DTSTART;VALUE=DATE:20260221
DTEND;VALUE=DATE:20260222
DTSTAMP:20260420T012102
CREATED:20251118T070048Z
LAST-MODIFIED:20251119T092456Z
UID:10001390-1771632000-1771718399@jubel.se
SUMMARY:Peter Jöback
DESCRIPTION:
URL:https://jubel.se/biljetter/peter-joback-35
LOCATION:Nye Hjorten Teater\, Trondheim
CATEGORIES:Konsert
END:VEVENT
BEGIN:VEVENT
DTSTART;VALUE=DATE:20260221
DTEND;VALUE=DATE:20260222
DTSTAMP:20260420T012102
CREATED:20250509T080319Z
LAST-MODIFIED:20250509T080319Z
UID:10001135-1771632000-1771718399@jubel.se
SUMMARY:Lina Hedlund
DESCRIPTION:
URL:https://jubel.se/biljetter/lina-hedlund-11
LOCATION:Kulturhuset\, Bollnäs
CATEGORIES:Föreställning
END:VEVENT
BEGIN:VEVENT
DTSTART;VALUE=DATE:20260220
DTEND;VALUE=DATE:20260221
DTSTAMP:20260420T012102
CREATED:20251110T084516Z
LAST-MODIFIED:20251110T084516Z
UID:10001381-1771545600-1771631999@jubel.se
SUMMARY:Maxida Märak
DESCRIPTION:
URL:https://jubel.se/biljetter/maxida-marak-42
LOCATION:Jönköpings teater\, Jönköping
CATEGORIES:Konsert
END:VEVENT
BEGIN:VEVENT
DTSTART;VALUE=DATE:20260220
DTEND;VALUE=DATE:20260221
DTSTAMP:20260420T012102
CREATED:20251017T080023Z
LAST-MODIFIED:20251017T080023Z
UID:10001370-1771545600-1771631999@jubel.se
SUMMARY:Lina Hedlund
DESCRIPTION:
URL:https://jubel.se/biljetter/lina-hedlund-13
LOCATION:Cozmoz Arena\, Borlänge
CATEGORIES:Föreställning
END:VEVENT
BEGIN:VEVENT
DTSTART;VALUE=DATE:20260219
DTEND;VALUE=DATE:20260220
DTSTAMP:20260420T012102
CREATED:20251209T091929Z
LAST-MODIFIED:20251209T091929Z
UID:10001437-1771459200-1771545599@jubel.se
SUMMARY:Barnens Festival Afterski Edition Åre
DESCRIPTION:
URL:https://jubel.se/biljetter/barnens-festival-afterski-edition-are-2
LOCATION:Holiday Club Åre\, Åre
CATEGORIES:Festival
END:VEVENT
BEGIN:VEVENT
DTSTART;VALUE=DATE:20260218
DTEND;VALUE=DATE:20260219
DTSTAMP:20260420T012102
CREATED:20251209T091630Z
LAST-MODIFIED:20251209T091630Z
UID:10001434-1771372800-1771459199@jubel.se
SUMMARY:Barnens Festival Afterski Edition Sälen
DESCRIPTION:
URL:https://jubel.se/biljetter/barnens-festival-afterski-edition-salen-2
LOCATION:Experium\, Sälen
CATEGORIES:Festival
END:VEVENT
BEGIN:VEVENT
DTSTART;VALUE=DATE:20260215
DTEND;VALUE=DATE:20260216
DTSTAMP:20260420T012102
CREATED:20251120T104208Z
LAST-MODIFIED:20251120T104208Z
UID:10001401-1771113600-1771199999@jubel.se
SUMMARY:Maxida Märak
DESCRIPTION:
URL:https://jubel.se/biljetter/maxida-marak-43
LOCATION:Vara Konserthus\, Vara
CATEGORIES:Konsert
END:VEVENT
BEGIN:VEVENT
DTSTART;VALUE=DATE:20260214
DTEND;VALUE=DATE:20260215
DTSTAMP:20260420T012102
CREATED:20260120T075612Z
LAST-MODIFIED:20260120T075612Z
UID:10001488-1771027200-1771113599@jubel.se
SUMMARY:Tommy Nilsson
DESCRIPTION:
URL:https://jubel.se/biljetter/tommy-nilsson-5
LOCATION:Villa Foresta\, Lidingö
CATEGORIES:Konsert
END:VEVENT
BEGIN:VEVENT
DTSTART;VALUE=DATE:20260214
DTEND;VALUE=DATE:20260215
DTSTAMP:20260420T012102
CREATED:20251201T090038Z
LAST-MODIFIED:20251202T105526Z
UID:10001423-1771027200-1771113599@jubel.se
SUMMARY:Viktor Norén
DESCRIPTION:
URL:https://jubel.se/biljetter/viktor-noren-61
LOCATION:Göteborgs konserthus\, Göteborg
CATEGORIES:Konsert
END:VEVENT
BEGIN:VEVENT
DTSTART;VALUE=DATE:20260214
DTEND;VALUE=DATE:20260215
DTSTAMP:20260420T012102
CREATED:20251128T090035Z
LAST-MODIFIED:20251205T143847Z
UID:10001414-1771027200-1771113599@jubel.se
SUMMARY:John Lindberg Trio
DESCRIPTION:
URL:https://jubel.se/biljetter/john-lindberg-trio-80
LOCATION:Cookin’ Borås
CATEGORIES:Konsert
END:VEVENT
BEGIN:VEVENT
DTSTART;VALUE=DATE:20260212
DTEND;VALUE=DATE:20260213
DTSTAMP:20260420T012102
CREATED:20251212T090057Z
LAST-MODIFIED:20251209T153925Z
UID:10001440-1770854400-1770940799@jubel.se
SUMMARY:Sand & Hallander
DESCRIPTION:
URL:https://jubel.se/biljetter/sand-hallander
LOCATION:Kollektivet Livet\, Stockholm
CATEGORIES:Konsert
END:VEVENT
BEGIN:VEVENT
DTSTART;VALUE=DATE:20260212
DTEND;VALUE=DATE:20260213
DTSTAMP:20260420T012102
CREATED:20251209T091854Z
LAST-MODIFIED:20251209T091854Z
UID:10001436-1770854400-1770940799@jubel.se
SUMMARY:Barnens Festival Afterski Edition Åre
DESCRIPTION:
URL:https://jubel.se/biljetter/barnens-festival-afterski-edition-are
LOCATION:Holiday Club Åre\, Åre
CATEGORIES:Festival
END:VEVENT
BEGIN:VEVENT
DTSTART;VALUE=DATE:20260211
DTEND;VALUE=DATE:20260212
DTSTAMP:20260420T012102
CREATED:20251209T090826Z
LAST-MODIFIED:20251209T091323Z
UID:10001433-1770768000-1770854399@jubel.se
SUMMARY:Barnens Festival Afterski Edition Sälen
DESCRIPTION:
URL:https://jubel.se/biljetter/barnens-festival-afterski-edition-salen
LOCATION:Experium\, Sälen
CATEGORIES:Festival
END:VEVENT
BEGIN:VEVENT
DTSTART;VALUE=DATE:20260207
DTEND;VALUE=DATE:20260208
DTSTAMP:20260420T012102
CREATED:20251219T090029Z
LAST-MODIFIED:20251219T081949Z
UID:10001461-1770422400-1770508799@jubel.se
SUMMARY:Maxida Märak
DESCRIPTION:
URL:https://jubel.se/biljetter/maxida-marak-45
LOCATION:Folkets Hus\, Jokkmokk
CATEGORIES:Konsert
END:VEVENT
BEGIN:VEVENT
DTSTART;VALUE=DATE:20260207
DTEND;VALUE=DATE:20260208
DTSTAMP:20260420T012102
CREATED:20250509T080223Z
LAST-MODIFIED:20250509T080223Z
UID:10001134-1770422400-1770508799@jubel.se
SUMMARY:Lina Hedlund
DESCRIPTION:
URL:https://jubel.se/biljetter/lina-hedlund-10
LOCATION:Culturum\, Nyköping
CATEGORIES:Föreställning
END:VEVENT
BEGIN:VEVENT
DTSTART;VALUE=DATE:20260206
DTEND;VALUE=DATE:20260207
DTSTAMP:20260420T012102
CREATED:20250509T080140Z
LAST-MODIFIED:20250509T080140Z
UID:10001133-1770336000-1770422399@jubel.se
SUMMARY:Lina Hedlund
DESCRIPTION:
URL:https://jubel.se/biljetter/lina-hedlund-9
LOCATION:Eskilstuna Teater\, Eskilstuna
CATEGORIES:Föreställning
END:VEVENT
BEGIN:VEVENT
DTSTART;VALUE=DATE:20260205
DTEND;VALUE=DATE:20260206
DTSTAMP:20260420T012102
CREATED:20251016T125345Z
LAST-MODIFIED:20251016T125355Z
UID:10001361-1770249600-1770335999@jubel.se
SUMMARY:John Lindberg Trio
DESCRIPTION:
URL:https://jubel.se/biljetter/engmans-kapell-50
LOCATION:Wheels Nationals Winter
END:VEVENT
BEGIN:VEVENT
DTSTART;VALUE=DATE:20260205
DTEND;VALUE=DATE:20260206
DTSTAMP:20260420T012102
CREATED:20250509T080048Z
LAST-MODIFIED:20250509T080048Z
UID:10001132-1770249600-1770335999@jubel.se
SUMMARY:Lina Hedlund
DESCRIPTION:
URL:https://jubel.se/biljetter/lina-hedlund-8
LOCATION:Scalateatern\, Karlstad
CATEGORIES:Föreställning
END:VEVENT
BEGIN:VEVENT
DTSTART;VALUE=DATE:20260130
DTEND;VALUE=DATE:20260131
DTSTAMP:20260420T012102
CREATED:20251219T090029Z
LAST-MODIFIED:20251219T095836Z
UID:10001462-1769731200-1769817599@jubel.se
SUMMARY:Maxida Märak
DESCRIPTION:
URL:https://jubel.se/biljetter/maxida-marak-46
LOCATION:Gällivare Pride
CATEGORIES:Konsert
END:VEVENT
BEGIN:VEVENT
DTSTART;VALUE=DATE:20260130
DTEND;VALUE=DATE:20260131
DTSTAMP:20260420T012102
CREATED:20251016T125126Z
LAST-MODIFIED:20251016T125126Z
UID:10001360-1769731200-1769817599@jubel.se
SUMMARY:John Lindberg Trio
DESCRIPTION:
URL:https://jubel.se/biljetter/john-lindberg-trio-67
LOCATION:Bikers Cruise 2026
CATEGORIES:Konsert
END:VEVENT
BEGIN:VEVENT
DTSTART;VALUE=DATE:20260124
DTEND;VALUE=DATE:20260125
DTSTAMP:20260420T012102
CREATED:20251121T091325Z
LAST-MODIFIED:20251121T091325Z
UID:10001402-1769212800-1769299199@jubel.se
SUMMARY:Tomas Andersson Wij
DESCRIPTION:
URL:https://jubel.se/biljetter/tomas-andersson-wij-131
LOCATION:Elimkyrkan\, Sundsvall
CATEGORIES:Konsert
END:VEVENT
BEGIN:VEVENT
DTSTART;VALUE=DATE:20260124
DTEND;VALUE=DATE:20260125
DTSTAMP:20260420T012102
CREATED:20250917T114539Z
LAST-MODIFIED:20250917T114539Z
UID:10001332-1769212800-1769299199@jubel.se
SUMMARY:John Linderg Trio
DESCRIPTION:
URL:https://jubel.se/biljetter/john-linderg-trio
LOCATION:Herr Nilsen\, Oslo
CATEGORIES:Konsert
END:VEVENT
BEGIN:VEVENT
DTSTART;VALUE=DATE:20260123
DTEND;VALUE=DATE:20260124
DTSTAMP:20260420T012102
CREATED:20251209T131000Z
LAST-MODIFIED:20251211T092802Z
UID:10001439-1769126400-1769212799@jubel.se
SUMMARY:Tomas Andersson Wij
DESCRIPTION:
URL:https://jubel.se/biljetter/tomas-andersson-wij-139
LOCATION:Undersåkers kyrka\, Undersåker
CATEGORIES:Festival,Konsert
END:VEVENT
BEGIN:VEVENT
DTSTART;VALUE=DATE:20260123
DTEND;VALUE=DATE:20260124
DTSTAMP:20260420T012102
CREATED:20251128T091448Z
LAST-MODIFIED:20251128T091448Z
UID:10001420-1769126400-1769212799@jubel.se
SUMMARY:John Lindberg Trio
DESCRIPTION:
URL:https://jubel.se/biljetter/john-lindberg-trio-86
LOCATION:Aladdin scene\, Halden
CATEGORIES:Konsert
END:VEVENT
BEGIN:VEVENT
DTSTART;VALUE=DATE:20260117
DTEND;VALUE=DATE:20260118
DTSTAMP:20260420T012102
CREATED:20251216T143036Z
LAST-MODIFIED:20251216T143036Z
UID:10001445-1768608000-1768694399@jubel.se
SUMMARY:Per Persson
DESCRIPTION:
URL:https://jubel.se/biljetter/per-persson-15
LOCATION:Blueskällaren\, Örnsköldsvik
CATEGORIES:Konsert
END:VEVENT
END:VCALENDAR