BEGIN:VCALENDAR
VERSION:2.0
PRODID:-//Jubel - ECPv6.15.20//NONSGML v1.0//EN
CALSCALE:GREGORIAN
METHOD:PUBLISH
X-ORIGINAL-URL:https://jubel.se
X-WR-CALDESC:Händelser för Jubel
REFRESH-INTERVAL;VALUE=DURATION:PT1H
X-Robots-Tag:noindex
X-PUBLISHED-TTL:PT1H
BEGIN:VTIMEZONE
TZID:Europe/Stockholm
BEGIN:DAYLIGHT
TZOFFSETFROM:+0100
TZOFFSETTO:+0200
TZNAME:CEST
DTSTART:20230326T010000
END:DAYLIGHT
BEGIN:STANDARD
TZOFFSETFROM:+0200
TZOFFSETTO:+0100
TZNAME:CET
DTSTART:20231029T010000
END:STANDARD
BEGIN:DAYLIGHT
TZOFFSETFROM:+0100
TZOFFSETTO:+0200
TZNAME:CEST
DTSTART:20240331T010000
END:DAYLIGHT
BEGIN:STANDARD
TZOFFSETFROM:+0200
TZOFFSETTO:+0100
TZNAME:CET
DTSTART:20241027T010000
END:STANDARD
BEGIN:DAYLIGHT
TZOFFSETFROM:+0100
TZOFFSETTO:+0200
TZNAME:CEST
DTSTART:20250330T010000
END:DAYLIGHT
BEGIN:STANDARD
TZOFFSETFROM:+0200
TZOFFSETTO:+0100
TZNAME:CET
DTSTART:20251026T010000
END:STANDARD
END:VTIMEZONE
BEGIN:VEVENT
DTSTART;VALUE=DATE:20240726
DTEND;VALUE=DATE:20240727
DTSTAMP:20260425T032931
CREATED:20240620T091209Z
LAST-MODIFIED:20240620T091209Z
UID:10000760-1721952000-1722038399@jubel.se
SUMMARY:Division 7
DESCRIPTION:
URL:https://jubel.se/biljetter/division-7-17
LOCATION:Strömsholmen\, Eskilstuna
CATEGORIES:Konsert
END:VEVENT
BEGIN:VEVENT
DTSTART;VALUE=DATE:20240726
DTEND;VALUE=DATE:20240727
DTSTAMP:20260425T032931
CREATED:20240528T115332Z
LAST-MODIFIED:20240528T115332Z
UID:10000712-1721952000-1722038399@jubel.se
SUMMARY:Annika Wickihalder
DESCRIPTION:
URL:https://jubel.se/biljetter/annika-wickihalder-10
LOCATION:Hudikkalaset\, Hudiksvall
CATEGORIES:Festival
END:VEVENT
BEGIN:VEVENT
DTSTART;VALUE=DATE:20240726
DTEND;VALUE=DATE:20240727
DTSTAMP:20260425T032931
CREATED:20240514T201940Z
LAST-MODIFIED:20240514T201940Z
UID:10000699-1721952000-1722038399@jubel.se
SUMMARY:Rebecca & Fiona
DESCRIPTION:
URL:https://jubel.se/biljetter/rebecca-fiona-12
LOCATION:Hudikkalaset\, Hudiksvall
CATEGORIES:Festival
END:VEVENT
BEGIN:VEVENT
DTSTART;VALUE=DATE:20240726
DTEND;VALUE=DATE:20240727
DTSTAMP:20260425T032931
CREATED:20240419T090129Z
LAST-MODIFIED:20240419T090129Z
UID:10000598-1721952000-1722038399@jubel.se
SUMMARY:Sofia Karlsson
DESCRIPTION:
URL:https://jubel.se/biljetter/sofia-karlsson-55
LOCATION:Vinöns värdshus\, Örebro
END:VEVENT
BEGIN:VEVENT
DTSTART;VALUE=DATE:20240726
DTEND;VALUE=DATE:20240727
DTSTAMP:20260425T032931
CREATED:20231218T195406Z
LAST-MODIFIED:20231218T195406Z
UID:10000475-1721952000-1722038399@jubel.se
SUMMARY:Carola
DESCRIPTION:
URL:https://jubel.se/biljetter/carola-41
LOCATION:Rådhusparken\, Hudiksvall
CATEGORIES:Konsert
END:VEVENT
BEGIN:VEVENT
DTSTART;VALUE=DATE:20240725
DTEND;VALUE=DATE:20240726
DTSTAMP:20260425T032931
CREATED:20240604T131304Z
LAST-MODIFIED:20240604T131304Z
UID:10000751-1721865600-1721951999@jubel.se
SUMMARY:Lasse Holm
DESCRIPTION:
URL:https://jubel.se/biljetter/lasse-holm-10
LOCATION:Solliden Sessions\, Borgholm
CATEGORIES:Konsert
END:VEVENT
BEGIN:VEVENT
DTSTART;VALUE=DATE:20240724
DTEND;VALUE=DATE:20240725
DTSTAMP:20260425T032931
CREATED:20240603T123116Z
LAST-MODIFIED:20240603T123116Z
UID:10000729-1721779200-1721865599@jubel.se
SUMMARY:Per Persson & Nya Packet
DESCRIPTION:
URL:https://jubel.se/biljetter/per-persson-nya-packet-32
LOCATION:Skottvångs Grufva\, Mariefred
CATEGORIES:Konsert
END:VEVENT
BEGIN:VEVENT
DTSTART;VALUE=DATE:20240723
DTEND;VALUE=DATE:20240724
DTSTAMP:20260425T032931
CREATED:20240604T131157Z
LAST-MODIFIED:20240604T131157Z
UID:10000750-1721692800-1721779199@jubel.se
SUMMARY:Lasse Holm
DESCRIPTION:
URL:https://jubel.se/biljetter/lasse-holm-9
LOCATION:Allsången i Kisa\, Kisa
CATEGORIES:Konsert
END:VEVENT
BEGIN:VEVENT
DTSTART;VALUE=DATE:20240723
DTEND;VALUE=DATE:20240724
DTSTAMP:20260425T032931
CREATED:20240516T080138Z
LAST-MODIFIED:20240516T080138Z
UID:10000688-1721692800-1721779199@jubel.se
SUMMARY:John Lindberg Trio
DESCRIPTION:
URL:https://jubel.se/biljetter/john-lindberg-trio-13
LOCATION:Ön\, Hedesunda
CATEGORIES:Konsert
END:VEVENT
BEGIN:VEVENT
DTSTART;VALUE=DATE:20240722
DTEND;VALUE=DATE:20240723
DTSTAMP:20260425T032931
CREATED:20240604T131105Z
LAST-MODIFIED:20240604T132222Z
UID:10000749-1721606400-1721692799@jubel.se
SUMMARY:Lasse Holm
DESCRIPTION:
URL:https://jubel.se/biljetter/lasse-holm-8
LOCATION:Allsång på Vallarna\, Falkenberg
CATEGORIES:Konsert
END:VEVENT
BEGIN:VEVENT
DTSTART;VALUE=DATE:20240722
DTEND;VALUE=DATE:20240723
DTSTAMP:20260425T032931
CREATED:20240215T124901Z
LAST-MODIFIED:20240215T124901Z
UID:10000535-1721606400-1721692799@jubel.se
SUMMARY:Carola
DESCRIPTION:
URL:https://jubel.se/biljetter/carola-50
LOCATION:Rock off\, Åland (FI)
CATEGORIES:Festival
END:VEVENT
BEGIN:VEVENT
DTSTART;VALUE=DATE:20240722
DTEND;VALUE=DATE:20240723
DTSTAMP:20260425T032931
CREATED:20240130T123035Z
LAST-MODIFIED:20240130T123035Z
UID:10000512-1721606400-1721692799@jubel.se
SUMMARY:Engmans Kapell
DESCRIPTION:
URL:https://jubel.se/biljetter/engmans-kapell-11
LOCATION:Kackelstugan\, Borgholm
CATEGORIES:Konsert
END:VEVENT
BEGIN:VEVENT
DTSTART;VALUE=DATE:20240721
DTEND;VALUE=DATE:20240722
DTSTAMP:20260425T032932
CREATED:20240501T074649Z
LAST-MODIFIED:20240501T074649Z
UID:10000632-1721520000-1721606399@jubel.se
SUMMARY:Tomas Andersson Wij
DESCRIPTION:
URL:https://jubel.se/biljetter/tomas-andersson-wij-72
LOCATION:Rademachersmedjorna\, Eskilstuna
CATEGORIES:Konsert
END:VEVENT
BEGIN:VEVENT
DTSTART;VALUE=DATE:20240721
DTEND;VALUE=DATE:20240722
DTSTAMP:20260425T032932
CREATED:20240419T085829Z
LAST-MODIFIED:20240419T085829Z
UID:10000597-1721520000-1721606399@jubel.se
SUMMARY:Sofia Karlsson
DESCRIPTION:
URL:https://jubel.se/biljetter/sofia-karlsson-54
LOCATION:Fåfängan\, Nyköping
END:VEVENT
BEGIN:VEVENT
DTSTART;VALUE=DATE:20240721
DTEND;VALUE=DATE:20240722
DTSTAMP:20260425T032932
CREATED:20240327T150332Z
LAST-MODIFIED:20240327T150332Z
UID:10000565-1721520000-1721606399@jubel.se
SUMMARY:Engmans Kapell
DESCRIPTION:
URL:https://jubel.se/biljetter/engmans-kapell-20
LOCATION:Åsele Marknad\, Åsele
CATEGORIES:Konsert
END:VEVENT
BEGIN:VEVENT
DTSTART;VALUE=DATE:20240721
DTEND;VALUE=DATE:20240722
DTSTAMP:20260425T032932
CREATED:20240216T103202Z
LAST-MODIFIED:20240216T103202Z
UID:10000546-1721520000-1721606399@jubel.se
SUMMARY:Carola
DESCRIPTION:
URL:https://jubel.se/biljetter/carola-60
LOCATION:Parksnäckan\, Uppsala
CATEGORIES:Konsert
END:VEVENT
BEGIN:VEVENT
DTSTART;TZID=Europe/Stockholm:20240720T080000
DTEND;TZID=Europe/Stockholm:20240720T170000
DTSTAMP:20260425T032932
CREATED:20240505T204303Z
LAST-MODIFIED:20240505T204303Z
UID:10000665-1721462400-1721494800@jubel.se
SUMMARY:Daniel Adams-Ray
DESCRIPTION:
URL:https://jubel.se/biljetter/daniel-adams-ray-17
LOCATION:One Wknd Only\, Östra Piren\, Karlshamn\, 37435\, Sverige
CATEGORIES:Festival
END:VEVENT
BEGIN:VEVENT
DTSTART;VALUE=DATE:20240720
DTEND;VALUE=DATE:20240721
DTSTAMP:20260425T032932
CREATED:20240711T143310Z
LAST-MODIFIED:20240711T143310Z
UID:10000776-1721433600-1721519999@jubel.se
SUMMARY:Rebecca & Fiona
DESCRIPTION:
URL:https://jubel.se/biljetter/rebecca-fiona-20
LOCATION:Riff Borgholm
CATEGORIES:Konsert
END:VEVENT
BEGIN:VEVENT
DTSTART;VALUE=DATE:20240720
DTEND;VALUE=DATE:20240721
DTSTAMP:20260425T032932
CREATED:20240604T131013Z
LAST-MODIFIED:20240610T144012Z
UID:10000748-1721433600-1721519999@jubel.se
SUMMARY:Lasse Holm
DESCRIPTION:
URL:https://jubel.se/biljetter/lasse-holm-7
LOCATION:Bjärsjölagårds slott\, Sjöbo
CATEGORIES:Konsert
END:VEVENT
BEGIN:VEVENT
DTSTART;VALUE=DATE:20240720
DTEND;VALUE=DATE:20240721
DTSTAMP:20260425T032932
CREATED:20240528T114905Z
LAST-MODIFIED:20240528T114905Z
UID:10000711-1721433600-1721519999@jubel.se
SUMMARY:Annika Wickihalder
DESCRIPTION:
URL:https://jubel.se/biljetter/annika-wickihalder-9
LOCATION:Hälsingevind\, Järvsö
CATEGORIES:Festival
END:VEVENT
BEGIN:VEVENT
DTSTART;VALUE=DATE:20240720
DTEND;VALUE=DATE:20240721
DTSTAMP:20260425T032932
CREATED:20240513T152313Z
LAST-MODIFIED:20240513T152313Z
UID:10000677-1721433600-1721519999@jubel.se
SUMMARY:Per Persson & Nya Packet
DESCRIPTION:
URL:https://jubel.se/biljetter/per-persson-nya-packet-28
LOCATION:Stenegård\, Järvsö
CATEGORIES:Festival
END:VEVENT
BEGIN:VEVENT
DTSTART;VALUE=DATE:20240720
DTEND;VALUE=DATE:20240721
DTSTAMP:20260425T032932
CREATED:20240501T074603Z
LAST-MODIFIED:20240501T074603Z
UID:10000631-1721433600-1721519999@jubel.se
SUMMARY:Tomas Andersson Wij
DESCRIPTION:
URL:https://jubel.se/biljetter/tomas-andersson-wij-71
LOCATION:Vinöns värdshus\, Örebro
CATEGORIES:Konsert
END:VEVENT
BEGIN:VEVENT
DTSTART;VALUE=DATE:20240720
DTEND;VALUE=DATE:20240721
DTSTAMP:20260425T032932
CREATED:20240430T075308Z
LAST-MODIFIED:20240430T080056Z
UID:10000615-1721433600-1721519999@jubel.se
SUMMARY:Viktor Norén
DESCRIPTION:
URL:https://jubel.se/biljetter/viktor-noren-19
LOCATION:Dalhalla\, Rättvik
CATEGORIES:Konsert
END:VEVENT
BEGIN:VEVENT
DTSTART;VALUE=DATE:20240720
DTEND;VALUE=DATE:20240721
DTSTAMP:20260425T032932
CREATED:20240419T085456Z
LAST-MODIFIED:20240419T085456Z
UID:10000596-1721433600-1721519999@jubel.se
SUMMARY:Sofia Karlsson
DESCRIPTION:
URL:https://jubel.se/biljetter/sofia-karlsson-53
LOCATION:Örsebo sörgården\, Svalsjö
END:VEVENT
BEGIN:VEVENT
DTSTART;VALUE=DATE:20240720
DTEND;VALUE=DATE:20240721
DTSTAMP:20260425T032932
CREATED:20240304T141933Z
LAST-MODIFIED:20240304T141933Z
UID:10000549-1721433600-1721519999@jubel.se
SUMMARY:Engmans Kapell
DESCRIPTION:
URL:https://jubel.se/biljetter/engmans-kapell-19
LOCATION:Stenegård\, Järvsö
CATEGORIES:Festival
END:VEVENT
BEGIN:VEVENT
DTSTART;VALUE=DATE:20240720
DTEND;VALUE=DATE:20240721
DTSTAMP:20260425T032932
CREATED:20240228T192349Z
LAST-MODIFIED:20240228T192349Z
UID:10000548-1721433600-1721519999@jubel.se
SUMMARY:Carola
DESCRIPTION:
URL:https://jubel.se/biljetter/carola-61
LOCATION:Sundbyholms slott\, Eskilstuna
CATEGORIES:Konsert
END:VEVENT
BEGIN:VEVENT
DTSTART;VALUE=DATE:20240719
DTEND;VALUE=DATE:20240720
DTSTAMP:20260425T032932
CREATED:20240419T085121Z
LAST-MODIFIED:20240419T085121Z
UID:10000595-1721347200-1721433599@jubel.se
SUMMARY:Sofia Karlsson
DESCRIPTION:
URL:https://jubel.se/biljetter/sofia-karlsson-52
LOCATION:Esters Café\, Långserud
END:VEVENT
BEGIN:VEVENT
DTSTART;VALUE=DATE:20240719
DTEND;VALUE=DATE:20240720
DTSTAMP:20260425T032932
CREATED:20240404T092051Z
LAST-MODIFIED:20240404T092201Z
UID:10000583-1721347200-1721433599@jubel.se
SUMMARY:Maxida Märak
DESCRIPTION:
URL:https://jubel.se/biljetter/maxida-marak-14
LOCATION:Kalix\, Kalix\, Sverige
CATEGORIES:Konsert
END:VEVENT
BEGIN:VEVENT
DTSTART;VALUE=DATE:20240719
DTEND;VALUE=DATE:20240720
DTSTAMP:20260425T032932
CREATED:20240315T140335Z
LAST-MODIFIED:20240315T140335Z
UID:10000560-1721347200-1721433599@jubel.se
SUMMARY:Carola
DESCRIPTION:
URL:https://jubel.se/biljetter/carola-62
LOCATION:Stora Gåsemora\, Fårö
CATEGORIES:Konsert
END:VEVENT
BEGIN:VEVENT
DTSTART;VALUE=DATE:20240718
DTEND;VALUE=DATE:20240719
DTSTAMP:20260425T032932
CREATED:20240604T130921Z
LAST-MODIFIED:20240604T130921Z
UID:10000747-1721260800-1721347199@jubel.se
SUMMARY:Lasse Holm
DESCRIPTION:
URL:https://jubel.se/biljetter/lasse-holm-6
LOCATION:Kalix Sommarkalas\, Kalix
CATEGORIES:Festival
END:VEVENT
END:VCALENDAR