BEGIN:VCALENDAR
VERSION:2.0
PRODID:-//Jubel - ECPv6.15.20//NONSGML v1.0//EN
CALSCALE:GREGORIAN
METHOD:PUBLISH
X-ORIGINAL-URL:https://jubel.se
X-WR-CALDESC:Händelser för Jubel
REFRESH-INTERVAL;VALUE=DURATION:PT1H
X-Robots-Tag:noindex
X-PUBLISHED-TTL:PT1H
BEGIN:VTIMEZONE
TZID:Europe/Stockholm
BEGIN:DAYLIGHT
TZOFFSETFROM:+0100
TZOFFSETTO:+0200
TZNAME:CEST
DTSTART:20230326T010000
END:DAYLIGHT
BEGIN:STANDARD
TZOFFSETFROM:+0200
TZOFFSETTO:+0100
TZNAME:CET
DTSTART:20231029T010000
END:STANDARD
BEGIN:DAYLIGHT
TZOFFSETFROM:+0100
TZOFFSETTO:+0200
TZNAME:CEST
DTSTART:20240331T010000
END:DAYLIGHT
BEGIN:STANDARD
TZOFFSETFROM:+0200
TZOFFSETTO:+0100
TZNAME:CET
DTSTART:20241027T010000
END:STANDARD
BEGIN:DAYLIGHT
TZOFFSETFROM:+0100
TZOFFSETTO:+0200
TZNAME:CEST
DTSTART:20250330T010000
END:DAYLIGHT
BEGIN:STANDARD
TZOFFSETFROM:+0200
TZOFFSETTO:+0100
TZNAME:CET
DTSTART:20251026T010000
END:STANDARD
END:VTIMEZONE
BEGIN:VEVENT
DTSTART;VALUE=DATE:20240713
DTEND;VALUE=DATE:20240714
DTSTAMP:20260425T045739
CREATED:20240216T091959Z
LAST-MODIFIED:20240216T091959Z
UID:10000544-1720828800-1720915199@jubel.se
SUMMARY:Carola
DESCRIPTION:
URL:https://jubel.se/biljetter/carola-59
LOCATION:Stenungsbaden\, Stenungsund
CATEGORIES:Konsert
END:VEVENT
BEGIN:VEVENT
DTSTART;VALUE=DATE:20240712
DTEND;VALUE=DATE:20240713
DTSTAMP:20260425T045739
CREATED:20240516T080138Z
LAST-MODIFIED:20240516T080138Z
UID:10000686-1720742400-1720828799@jubel.se
SUMMARY:John Lindberg Trio
DESCRIPTION:
URL:https://jubel.se/biljetter/john-lindberg-trio-15
LOCATION:American Car Show\, Norrtälje
CATEGORIES:Konsert
END:VEVENT
BEGIN:VEVENT
DTSTART;VALUE=DATE:20240712
DTEND;VALUE=DATE:20240713
DTSTAMP:20260425T045739
CREATED:20240513T152458Z
LAST-MODIFIED:20240513T152458Z
UID:10000678-1720742400-1720828799@jubel.se
SUMMARY:Per Persson & Nya Packet
DESCRIPTION:
URL:https://jubel.se/biljetter/per-persson-nya-packet-29
LOCATION:Visfestivalen\, Västervik
CATEGORIES:Festival
END:VEVENT
BEGIN:VEVENT
DTSTART;VALUE=DATE:20240712
DTEND;VALUE=DATE:20240713
DTSTAMP:20260425T045739
CREATED:20240501T075416Z
LAST-MODIFIED:20240501T075416Z
UID:10000628-1720742400-1720828799@jubel.se
SUMMARY:Tomas Andersson Wij
DESCRIPTION:
URL:https://jubel.se/biljetter/tomas-andersson-wij-75
LOCATION:Bruket i Wiared\, Borås
CATEGORIES:Konsert
END:VEVENT
BEGIN:VEVENT
DTSTART;VALUE=DATE:20240712
DTEND;VALUE=DATE:20240713
DTSTAMP:20260425T045739
CREATED:20240404T124326Z
LAST-MODIFIED:20240404T124344Z
UID:10000587-1720742400-1720828799@jubel.se
SUMMARY:Moreau
DESCRIPTION:
URL:https://jubel.se/biljetter/moreau-7
LOCATION:Visfestivalen\, Västervik
CATEGORIES:Festival
END:VEVENT
BEGIN:VEVENT
DTSTART;VALUE=DATE:20240712
DTEND;VALUE=DATE:20240713
DTSTAMP:20260425T045739
CREATED:20240215T124746Z
LAST-MODIFIED:20240215T124746Z
UID:10000534-1720742400-1720828799@jubel.se
SUMMARY:Carola
DESCRIPTION:
URL:https://jubel.se/biljetter/carola-49
LOCATION:Tysnesfest\, Tysnes (NO)
CATEGORIES:Festival
END:VEVENT
BEGIN:VEVENT
DTSTART;TZID=Europe/Stockholm:20240711T200000
DTEND;TZID=Europe/Stockholm:20240711T213000
DTSTAMP:20260425T045739
CREATED:20240505T204034Z
LAST-MODIFIED:20240505T204034Z
UID:10000664-1720728000-1720733400@jubel.se
SUMMARY:Daniel Adams-Ray
DESCRIPTION:
URL:https://jubel.se/biljetter/daniel-adams-ray-16
LOCATION:Stora Gåsemora\, Fårö
CATEGORIES:Konsert
END:VEVENT
BEGIN:VEVENT
DTSTART;VALUE=DATE:20240711
DTEND;VALUE=DATE:20240712
DTSTAMP:20260425T045739
CREATED:20240215T124615Z
LAST-MODIFIED:20240215T124615Z
UID:10000533-1720656000-1720742399@jubel.se
SUMMARY:Carola
DESCRIPTION:
URL:https://jubel.se/biljetter/carola-48
LOCATION:Hasslöfestivalen\, Hasslö
CATEGORIES:Festival
END:VEVENT
BEGIN:VEVENT
DTSTART;VALUE=DATE:20240709
DTEND;VALUE=DATE:20240710
DTSTAMP:20260425T045739
CREATED:20240604T130007Z
LAST-MODIFIED:20240604T130007Z
UID:10000744-1720483200-1720569599@jubel.se
SUMMARY:Lasse Holm
DESCRIPTION:
URL:https://jubel.se/biljetter/lasse-holm-3
LOCATION:Sundsvall Bjuder\, Sundsvall
CATEGORIES:Konsert
END:VEVENT
BEGIN:VEVENT
DTSTART;VALUE=DATE:20240708
DTEND;VALUE=DATE:20240709
DTSTAMP:20260425T045739
CREATED:20240501T075414Z
LAST-MODIFIED:20240501T075414Z
UID:10000627-1720396800-1720483199@jubel.se
SUMMARY:Tomas Andersson Wij
DESCRIPTION:
URL:https://jubel.se/biljetter/tomas-andersson-wij-74
LOCATION:Axmar Bruk\, Axmar
CATEGORIES:Konsert
END:VEVENT
BEGIN:VEVENT
DTSTART;VALUE=DATE:20240707
DTEND;VALUE=DATE:20240708
DTSTAMP:20260425T045739
CREATED:20240318T142716Z
LAST-MODIFIED:20240318T142716Z
UID:10000561-1720310400-1720396799@jubel.se
SUMMARY:Tomas Andersson Wij
DESCRIPTION:
URL:https://jubel.se/biljetter/tomas-andersson-wij-53
LOCATION:Träteatern\, Järvsö
CATEGORIES:Konsert
END:VEVENT
BEGIN:VEVENT
DTSTART;VALUE=DATE:20240707
DTEND;VALUE=DATE:20240708
DTSTAMP:20260425T045739
CREATED:20240215T130911Z
LAST-MODIFIED:20240215T130911Z
UID:10000542-1720310400-1720396799@jubel.se
SUMMARY:Carola
DESCRIPTION:
URL:https://jubel.se/biljetter/carola-57
LOCATION:Söderköpings brunn\, Söderköping
CATEGORIES:Konsert
END:VEVENT
BEGIN:VEVENT
DTSTART;VALUE=DATE:20240706
DTEND;VALUE=DATE:20240707
DTSTAMP:20260425T045739
CREATED:20240604T125901Z
LAST-MODIFIED:20240604T125901Z
UID:10000743-1720224000-1720310399@jubel.se
SUMMARY:Lasse Holm
DESCRIPTION:
URL:https://jubel.se/biljetter/lasse-holm-2
LOCATION:Jubileumskonsert Lundsbrunn\, Lundsbrunn
CATEGORIES:Konsert
END:VEVENT
BEGIN:VEVENT
DTSTART;VALUE=DATE:20240706
DTEND;VALUE=DATE:20240707
DTSTAMP:20260425T045739
CREATED:20240603T125117Z
LAST-MODIFIED:20240603T125117Z
UID:10000736-1720224000-1720310399@jubel.se
SUMMARY:Mimikry
DESCRIPTION:
URL:https://jubel.se/biljetter/mimikry-5
LOCATION:Parksnäckan\, Uppsala
CATEGORIES:Festival
END:VEVENT
BEGIN:VEVENT
DTSTART;VALUE=DATE:20240706
DTEND;VALUE=DATE:20240707
DTSTAMP:20260425T045739
CREATED:20240118T171633Z
LAST-MODIFIED:20240118T171835Z
UID:10000495-1720224000-1720310399@jubel.se
SUMMARY:Carola
DESCRIPTION:
URL:https://jubel.se/biljetter/carola-42
LOCATION:Jerntorget\, Sandviken
CATEGORIES:Konsert
END:VEVENT
BEGIN:VEVENT
DTSTART;VALUE=DATE:20240705
DTEND;VALUE=DATE:20240706
DTSTAMP:20260425T045739
CREATED:20240528T114807Z
LAST-MODIFIED:20240528T114807Z
UID:10000710-1720137600-1720223999@jubel.se
SUMMARY:Annika Wickihalder
DESCRIPTION:
URL:https://jubel.se/biljetter/annika-wickihalder-8
LOCATION:Gullbrannafestivalen\, Eldsberga
CATEGORIES:Festival
END:VEVENT
BEGIN:VEVENT
DTSTART;VALUE=DATE:20240705
DTEND;VALUE=DATE:20240706
DTSTAMP:20260425T045739
CREATED:20240220T155447Z
LAST-MODIFIED:20240220T155447Z
UID:10000547-1720137600-1720223999@jubel.se
SUMMARY:Rebecca & Fiona
DESCRIPTION:
URL:https://jubel.se/biljetter/rebecca-fiona-11
LOCATION:Once Upon A Time\, Stockholm
CATEGORIES:Festival
END:VEVENT
BEGIN:VEVENT
DTSTART;VALUE=DATE:20240705
DTEND;VALUE=DATE:20240706
DTSTAMP:20260425T045739
CREATED:20240215T124206Z
LAST-MODIFIED:20240215T124342Z
UID:10000531-1720137600-1720223999@jubel.se
SUMMARY:Carola
DESCRIPTION:
URL:https://jubel.se/biljetter/carola-46
LOCATION:Alive festival\, Borlänge
CATEGORIES:Festival
END:VEVENT
BEGIN:VEVENT
DTSTART;VALUE=DATE:20240704
DTEND;VALUE=DATE:20240705
DTSTAMP:20260425T045739
CREATED:20240603T125026Z
LAST-MODIFIED:20240603T125026Z
UID:10000735-1720051200-1720137599@jubel.se
SUMMARY:Mimikry
DESCRIPTION:
URL:https://jubel.se/biljetter/mimikry-4
LOCATION:Alive festival\, Borlänge
CATEGORIES:Festival
END:VEVENT
BEGIN:VEVENT
DTSTART;VALUE=DATE:20240704
DTEND;VALUE=DATE:20240705
DTSTAMP:20260425T045739
CREATED:20240330T133615Z
LAST-MODIFIED:20240330T135728Z
UID:10000568-1720051200-1720137599@jubel.se
SUMMARY:Carola
DESCRIPTION:
URL:https://jubel.se/biljetter/carola-64
LOCATION:Kongsberg Jazzfestival\, Kongsberg (NO)\, Norge
CATEGORIES:Festival
END:VEVENT
BEGIN:VEVENT
DTSTART;VALUE=DATE:20240703
DTEND;VALUE=DATE:20240704
DTSTAMP:20260425T045739
CREATED:20240216T091924Z
LAST-MODIFIED:20240216T091924Z
UID:10000543-1719964800-1720051199@jubel.se
SUMMARY:Carola
DESCRIPTION:
URL:https://jubel.se/biljetter/carola-58
LOCATION:Hotel Tylösand\, Halmstad
CATEGORIES:Konsert
END:VEVENT
BEGIN:VEVENT
DTSTART;TZID=Europe/Stockholm:20240629T190000
DTEND;TZID=Europe/Stockholm:20240629T220000
DTSTAMP:20260425T045739
CREATED:20240624T083814Z
LAST-MODIFIED:20240624T083814Z
UID:10000768-1719687600-1719698400@jubel.se
SUMMARY:Moa Lignell
DESCRIPTION:
URL:https://jubel.se/biljetter/moa-lignell-5
LOCATION:Humlehagen\, Glanshammar
END:VEVENT
BEGIN:VEVENT
DTSTART;VALUE=DATE:20240629
DTEND;VALUE=DATE:20240630
DTSTAMP:20260425T045739
CREATED:20240624T084814Z
LAST-MODIFIED:20240624T084814Z
UID:10000770-1719619200-1719705599@jubel.se
SUMMARY:Annika Wickihalder
DESCRIPTION:
URL:https://jubel.se/biljetter/annika-wickihalder-11
LOCATION:Lilltorpet\, Falun
CATEGORIES:Konsert
END:VEVENT
BEGIN:VEVENT
DTSTART;VALUE=DATE:20240629
DTEND;VALUE=DATE:20240630
DTSTAMP:20260425T045739
CREATED:20240624T084406Z
LAST-MODIFIED:20240624T084406Z
UID:10000769-1719619200-1719705599@jubel.se
SUMMARY:Engmans Kapell
DESCRIPTION:
URL:https://jubel.se/biljetter/engmans-kapell-22
LOCATION:Köpmanberget\, Hudiksvall
CATEGORIES:Konsert
END:VEVENT
BEGIN:VEVENT
DTSTART;VALUE=DATE:20240629
DTEND;VALUE=DATE:20240630
DTSTAMP:20260425T045739
CREATED:20240620T072717Z
LAST-MODIFIED:20240620T072717Z
UID:10000758-1719619200-1719705599@jubel.se
SUMMARY:Rebecca & Fiona
DESCRIPTION:
URL:https://jubel.se/biljetter/rebecca-fiona-17
LOCATION:HX-festivalen\, Helsingborg
CATEGORIES:Festival
END:VEVENT
BEGIN:VEVENT
DTSTART;VALUE=DATE:20240629
DTEND;VALUE=DATE:20240630
DTSTAMP:20260425T045739
CREATED:20240610T084931Z
LAST-MODIFIED:20240610T084931Z
UID:10000754-1719619200-1719705599@jubel.se
SUMMARY:Tomas Andersson Wij
DESCRIPTION:
URL:https://jubel.se/biljetter/tomas-andersson-wij-90
LOCATION:Slussens pensionat\, Henån
END:VEVENT
BEGIN:VEVENT
DTSTART;VALUE=DATE:20240629
DTEND;VALUE=DATE:20240630
DTSTAMP:20260425T045739
CREATED:20240604T125755Z
LAST-MODIFIED:20240604T125755Z
UID:10000742-1719619200-1719705599@jubel.se
SUMMARY:Lasse Holm
DESCRIPTION:
URL:https://jubel.se/biljetter/lasse-holm
LOCATION:Sommar i Svängsta\, Karlshamn
CATEGORIES:Konsert
END:VEVENT
BEGIN:VEVENT
DTSTART;VALUE=DATE:20240629
DTEND;VALUE=DATE:20240630
DTSTAMP:20260425T045739
CREATED:20240603T124914Z
LAST-MODIFIED:20240603T124914Z
UID:10000734-1719619200-1719705599@jubel.se
SUMMARY:Mimikry
DESCRIPTION:
URL:https://jubel.se/biljetter/mimikry-3
LOCATION:Subkultfestivalen\, Dalaborgsvägen 5\, Vänersborg\, 462 60
CATEGORIES:Festival
END:VEVENT
BEGIN:VEVENT
DTSTART;VALUE=DATE:20240629
DTEND;VALUE=DATE:20240630
DTSTAMP:20260425T045739
CREATED:20240516T080138Z
LAST-MODIFIED:20240516T080138Z
UID:10000685-1719619200-1719705599@jubel.se
SUMMARY:John Lindberg Trio
DESCRIPTION:
URL:https://jubel.se/biljetter/john-lindberg-trio-16
LOCATION:Small Lake Meet\, Hedekas
CATEGORIES:Konsert
END:VEVENT
BEGIN:VEVENT
DTSTART;VALUE=DATE:20240629
DTEND;VALUE=DATE:20240630
DTSTAMP:20260425T045739
CREATED:20240430T075213Z
LAST-MODIFIED:20240430T075213Z
UID:10000614-1719619200-1719705599@jubel.se
SUMMARY:Viktor Norén
DESCRIPTION:
URL:https://jubel.se/biljetter/viktor-noren-18
LOCATION:Galtströms Bruk\,  Njurunda
CATEGORIES:Konsert
END:VEVENT
END:VCALENDAR