BEGIN:VCALENDAR
VERSION:2.0
PRODID:-//Jubel - ECPv6.15.20//NONSGML v1.0//EN
CALSCALE:GREGORIAN
METHOD:PUBLISH
X-WR-CALNAME:Jubel
X-ORIGINAL-URL:https://jubel.se
X-WR-CALDESC:Händelser för Jubel
REFRESH-INTERVAL;VALUE=DURATION:PT1H
X-Robots-Tag:noindex
X-PUBLISHED-TTL:PT1H
BEGIN:VTIMEZONE
TZID:Europe/Stockholm
BEGIN:DAYLIGHT
TZOFFSETFROM:+0100
TZOFFSETTO:+0200
TZNAME:CEST
DTSTART:20220327T010000
END:DAYLIGHT
BEGIN:STANDARD
TZOFFSETFROM:+0200
TZOFFSETTO:+0100
TZNAME:CET
DTSTART:20221030T010000
END:STANDARD
BEGIN:DAYLIGHT
TZOFFSETFROM:+0100
TZOFFSETTO:+0200
TZNAME:CEST
DTSTART:20230326T010000
END:DAYLIGHT
BEGIN:STANDARD
TZOFFSETFROM:+0200
TZOFFSETTO:+0100
TZNAME:CET
DTSTART:20231029T010000
END:STANDARD
BEGIN:DAYLIGHT
TZOFFSETFROM:+0100
TZOFFSETTO:+0200
TZNAME:CEST
DTSTART:20240331T010000
END:DAYLIGHT
BEGIN:STANDARD
TZOFFSETFROM:+0200
TZOFFSETTO:+0100
TZNAME:CET
DTSTART:20241027T010000
END:STANDARD
END:VTIMEZONE
BEGIN:VEVENT
DTSTART;VALUE=DATE:20231206
DTEND;VALUE=DATE:20231207
DTSTAMP:20260425T123225
CREATED:20231010T142015Z
LAST-MODIFIED:20231013T082226Z
UID:10000405-1701820800-1701907199@jubel.se
SUMMARY:Engmans Kapell
DESCRIPTION:
URL:https://jubel.se/biljetter/engmans-kapell-5
LOCATION:Sundsvalls teater\, Sundsvall
END:VEVENT
BEGIN:VEVENT
DTSTART;VALUE=DATE:20231205
DTEND;VALUE=DATE:20231206
DTSTAMP:20260425T123225
CREATED:20231027T074744Z
LAST-MODIFIED:20231120T144837Z
UID:10000421-1701734400-1701820799@jubel.se
SUMMARY:Ainbusk x 3 "ett julkort från gotland"
DESCRIPTION:
URL:https://jubel.se/biljetter/ainbusk-x-3-ett-julkort-fran-gotland-9
LOCATION:Seglora kyrka\, Stockholm
CATEGORIES:Konsert
END:VEVENT
BEGIN:VEVENT
DTSTART;VALUE=DATE:20231203
DTEND;VALUE=DATE:20231204
DTSTAMP:20260425T123225
CREATED:20231116T184304Z
LAST-MODIFIED:20231116T184648Z
UID:10000444-1701561600-1701647999@jubel.se
SUMMARY:Ainbusk x 3
DESCRIPTION:
URL:https://jubel.se/biljetter/ainbusk-x-3
LOCATION:Seglora kyrka\, Stockholm
CATEGORIES:Konsert
END:VEVENT
BEGIN:VEVENT
DTSTART;VALUE=DATE:20231202
DTEND;VALUE=DATE:20231203
DTSTAMP:20260425T123225
CREATED:20231116T150029Z
LAST-MODIFIED:20231116T150029Z
UID:10000443-1701475200-1701561599@jubel.se
SUMMARY:Tomas Andersson Wij
DESCRIPTION:
URL:https://jubel.se/biljetter/tomas-andersson-wij-47
LOCATION:Kroppefjäll B&B\, Dals Rostock
CATEGORIES:Konsert
END:VEVENT
BEGIN:VEVENT
DTSTART;VALUE=DATE:20231201
DTEND;VALUE=DATE:20231202
DTSTAMP:20260425T123225
CREATED:20231110T143005Z
LAST-MODIFIED:20231113T091928Z
UID:10000437-1701388800-1701475199@jubel.se
SUMMARY:Tomas Andersson Wij
DESCRIPTION:
URL:https://jubel.se/biljetter/tomas-andersson-wij-46
LOCATION:Filipstads Kyrka\, Filipstad
CATEGORIES:Konsert
END:VEVENT
BEGIN:VEVENT
DTSTART;VALUE=DATE:20231126
DTEND;VALUE=DATE:20231127
DTSTAMP:20260425T123225
CREATED:20231023T094331Z
LAST-MODIFIED:20231120T164957Z
UID:10000420-1700956800-1701043199@jubel.se
SUMMARY:Ainbusk x 3 "Ett julkort från Gotland"
DESCRIPTION:
URL:https://jubel.se/biljetter/ainbusk-x-3-ett-julkort-fran-gotland-8
LOCATION:Domkyrkan\, Visby
CATEGORIES:Konsert
END:VEVENT
BEGIN:VEVENT
DTSTART;VALUE=DATE:20231126
DTEND;VALUE=DATE:20231127
DTSTAMP:20260425T123225
CREATED:20231016T123144Z
LAST-MODIFIED:20231120T165040Z
UID:10000411-1700956800-1701043199@jubel.se
SUMMARY:Ainbusk x 3 "Ett julkort från Gotland"
DESCRIPTION:
URL:https://jubel.se/biljetter/ainbusk-x-3-ett-julkort-fran-gotland
LOCATION:Domkyrkan\, Visby
CATEGORIES:Konsert
END:VEVENT
BEGIN:VEVENT
DTSTART;VALUE=DATE:20231125
DTEND;VALUE=DATE:20231126
DTSTAMP:20260425T123225
CREATED:20231102T165941Z
LAST-MODIFIED:20231102T165941Z
UID:10000425-1700870400-1700956799@jubel.se
SUMMARY:Ainbusk x 3 "Ett julkort från Gotland"
DESCRIPTION:
URL:https://jubel.se/biljetter/ainbusk-x-3-ett-julkort-fran-gotland-10
LOCATION:Domkyrkan\, Visby
CATEGORIES:Konsert
END:VEVENT
BEGIN:VEVENT
DTSTART;VALUE=DATE:20231118
DTEND;VALUE=DATE:20231119
DTSTAMP:20260425T123225
CREATED:20230221T090033Z
LAST-MODIFIED:20230330T084121Z
UID:10000163-1700265600-1700351999@jubel.se
SUMMARY:Carola
DESCRIPTION:
URL:https://jubel.se/biljetter/carola-26
LOCATION:Filadelfia Convention Center\, Stockholm
CATEGORIES:Konsert
END:VEVENT
BEGIN:VEVENT
DTSTART;VALUE=DATE:20231117
DTEND;VALUE=DATE:20231118
DTSTAMP:20260425T123225
CREATED:20230626T151619Z
LAST-MODIFIED:20230626T151619Z
UID:10000324-1700179200-1700265599@jubel.se
SUMMARY:Carola
DESCRIPTION:
URL:https://jubel.se/biljetter/carola-38
LOCATION:Filadelfia Convention Center\, Stockholm
CATEGORIES:Konsert
END:VEVENT
BEGIN:VEVENT
DTSTART;VALUE=DATE:20231112
DTEND;VALUE=DATE:20231113
DTSTAMP:20260425T123225
CREATED:20230626T151556Z
LAST-MODIFIED:20230626T151556Z
UID:10000323-1699747200-1699833599@jubel.se
SUMMARY:Carola
DESCRIPTION:
URL:https://jubel.se/biljetter/carola-37
LOCATION:Pingstkyrkan\, Jönköping
CATEGORIES:Konsert
END:VEVENT
BEGIN:VEVENT
DTSTART;VALUE=DATE:20231111
DTEND;VALUE=DATE:20231112
DTSTAMP:20260425T123225
CREATED:20230221T090054Z
LAST-MODIFIED:20230330T084121Z
UID:10000162-1699660800-1699747199@jubel.se
SUMMARY:Carola
DESCRIPTION:
URL:https://jubel.se/biljetter/carola-25
LOCATION:Pingstkyrkan\, Jönköping
CATEGORIES:Konsert
END:VEVENT
BEGIN:VEVENT
DTSTART;VALUE=DATE:20231109
DTEND;VALUE=DATE:20231110
DTSTAMP:20260425T123225
CREATED:20230914T085643Z
LAST-MODIFIED:20230914T085643Z
UID:10000373-1699488000-1699574399@jubel.se
SUMMARY:Moreau
DESCRIPTION:
URL:https://jubel.se/biljetter/moreau
LOCATION:Nalen\, Stockholm
CATEGORIES:Konsert
END:VEVENT
BEGIN:VEVENT
DTSTART;VALUE=DATE:20231107
DTEND;VALUE=DATE:20231108
DTSTAMP:20260425T123225
CREATED:20230531T083700Z
LAST-MODIFIED:20230602T075627Z
UID:10000303-1699315200-1699401599@jubel.se
SUMMARY:Jonas Eriksson
DESCRIPTION:
URL:https://jubel.se/biljetter/jonas-eriksson
LOCATION:Väven\, Umeå
CATEGORIES:Föreställning
END:VEVENT
BEGIN:VEVENT
DTSTART;VALUE=DATE:20231106
DTEND;VALUE=DATE:20231107
DTSTAMP:20260425T123225
CREATED:20230531T083728Z
LAST-MODIFIED:20230602T075617Z
UID:10000302-1699228800-1699315199@jubel.se
SUMMARY:Jonas Eriksson
DESCRIPTION:
URL:https://jubel.se/biljetter/jonas-eriksson-2
LOCATION:Kulturens Hus\, Luleå
CATEGORIES:Föreställning
END:VEVENT
BEGIN:VEVENT
DTSTART;VALUE=DATE:20231105
DTEND;VALUE=DATE:20231106
DTSTAMP:20260425T123225
CREATED:20230626T151537Z
LAST-MODIFIED:20230626T151537Z
UID:10000322-1699142400-1699228799@jubel.se
SUMMARY:Carola
DESCRIPTION:
URL:https://jubel.se/biljetter/carola-36
LOCATION:Frihamnskyrkan\, Göteborg
CATEGORIES:Konsert
END:VEVENT
BEGIN:VEVENT
DTSTART;VALUE=DATE:20231104
DTEND;VALUE=DATE:20231105
DTSTAMP:20260425T123225
CREATED:20230628T080023Z
LAST-MODIFIED:20230628T073633Z
UID:10000333-1699056000-1699142399@jubel.se
SUMMARY:Dark Funeral
DESCRIPTION:
URL:https://jubel.se/biljetter/dark-funeral-7
LOCATION:The Tivoli\, Helsingborg
CATEGORIES:Konsert
END:VEVENT
BEGIN:VEVENT
DTSTART;VALUE=DATE:20231104
DTEND;VALUE=DATE:20231105
DTSTAMP:20260425T123225
CREATED:20230221T090016Z
LAST-MODIFIED:20230626T151900Z
UID:10000161-1699056000-1699142399@jubel.se
SUMMARY:Carola
DESCRIPTION:
URL:https://jubel.se/biljetter/carola-24
LOCATION:Frihamnskyrkan\, Göteborg
CATEGORIES:Konsert
END:VEVENT
BEGIN:VEVENT
DTSTART;VALUE=DATE:20231103
DTEND;VALUE=DATE:20231104
DTSTAMP:20260425T123225
CREATED:20230628T080053Z
LAST-MODIFIED:20230627T193015Z
UID:10000332-1698969600-1699055999@jubel.se
SUMMARY:Dark Funeral
DESCRIPTION:
URL:https://jubel.se/biljetter/dark-funeral-6
LOCATION:Frimis\, Örebro
CATEGORIES:Konsert
END:VEVENT
BEGIN:VEVENT
DTSTART;VALUE=DATE:20231102
DTEND;VALUE=DATE:20231103
DTSTAMP:20260425T123225
CREATED:20230929T134635Z
LAST-MODIFIED:20230929T134635Z
UID:10000377-1698883200-1698969599@jubel.se
SUMMARY:Per Persson & Nya Packet
DESCRIPTION:
URL:https://jubel.se/biljetter/per-persson-nya-packet-25
LOCATION:Pustervik\, Göteborg
CATEGORIES:Konsert
END:VEVENT
BEGIN:VEVENT
DTSTART;VALUE=DATE:20231029
DTEND;VALUE=DATE:20231030
DTSTAMP:20260425T123225
CREATED:20231004T161904Z
LAST-MODIFIED:20231004T162015Z
UID:10000380-1698537600-1698623999@jubel.se
SUMMARY:Robert Gustafsson
DESCRIPTION:
URL:https://jubel.se/biljetter/robert-gustafsson-6
LOCATION:Cassels konsert- och kulturhus\, Grängesberg
CATEGORIES:Föreställning
END:VEVENT
BEGIN:VEVENT
DTSTART;VALUE=DATE:20231028
DTEND;VALUE=DATE:20231029
DTSTAMP:20260425T123225
CREATED:20230914T090001Z
LAST-MODIFIED:20230914T090140Z
UID:10000374-1698451200-1698537599@jubel.se
SUMMARY:Hudikkalaset flyttar in
DESCRIPTION:
URL:https://jubel.se/biljetter/hudikkalaset-flyttar-in
LOCATION:Aktivitetsfabriken\, Hudiksvall
CATEGORIES:Konsert
END:VEVENT
BEGIN:VEVENT
DTSTART;VALUE=DATE:20231028
DTEND;VALUE=DATE:20231029
DTSTAMP:20260425T123225
CREATED:20230911T130614Z
LAST-MODIFIED:20230913T080157Z
UID:10000369-1698451200-1698537599@jubel.se
SUMMARY:Per Persson & Nya Packet
DESCRIPTION:
URL:https://jubel.se/biljetter/per-persson-nya-packet-23
LOCATION:Hudiksvalls teater\, Hudiksvall
CATEGORIES:Konsert
END:VEVENT
BEGIN:VEVENT
DTSTART;VALUE=DATE:20231028
DTEND;VALUE=DATE:20231029
DTSTAMP:20260425T123225
CREATED:20230628T080053Z
LAST-MODIFIED:20230628T073536Z
UID:10000331-1698451200-1698537599@jubel.se
SUMMARY:Dark Funeral
DESCRIPTION:
URL:https://jubel.se/biljetter/dark-funeral-5
LOCATION:Folkets Hus Kulturhuset\, Trollhättan
CATEGORIES:Konsert
END:VEVENT
BEGIN:VEVENT
DTSTART;VALUE=DATE:20231028
DTEND;VALUE=DATE:20231029
DTSTAMP:20260425T123225
CREATED:20230621T093323Z
LAST-MODIFIED:20230621T093323Z
UID:10000312-1698451200-1698537599@jubel.se
SUMMARY:Sofia Karlsson
DESCRIPTION:
URL:https://jubel.se/biljetter/sofia-karlsson-25
LOCATION:Hotell Klockargården\, Tällberg
CATEGORIES:Konsert
END:VEVENT
BEGIN:VEVENT
DTSTART;VALUE=DATE:20231027
DTEND;VALUE=DATE:20231028
DTSTAMP:20260425T123225
CREATED:20230830T080747Z
LAST-MODIFIED:20230830T080747Z
UID:10000348-1698364800-1698451199@jubel.se
SUMMARY:Sofia Karlsson
DESCRIPTION:
URL:https://jubel.se/biljetter/sofia-karlsson-30
LOCATION:Avesta teater\, Avesta
CATEGORIES:Konsert
END:VEVENT
BEGIN:VEVENT
DTSTART;VALUE=DATE:20231027
DTEND;VALUE=DATE:20231028
DTSTAMP:20260425T123225
CREATED:20230628T080032Z
LAST-MODIFIED:20230627T192844Z
UID:10000330-1698364800-1698451199@jubel.se
SUMMARY:Dark Funeral
DESCRIPTION:
URL:https://jubel.se/biljetter/dark-funeral-4
LOCATION:Katalin\, Uppsala
CATEGORIES:Konsert
END:VEVENT
BEGIN:VEVENT
DTSTART;VALUE=DATE:20231026
DTEND;VALUE=DATE:20231027
DTSTAMP:20260425T123225
CREATED:20230628T080054Z
LAST-MODIFIED:20230628T073454Z
UID:10000329-1698278400-1698364799@jubel.se
SUMMARY:Dark Funeral
DESCRIPTION:
URL:https://jubel.se/biljetter/dark-funeral-3
LOCATION:Kollektivet Livet\, Stockholm
CATEGORIES:Konsert
END:VEVENT
BEGIN:VEVENT
DTSTART;VALUE=DATE:20231026
DTEND;VALUE=DATE:20231027
DTSTAMP:20260425T123225
CREATED:20230531T083739Z
LAST-MODIFIED:20230602T075605Z
UID:10000301-1698278400-1698364799@jubel.se
SUMMARY:Jonas Eriksson
DESCRIPTION:
URL:https://jubel.se/biljetter/jonas-eriksson-3
LOCATION:Hörsalen\, Norrköping
CATEGORIES:Föreställning
END:VEVENT
BEGIN:VEVENT
DTSTART;VALUE=DATE:20231025
DTEND;VALUE=DATE:20231026
DTSTAMP:20260425T123225
CREATED:20230531T083822Z
LAST-MODIFIED:20230602T075516Z
UID:10000300-1698192000-1698278399@jubel.se
SUMMARY:Jonas Eriksson
DESCRIPTION:
URL:https://jubel.se/biljetter/jonas-eriksson-7
LOCATION:Hjalmar Bergmanteatern\, Örebro
CATEGORIES:Föreställning
END:VEVENT
END:VCALENDAR