BEGIN:VCALENDAR
VERSION:2.0
PRODID:-//Jubel - ECPv6.15.20//NONSGML v1.0//EN
CALSCALE:GREGORIAN
METHOD:PUBLISH
X-WR-CALNAME:Jubel
X-ORIGINAL-URL:https://jubel.se
X-WR-CALDESC:Händelser för Jubel
REFRESH-INTERVAL;VALUE=DURATION:PT1H
X-Robots-Tag:noindex
X-PUBLISHED-TTL:PT1H
BEGIN:VTIMEZONE
TZID:Europe/Stockholm
BEGIN:DAYLIGHT
TZOFFSETFROM:+0100
TZOFFSETTO:+0200
TZNAME:CEST
DTSTART:20220327T010000
END:DAYLIGHT
BEGIN:STANDARD
TZOFFSETFROM:+0200
TZOFFSETTO:+0100
TZNAME:CET
DTSTART:20221030T010000
END:STANDARD
BEGIN:DAYLIGHT
TZOFFSETFROM:+0100
TZOFFSETTO:+0200
TZNAME:CEST
DTSTART:20230326T010000
END:DAYLIGHT
BEGIN:STANDARD
TZOFFSETFROM:+0200
TZOFFSETTO:+0100
TZNAME:CET
DTSTART:20231029T010000
END:STANDARD
BEGIN:DAYLIGHT
TZOFFSETFROM:+0100
TZOFFSETTO:+0200
TZNAME:CEST
DTSTART:20240331T010000
END:DAYLIGHT
BEGIN:STANDARD
TZOFFSETFROM:+0200
TZOFFSETTO:+0100
TZNAME:CET
DTSTART:20241027T010000
END:STANDARD
END:VTIMEZONE
BEGIN:VEVENT
DTSTART;VALUE=DATE:20231014
DTEND;VALUE=DATE:20231015
DTSTAMP:20260425T135739
CREATED:20230907T122347Z
LAST-MODIFIED:20230907T125350Z
UID:10000367-1697241600-1697327999@jubel.se
SUMMARY:Robert Gustafsson
DESCRIPTION:
URL:https://jubel.se/biljetter/robert-gustafsson-4
LOCATION:Sundstaaulan\, Karlstad
CATEGORIES:Föreställning
END:VEVENT
BEGIN:VEVENT
DTSTART;VALUE=DATE:20231014
DTEND;VALUE=DATE:20231015
DTSTAMP:20260425T135739
CREATED:20230828T140059Z
LAST-MODIFIED:20230828T140253Z
UID:10000345-1697241600-1697327999@jubel.se
SUMMARY:Division 7
DESCRIPTION:
URL:https://jubel.se/biljetter/division-7-2
LOCATION:Plan B\, Malmö\, Sverige
CATEGORIES:Konsert
END:VEVENT
BEGIN:VEVENT
DTSTART;VALUE=DATE:20231014
DTEND;VALUE=DATE:20231015
DTSTAMP:20260425T135739
CREATED:20230822T145852Z
LAST-MODIFIED:20230825T081831Z
UID:10000341-1697241600-1697327999@jubel.se
SUMMARY:Viktor Norén
DESCRIPTION:
URL:https://jubel.se/biljetter/viktor-noren-16
LOCATION:Cozmoz Arena\, Borlänge
CATEGORIES:Konsert
END:VEVENT
BEGIN:VEVENT
DTSTART;VALUE=DATE:20231014
DTEND;VALUE=DATE:20231015
DTSTAMP:20260425T135739
CREATED:20230628T080022Z
LAST-MODIFIED:20230627T192744Z
UID:10000328-1697241600-1697327999@jubel.se
SUMMARY:Dark Funeral
DESCRIPTION:
URL:https://jubel.se/biljetter/dark-funeral-2
LOCATION:Kulturens Hus\, Luleå
CATEGORIES:Konsert
END:VEVENT
BEGIN:VEVENT
DTSTART;VALUE=DATE:20231014
DTEND;VALUE=DATE:20231015
DTSTAMP:20260425T135739
CREATED:20230221T090048Z
LAST-MODIFIED:20230330T084121Z
UID:10000159-1697241600-1697327999@jubel.se
SUMMARY:Carola
DESCRIPTION:
URL:https://jubel.se/biljetter/carola-22
LOCATION:Sara Kulturhus\, Skellefteå
CATEGORIES:Konsert
END:VEVENT
BEGIN:VEVENT
DTSTART;VALUE=DATE:20231013
DTEND;VALUE=DATE:20231014
DTSTAMP:20260425T135739
CREATED:20230913T095436Z
LAST-MODIFIED:20230913T095655Z
UID:10000371-1697155200-1697241599@jubel.se
SUMMARY:Tomas Andersson Wij
DESCRIPTION:
URL:https://jubel.se/biljetter/tomas-andersson-wij-44
LOCATION:Madesjö kyrka\, Nybro
CATEGORIES:Konsert
END:VEVENT
BEGIN:VEVENT
DTSTART;VALUE=DATE:20231013
DTEND;VALUE=DATE:20231014
DTSTAMP:20260425T135739
CREATED:20230227T110011Z
LAST-MODIFIED:20230626T151733Z
UID:10000164-1697155200-1697241599@jubel.se
SUMMARY:Carola
DESCRIPTION:
URL:https://jubel.se/biljetter/carola-28
LOCATION:Sara Kulturhus\, Skellefteå
CATEGORIES:Konsert
END:VEVENT
BEGIN:VEVENT
DTSTART;VALUE=DATE:20231011
DTEND;VALUE=DATE:20231012
DTSTAMP:20260425T135739
CREATED:20230531T083810Z
LAST-MODIFIED:20230602T075542Z
UID:10000297-1696982400-1697068799@jubel.se
SUMMARY:Jonas Eriksson
DESCRIPTION:
URL:https://jubel.se/biljetter/jonas-eriksson-6
LOCATION:Lisebergsteatern\, Göteborg
CATEGORIES:Föreställning
END:VEVENT
BEGIN:VEVENT
DTSTART;VALUE=DATE:20231008
DTEND;VALUE=DATE:20231009
DTSTAMP:20260425T135739
CREATED:20230907T122224Z
LAST-MODIFIED:20230908T091032Z
UID:10000366-1696723200-1696809599@jubel.se
SUMMARY:Robert Gustafsson
DESCRIPTION:
URL:https://jubel.se/biljetter/robert-gustafsson-3
LOCATION:Estrad\, Södertälje
CATEGORIES:Föreställning
END:VEVENT
BEGIN:VEVENT
DTSTART;VALUE=DATE:20231008
DTEND;VALUE=DATE:20231009
DTSTAMP:20260425T135739
CREATED:20230626T151412Z
LAST-MODIFIED:20230626T151412Z
UID:10000320-1696723200-1696809599@jubel.se
SUMMARY:Carola
DESCRIPTION:
URL:https://jubel.se/biljetter/carola-34
LOCATION:Clarion Sea U\, Helsingborg
CATEGORIES:Konsert
END:VEVENT
BEGIN:VEVENT
DTSTART;VALUE=DATE:20231007
DTEND;VALUE=DATE:20231008
DTSTAMP:20260425T135739
CREATED:20230626T151325Z
LAST-MODIFIED:20230626T151325Z
UID:10000319-1696636800-1696723199@jubel.se
SUMMARY:Carola
DESCRIPTION:
URL:https://jubel.se/biljetter/carola-33
LOCATION:Västerås Kongress\, Västerås
CATEGORIES:Konsert
END:VEVENT
BEGIN:VEVENT
DTSTART;VALUE=DATE:20231007
DTEND;VALUE=DATE:20231008
DTSTAMP:20260425T135739
CREATED:20230621T070051Z
LAST-MODIFIED:20230612T125815Z
UID:10000310-1696636800-1696723199@jubel.se
SUMMARY:Engmans Kapell
DESCRIPTION:
URL:https://jubel.se/biljetter/engmans-kapell-4
LOCATION:Kulturhuset Stadsteatern\, Stockholm
CATEGORIES:Konsert
END:VEVENT
BEGIN:VEVENT
DTSTART;VALUE=DATE:20231006
DTEND;VALUE=DATE:20231007
DTSTAMP:20260425T135739
CREATED:20230626T151153Z
LAST-MODIFIED:20230626T151153Z
UID:10000318-1696550400-1696636799@jubel.se
SUMMARY:Carola
DESCRIPTION:
URL:https://jubel.se/biljetter/carola-32
LOCATION:Crusellhallen\, Linköping
CATEGORIES:Konsert
END:VEVENT
BEGIN:VEVENT
DTSTART;VALUE=DATE:20230930
DTEND;VALUE=DATE:20231001
DTSTAMP:20260425T135739
CREATED:20230221T090053Z
LAST-MODIFIED:20230330T084121Z
UID:10000157-1696032000-1696118399@jubel.se
SUMMARY:Carola
DESCRIPTION:
URL:https://jubel.se/biljetter/carola-21
LOCATION:Gävle Konserthus\, Gävle
CATEGORIES:Konsert
END:VEVENT
BEGIN:VEVENT
DTSTART;VALUE=DATE:20230929
DTEND;VALUE=DATE:20230930
DTSTAMP:20260425T135739
CREATED:20230626T151112Z
LAST-MODIFIED:20230626T151112Z
UID:10000317-1695945600-1696031999@jubel.se
SUMMARY:Carola
DESCRIPTION:
URL:https://jubel.se/biljetter/carola-31
LOCATION:Tonhallen\, Sundsvall
CATEGORIES:Konsert
END:VEVENT
BEGIN:VEVENT
DTSTART;VALUE=DATE:20230924
DTEND;VALUE=DATE:20230925
DTSTAMP:20260425T135739
CREATED:20230907T121933Z
LAST-MODIFIED:20230907T125701Z
UID:10000364-1695513600-1695599999@jubel.se
SUMMARY:Robert Gustafsson
DESCRIPTION:
URL:https://jubel.se/biljetter/robert-gustafsson
LOCATION:Crusellhallen\, Linköping
CATEGORIES:Föreställning
END:VEVENT
BEGIN:VEVENT
DTSTART;VALUE=DATE:20230924
DTEND;VALUE=DATE:20230925
DTSTAMP:20260425T135739
CREATED:20230808T062540Z
LAST-MODIFIED:20230830T080837Z
UID:10000339-1695513600-1695599999@jubel.se
SUMMARY:Sofia Karlsson
DESCRIPTION:
URL:https://jubel.se/biljetter/sofia-karlsson-27
LOCATION:Laholms teater\, Laholm\, Sverige
CATEGORIES:Konsert
END:VEVENT
BEGIN:VEVENT
DTSTART;VALUE=DATE:20230916
DTEND;VALUE=DATE:20230917
DTSTAMP:20260425T135739
CREATED:20230828T134501Z
LAST-MODIFIED:20230828T134501Z
UID:10000344-1694822400-1694908799@jubel.se
SUMMARY:Division 7
DESCRIPTION:
URL:https://jubel.se/biljetter/division-7
LOCATION:Pustervik\, Göteborg
CATEGORIES:Konsert
END:VEVENT
BEGIN:VEVENT
DTSTART;VALUE=DATE:20230916
DTEND;VALUE=DATE:20230917
DTSTAMP:20260425T135739
CREATED:20230513T231446Z
LAST-MODIFIED:20230513T231446Z
UID:10000279-1694822400-1694908799@jubel.se
SUMMARY:Cornelia Jakobs
DESCRIPTION:
URL:https://jubel.se/biljetter/cornelia-jakobs-22
LOCATION:Kulturnatten\, Sundstorget\, Höganäs
CATEGORIES:Konsert
END:VEVENT
BEGIN:VEVENT
DTSTART;VALUE=DATE:20230909
DTEND;VALUE=DATE:20230910
DTSTAMP:20260425T135739
CREATED:20230525T092831Z
LAST-MODIFIED:20230525T092831Z
UID:10000296-1694217600-1694303999@jubel.se
SUMMARY:Maxida Märak
DESCRIPTION:
URL:https://jubel.se/biljetter/maxida-marak-9
LOCATION:Härlig är jorden\, Falun
CATEGORIES:Konsert
END:VEVENT
BEGIN:VEVENT
DTSTART;VALUE=DATE:20230909
DTEND;VALUE=DATE:20230910
DTSTAMP:20260425T135739
CREATED:20230116T133814Z
LAST-MODIFIED:20230908T080129Z
UID:10000128-1694217600-1694303999@jubel.se
SUMMARY:Engmans Kapell
DESCRIPTION:
URL:https://jubel.se/biljetter/engmans-kapell
LOCATION:Ystegårn\, Forsa
CATEGORIES:Konsert
END:VEVENT
BEGIN:VEVENT
DTSTART;VALUE=DATE:20230902
DTEND;VALUE=DATE:20230903
DTSTAMP:20260425T135739
CREATED:20230830T080615Z
LAST-MODIFIED:20230830T080615Z
UID:10000346-1693612800-1693699199@jubel.se
SUMMARY:Sofia Karlsson
DESCRIPTION:
URL:https://jubel.se/biljetter/sofia-karlsson-28
LOCATION:Kulturfest i Kulturkvarteret\, Bollnäs
CATEGORIES:Festival
END:VEVENT
BEGIN:VEVENT
DTSTART;VALUE=DATE:20230902
DTEND;VALUE=DATE:20230903
DTSTAMP:20260425T135739
CREATED:20230825T111620Z
LAST-MODIFIED:20230825T111620Z
UID:10000343-1693612800-1693699199@jubel.se
SUMMARY:Rebecca & Fiona
DESCRIPTION:
URL:https://jubel.se/biljetter/rebecca-fiona-8
LOCATION:Woodland\, Torön\, Järvsö
CATEGORIES:Konsert
END:VEVENT
BEGIN:VEVENT
DTSTART;VALUE=DATE:20230902
DTEND;VALUE=DATE:20230903
DTSTAMP:20260425T135739
CREATED:20230525T092622Z
LAST-MODIFIED:20230525T092622Z
UID:10000295-1693612800-1693699199@jubel.se
SUMMARY:Maxida Märak
DESCRIPTION:
URL:https://jubel.se/biljetter/maxida-marak-8
LOCATION:Woodland\, Torön\, Järvsö
CATEGORIES:Konsert
END:VEVENT
BEGIN:VEVENT
DTSTART;VALUE=DATE:20230902
DTEND;VALUE=DATE:20230903
DTSTAMP:20260425T135739
CREATED:20230221T090023Z
LAST-MODIFIED:20230330T084121Z
UID:10000156-1693612800-1693699199@jubel.se
SUMMARY:Carola
DESCRIPTION:
URL:https://jubel.se/biljetter/carola-20
LOCATION:Spektrum\, Oslo\, NO
CATEGORIES:Konsert
END:VEVENT
BEGIN:VEVENT
DTSTART;VALUE=DATE:20230901
DTEND;VALUE=DATE:20230902
DTSTAMP:20260425T135739
CREATED:20230529T133500Z
LAST-MODIFIED:20230529T133620Z
UID:10000304-1693526400-1693612799@jubel.se
SUMMARY:Tomas Andersson Wij
DESCRIPTION:
URL:https://jubel.se/biljetter/tomas-andersson-wij-41
LOCATION:Woodland\, Torön\, Järvsö
CATEGORIES:Festival
END:VEVENT
BEGIN:VEVENT
DTSTART;VALUE=DATE:20230830
DTEND;VALUE=DATE:20230831
DTSTAMP:20260425T135739
CREATED:20230830T080654Z
LAST-MODIFIED:20230830T080654Z
UID:10000347-1693353600-1693439999@jubel.se
SUMMARY:Sofia Karlsson
DESCRIPTION:
URL:https://jubel.se/biljetter/sofia-karlsson-29
LOCATION:Järvsö Summit\, Järvsö kyrka\, Järvsö
CATEGORIES:Konsert
END:VEVENT
BEGIN:VEVENT
DTSTART;VALUE=DATE:20230830
DTEND;VALUE=DATE:20230831
DTSTAMP:20260425T135739
CREATED:20230825T111549Z
LAST-MODIFIED:20230825T111549Z
UID:10000342-1693353600-1693439999@jubel.se
SUMMARY:Rebecca & Fiona
DESCRIPTION:
URL:https://jubel.se/biljetter/rebecca-fiona-7
LOCATION:Lilla Torg\, Kristianstad
CATEGORIES:Konsert
END:VEVENT
BEGIN:VEVENT
DTSTART;VALUE=DATE:20230828
DTEND;VALUE=DATE:20230829
DTSTAMP:20260425T135739
CREATED:20230330T080623Z
LAST-MODIFIED:20230823T152152Z
UID:10000200-1693180800-1693267199@jubel.se
SUMMARY:Viktor Norén
DESCRIPTION:
URL:https://jubel.se/biljetter/viktor-noren-12
LOCATION:Mosebacketerassen\, Stockholm
CATEGORIES:Konsert
END:VEVENT
BEGIN:VEVENT
DTSTART;VALUE=DATE:20230826
DTEND;VALUE=DATE:20230827
DTSTAMP:20260425T135740
CREATED:20230427T144137Z
LAST-MODIFIED:20230427T144137Z
UID:10000265-1693008000-1693094399@jubel.se
SUMMARY:Cornelia Jakobs
DESCRIPTION:
URL:https://jubel.se/biljetter/cornelia-jakobs-16
LOCATION:Eksjö stadsfest\, Eksjö
CATEGORIES:Konsert
END:VEVENT
END:VCALENDAR