BEGIN:VCALENDAR
VERSION:2.0
PRODID:-//Jubel - ECPv6.15.20//NONSGML v1.0//EN
CALSCALE:GREGORIAN
METHOD:PUBLISH
X-WR-CALNAME:Jubel
X-ORIGINAL-URL:https://jubel.se
X-WR-CALDESC:Händelser för Jubel
REFRESH-INTERVAL;VALUE=DURATION:PT1H
X-Robots-Tag:noindex
X-PUBLISHED-TTL:PT1H
BEGIN:VTIMEZONE
TZID:Europe/Stockholm
BEGIN:DAYLIGHT
TZOFFSETFROM:+0100
TZOFFSETTO:+0200
TZNAME:CEST
DTSTART:20220327T010000
END:DAYLIGHT
BEGIN:STANDARD
TZOFFSETFROM:+0200
TZOFFSETTO:+0100
TZNAME:CET
DTSTART:20221030T010000
END:STANDARD
BEGIN:DAYLIGHT
TZOFFSETFROM:+0100
TZOFFSETTO:+0200
TZNAME:CEST
DTSTART:20230326T010000
END:DAYLIGHT
BEGIN:STANDARD
TZOFFSETFROM:+0200
TZOFFSETTO:+0100
TZNAME:CET
DTSTART:20231029T010000
END:STANDARD
BEGIN:DAYLIGHT
TZOFFSETFROM:+0100
TZOFFSETTO:+0200
TZNAME:CEST
DTSTART:20240331T010000
END:DAYLIGHT
BEGIN:STANDARD
TZOFFSETFROM:+0200
TZOFFSETTO:+0100
TZNAME:CET
DTSTART:20241027T010000
END:STANDARD
END:VTIMEZONE
BEGIN:VEVENT
DTSTART;VALUE=DATE:20230819
DTEND;VALUE=DATE:20230820
DTSTAMP:20260425T152357
CREATED:20230323T125740Z
LAST-MODIFIED:20230330T084121Z
UID:10000184-1692403200-1692489599@jubel.se
SUMMARY:Per Persson & Nya Packet
DESCRIPTION:
URL:https://jubel.se/biljetter/per-persson-nya-packet-10
LOCATION:Stallarholmens Visdagar\, Stallarholmen
CATEGORIES:Konsert
END:VEVENT
BEGIN:VEVENT
DTSTART;VALUE=DATE:20230818
DTEND;VALUE=DATE:20230819
DTSTAMP:20260425T152357
CREATED:20230525T091817Z
LAST-MODIFIED:20230525T092526Z
UID:10000292-1692316800-1692403199@jubel.se
SUMMARY:Maxida Märak
DESCRIPTION:
URL:https://jubel.se/biljetter/maxida-marak-5
LOCATION:LJAHIS IDJA\, INARI (FI)
CATEGORIES:Konsert
END:VEVENT
BEGIN:VEVENT
DTSTART;VALUE=DATE:20230818
DTEND;VALUE=DATE:20230819
DTSTAMP:20260425T152357
CREATED:20230420T075432Z
LAST-MODIFIED:20230420T080121Z
UID:10000254-1692316800-1692403199@jubel.se
SUMMARY:Per Persson & Nya Packet
DESCRIPTION:
URL:https://jubel.se/biljetter/per-persson-nya-packet-22
LOCATION:Nöjesfabriken\, Karlstad
CATEGORIES:Konsert
END:VEVENT
BEGIN:VEVENT
DTSTART;VALUE=DATE:20230818
DTEND;VALUE=DATE:20230819
DTSTAMP:20260425T152357
CREATED:20230418T184809Z
LAST-MODIFIED:20230621T092654Z
UID:10000243-1692316800-1692403199@jubel.se
SUMMARY:Sofia Karlsson
DESCRIPTION:
URL:https://jubel.se/biljetter/sofia-karlsson-23
LOCATION:Vadstena Klosterkyrka\, Vadstena
CATEGORIES:Konsert
END:VEVENT
BEGIN:VEVENT
DTSTART;VALUE=DATE:20230818
DTEND;VALUE=DATE:20230819
DTSTAMP:20260425T152357
CREATED:20230323T125707Z
LAST-MODIFIED:20230403T083615Z
UID:10000183-1692316800-1692403199@jubel.se
SUMMARY:Tomas Andersson Wij
DESCRIPTION:
URL:https://jubel.se/biljetter/tomas-andersson-wij-27
LOCATION:Stallarholmens Visdagar\, Stallarholmen
CATEGORIES:Konsert
END:VEVENT
BEGIN:VEVENT
DTSTART;VALUE=DATE:20230815
DTEND;VALUE=DATE:20230816
DTSTAMP:20260425T152357
CREATED:20230627T090033Z
LAST-MODIFIED:20230627T090033Z
UID:10000325-1692057600-1692143999@jubel.se
SUMMARY:Sofia Karlsson
DESCRIPTION:
URL:https://jubel.se/biljetter/sofia-karlsson-26
LOCATION:Stortorget\, Malmö
CATEGORIES:Festival
END:VEVENT
BEGIN:VEVENT
DTSTART;VALUE=DATE:20230812
DTEND;VALUE=DATE:20230813
DTSTAMP:20260425T152357
CREATED:20230427T144042Z
LAST-MODIFIED:20230427T144117Z
UID:10000264-1691798400-1691884799@jubel.se
SUMMARY:Cornelia Jakobs
DESCRIPTION:
URL:https://jubel.se/biljetter/cornelia-jakobs-15
LOCATION:Kalmar stadsfest\, Kalmar
CATEGORIES:Konsert
END:VEVENT
BEGIN:VEVENT
DTSTART;VALUE=DATE:20230812
DTEND;VALUE=DATE:20230813
DTSTAMP:20260425T152357
CREATED:20230420T075348Z
LAST-MODIFIED:20230420T075906Z
UID:10000253-1691798400-1691884799@jubel.se
SUMMARY:Per Persson & Nya Packet
DESCRIPTION:
URL:https://jubel.se/biljetter/per-persson-nya-packet-21
LOCATION:Wira Bruk\, Åkersberga
CATEGORIES:Konsert
END:VEVENT
BEGIN:VEVENT
DTSTART;VALUE=DATE:20230812
DTEND;VALUE=DATE:20230813
DTSTAMP:20260425T152357
CREATED:20230322T112802Z
LAST-MODIFIED:20230405T075930Z
UID:10000177-1691798400-1691884799@jubel.se
SUMMARY:Tomas Andersson Wij
DESCRIPTION:
URL:https://jubel.se/biljetter/tomas-andersson-wij-26
LOCATION:Galgbergsfestivalen\, Halmstad
CATEGORIES:Konsert
END:VEVENT
BEGIN:VEVENT
DTSTART;VALUE=DATE:20230812
DTEND;VALUE=DATE:20230813
DTSTAMP:20260425T152357
CREATED:20230221T090034Z
LAST-MODIFIED:20230330T084121Z
UID:10000153-1691798400-1691884799@jubel.se
SUMMARY:Carola
DESCRIPTION:
URL:https://jubel.se/biljetter/carola-17
LOCATION:Vadstena slott\, Vadstena
CATEGORIES:Konsert
END:VEVENT
BEGIN:VEVENT
DTSTART;VALUE=DATE:20230811
DTEND;VALUE=DATE:20230812
DTSTAMP:20260425T152357
CREATED:20230704T090021Z
LAST-MODIFIED:20230629T122736Z
UID:10000334-1691712000-1691798399@jubel.se
SUMMARY:Rebecca & Fiona
DESCRIPTION:
URL:https://jubel.se/biljetter/rebecca-fiona-6
LOCATION:Way Out West\, Göteborg
CATEGORIES:Festival
END:VEVENT
BEGIN:VEVENT
DTSTART;VALUE=DATE:20230811
DTEND;VALUE=DATE:20230812
DTSTAMP:20260425T152357
CREATED:20230525T092001Z
LAST-MODIFIED:20230525T092001Z
UID:10000293-1691712000-1691798399@jubel.se
SUMMARY:Maxida Märak
DESCRIPTION:
URL:https://jubel.se/biljetter/maxida-marak-6
LOCATION:Kalmar stadsfest\, Kalmar
CATEGORIES:Konsert
END:VEVENT
BEGIN:VEVENT
DTSTART;VALUE=DATE:20230811
DTEND;VALUE=DATE:20230812
DTSTAMP:20260425T152357
CREATED:20230513T231357Z
LAST-MODIFIED:20230513T231357Z
UID:10000278-1691712000-1691798399@jubel.se
SUMMARY:Cornelia Jakobs
DESCRIPTION:
URL:https://jubel.se/biljetter/cornelia-jakobs-21
LOCATION:Ystad Saltsjöbad\, Ystad
CATEGORIES:Konsert
END:VEVENT
BEGIN:VEVENT
DTSTART;VALUE=DATE:20230811
DTEND;VALUE=DATE:20230812
DTSTAMP:20260425T152357
CREATED:20230403T080521Z
LAST-MODIFIED:20230403T083437Z
UID:10000212-1691712000-1691798399@jubel.se
SUMMARY:Tomas Andersson Wij
DESCRIPTION:
URL:https://jubel.se/biljetter/tomas-andersson-wij-38
LOCATION:Wira Tingshuset\, Norrtälje
CATEGORIES:Konsert
END:VEVENT
BEGIN:VEVENT
DTSTART;VALUE=DATE:20230811
DTEND;VALUE=DATE:20230812
DTSTAMP:20260425T152357
CREATED:20230330T080543Z
LAST-MODIFIED:20230403T074642Z
UID:10000198-1691712000-1691798399@jubel.se
SUMMARY:Viktor Norén
DESCRIPTION:
URL:https://jubel.se/biljetter/viktor-noren-10
LOCATION:Bruket i Wiared\, Borås
CATEGORIES:Konsert
END:VEVENT
BEGIN:VEVENT
DTSTART;VALUE=DATE:20230811
DTEND;VALUE=DATE:20230812
DTSTAMP:20260425T152357
CREATED:20230221T090001Z
LAST-MODIFIED:20230330T084121Z
UID:10000152-1691712000-1691798399@jubel.se
SUMMARY:Carola
DESCRIPTION:
URL:https://jubel.se/biljetter/carola-16
LOCATION:Tjolöholms slott\, Kungsbacka
CATEGORIES:Konsert
END:VEVENT
BEGIN:VEVENT
DTSTART;VALUE=DATE:20230807
DTEND;VALUE=DATE:20230808
DTSTAMP:20260425T152357
CREATED:20230525T092050Z
LAST-MODIFIED:20230525T092050Z
UID:10000294-1691366400-1691452799@jubel.se
SUMMARY:Maxida Märak
DESCRIPTION:
URL:https://jubel.se/biljetter/maxida-marak-7
LOCATION:Gröna Lund\, Stockholm
CATEGORIES:Konsert
END:VEVENT
BEGIN:VEVENT
DTSTART;VALUE=DATE:20230807
DTEND;VALUE=DATE:20230808
DTSTAMP:20260425T152357
CREATED:20230513T231322Z
LAST-MODIFIED:20230513T231322Z
UID:10000277-1691366400-1691452799@jubel.se
SUMMARY:Cornelia Jakobs
DESCRIPTION:
URL:https://jubel.se/biljetter/cornelia-jakobs-20
LOCATION:Papas Garden\, Båstad
CATEGORIES:Konsert
END:VEVENT
BEGIN:VEVENT
DTSTART;VALUE=DATE:20230805
DTEND;VALUE=DATE:20230806
DTSTAMP:20260425T152357
CREATED:20230607T143659Z
LAST-MODIFIED:20230607T143659Z
UID:10000308-1691193600-1691279999@jubel.se
SUMMARY:Rebecca & Fiona
DESCRIPTION:
URL:https://jubel.se/biljetter/rebecca-fiona-4
LOCATION:Arvika Hamnfest\, Karlstad
CATEGORIES:Konsert
END:VEVENT
BEGIN:VEVENT
DTSTART;VALUE=DATE:20230805
DTEND;VALUE=DATE:20230806
DTSTAMP:20260425T152357
CREATED:20230428T093254Z
LAST-MODIFIED:20230428T093254Z
UID:10000266-1691193600-1691279999@jubel.se
SUMMARY:Annika Wickihalder
DESCRIPTION:
URL:https://jubel.se/biljetter/annika-wickihalder-2
LOCATION:Scensommar Växjö\, Kvarnabacken\, Rottne
CATEGORIES:Konsert
END:VEVENT
BEGIN:VEVENT
DTSTART;VALUE=DATE:20230805
DTEND;VALUE=DATE:20230806
DTSTAMP:20260425T152357
CREATED:20230420T075320Z
LAST-MODIFIED:20230420T075320Z
UID:10000252-1691193600-1691279999@jubel.se
SUMMARY:Per Persson & Nya Packet
DESCRIPTION:
URL:https://jubel.se/biljetter/per-persson-nya-packet-20
LOCATION:Flottardagarna\, Järvsö
CATEGORIES:Konsert
END:VEVENT
BEGIN:VEVENT
DTSTART;VALUE=DATE:20230805
DTEND;VALUE=DATE:20230806
DTSTAMP:20260425T152357
CREATED:20230221T090023Z
LAST-MODIFIED:20230330T084121Z
UID:10000151-1691193600-1691279999@jubel.se
SUMMARY:Carola
DESCRIPTION:
URL:https://jubel.se/biljetter/carola-15
LOCATION:Karlskrona skärgårdsfest\, Karlskrona
CATEGORIES:Konsert
END:VEVENT
BEGIN:VEVENT
DTSTART;VALUE=DATE:20230805
DTEND;VALUE=DATE:20230806
DTSTAMP:20260425T152357
CREATED:20230116T133710Z
LAST-MODIFIED:20230330T084121Z
UID:10000126-1691193600-1691279999@jubel.se
SUMMARY:Cornelia Jakobs
DESCRIPTION:
URL:https://jubel.se/biljetter/cornelia-jakobs-11
LOCATION:Vaasa Festival\, Vasa\, FI
CATEGORIES:Konsert
END:VEVENT
BEGIN:VEVENT
DTSTART;VALUE=DATE:20230804
DTEND;VALUE=DATE:20230805
DTSTAMP:20260425T152357
CREATED:20230513T231227Z
LAST-MODIFIED:20230513T231227Z
UID:10000276-1691107200-1691193599@jubel.se
SUMMARY:Cornelia Jakobs
DESCRIPTION:
URL:https://jubel.se/biljetter/cornelia-jakobs-19
LOCATION:Uport\, Ulricehamn
CATEGORIES:Konsert
END:VEVENT
BEGIN:VEVENT
DTSTART;VALUE=DATE:20230804
DTEND;VALUE=DATE:20230805
DTSTAMP:20260425T152357
CREATED:20230420T075253Z
LAST-MODIFIED:20230420T075550Z
UID:10000251-1691107200-1691193599@jubel.se
SUMMARY:Per Persson & Nya Packet
DESCRIPTION:
URL:https://jubel.se/biljetter/per-persson-nya-packet-19
LOCATION:Axmar Bruk\, Axmar
CATEGORIES:Konsert
END:VEVENT
BEGIN:VEVENT
DTSTART;VALUE=DATE:20230804
DTEND;VALUE=DATE:20230805
DTSTAMP:20260425T152357
CREATED:20230417T125850Z
LAST-MODIFIED:20230417T130152Z
UID:10000234-1691107200-1691193599@jubel.se
SUMMARY:Sofia Karlsson
DESCRIPTION:
URL:https://jubel.se/biljetter/sofia-karlsson-15
LOCATION:Dan Andersson-Veckan\, Grängesberg
CATEGORIES:Konsert
END:VEVENT
BEGIN:VEVENT
DTSTART;VALUE=DATE:20230804
DTEND;VALUE=DATE:20230805
DTSTAMP:20260425T152357
CREATED:20230221T090051Z
LAST-MODIFIED:20230330T084121Z
UID:10000150-1691107200-1691193599@jubel.se
SUMMARY:Carola
DESCRIPTION:
URL:https://jubel.se/biljetter/carola-14
LOCATION:Uport\, Ulricehamn
CATEGORIES:Konsert
END:VEVENT
BEGIN:VEVENT
DTSTART;VALUE=DATE:20230803
DTEND;VALUE=DATE:20230804
DTSTAMP:20260425T152357
CREATED:20230220T090057Z
LAST-MODIFIED:20230626T150948Z
UID:10000149-1691020800-1691107199@jubel.se
SUMMARY:Carola
DESCRIPTION:
URL:https://jubel.se/biljetter/carola-13
LOCATION:Vaasa Festival\, Vasa\, FI
CATEGORIES:Konsert
END:VEVENT
BEGIN:VEVENT
DTSTART;VALUE=DATE:20230802
DTEND;VALUE=DATE:20230803
DTSTAMP:20260425T152357
CREATED:20230505T122820Z
LAST-MODIFIED:20230505T123149Z
UID:10000272-1690934400-1691020799@jubel.se
SUMMARY:Viktor Norén
DESCRIPTION:
URL:https://jubel.se/biljetter/viktor-noren-14
LOCATION:Tullgarns Slott\, Vagnhärad
CATEGORIES:Konsert
END:VEVENT
BEGIN:VEVENT
DTSTART;VALUE=DATE:20230801
DTEND;VALUE=DATE:20230802
DTSTAMP:20260425T152357
CREATED:20230330T080517Z
LAST-MODIFIED:20230403T074624Z
UID:10000197-1690848000-1690934399@jubel.se
SUMMARY:Viktor Norén
DESCRIPTION:
URL:https://jubel.se/biljetter/viktor-noren-9
LOCATION:Ystegårn\, Forsa
CATEGORIES:Konsert
END:VEVENT
END:VCALENDAR