BEGIN:VCALENDAR
VERSION:2.0
PRODID:-//Jubel - ECPv6.15.20//NONSGML v1.0//EN
CALSCALE:GREGORIAN
METHOD:PUBLISH
X-WR-CALNAME:Jubel
X-ORIGINAL-URL:https://jubel.se
X-WR-CALDESC:Händelser för Jubel
REFRESH-INTERVAL;VALUE=DURATION:PT1H
X-Robots-Tag:noindex
X-PUBLISHED-TTL:PT1H
BEGIN:VTIMEZONE
TZID:Europe/Stockholm
BEGIN:DAYLIGHT
TZOFFSETFROM:+0100
TZOFFSETTO:+0200
TZNAME:CEST
DTSTART:20240331T010000
END:DAYLIGHT
BEGIN:STANDARD
TZOFFSETFROM:+0200
TZOFFSETTO:+0100
TZNAME:CET
DTSTART:20241027T010000
END:STANDARD
BEGIN:DAYLIGHT
TZOFFSETFROM:+0100
TZOFFSETTO:+0200
TZNAME:CEST
DTSTART:20250330T010000
END:DAYLIGHT
BEGIN:STANDARD
TZOFFSETFROM:+0200
TZOFFSETTO:+0100
TZNAME:CET
DTSTART:20251026T010000
END:STANDARD
BEGIN:DAYLIGHT
TZOFFSETFROM:+0100
TZOFFSETTO:+0200
TZNAME:CEST
DTSTART:20260329T010000
END:DAYLIGHT
BEGIN:STANDARD
TZOFFSETFROM:+0200
TZOFFSETTO:+0100
TZNAME:CET
DTSTART:20261025T010000
END:STANDARD
END:VTIMEZONE
BEGIN:VEVENT
DTSTART;VALUE=DATE:20251221
DTEND;VALUE=DATE:20251222
DTSTAMP:20260420T024113
CREATED:20250911T084140Z
LAST-MODIFIED:20250911T092104Z
UID:10001327-1766275200-1766361599@jubel.se
SUMMARY:Barnens Julvärld
DESCRIPTION:
URL:https://jubel.se/biljetter/barnens-julvarld-11
LOCATION:Uppsala Konsert & Kongress\, Uppsala
CATEGORIES:Föreställning
END:VEVENT
BEGIN:VEVENT
DTSTART;VALUE=DATE:20251221
DTEND;VALUE=DATE:20251222
DTSTAMP:20260420T024113
CREATED:20250903T060036Z
LAST-MODIFIED:20250903T072009Z
UID:10001307-1766275200-1766361599@jubel.se
SUMMARY:Stjärnenätter
DESCRIPTION:
URL:https://jubel.se/biljetter/stjarnenatter-26
LOCATION:Örebro konserthus\, Örebro
CATEGORIES:Konsert
END:VEVENT
BEGIN:VEVENT
DTSTART;TZID=Europe/Stockholm:20251220T193000
DTEND;TZID=Europe/Stockholm:20251220T210000
DTSTAMP:20260420T024113
CREATED:20251114T071209Z
LAST-MODIFIED:20251219T075947Z
UID:10001386-1766259000-1766264400@jubel.se
SUMMARY:Annika Wickihalder & Janice
DESCRIPTION:
URL:https://jubel.se/biljetter/annika-wickihalder-janice-3
LOCATION:Själevads kyrka\, Själevad
CATEGORIES:Konsert
END:VEVENT
BEGIN:VEVENT
DTSTART;VALUE=DATE:20251220
DTEND;VALUE=DATE:20251221
DTSTAMP:20260420T024113
CREATED:20251016T131548Z
LAST-MODIFIED:20251016T131548Z
UID:10001369-1766188800-1766275199@jubel.se
SUMMARY:John Lindberg Trio
DESCRIPTION:
URL:https://jubel.se/biljetter/john-lindberg-trio-75
LOCATION:Hotell Klockargården\, Tällberg
CATEGORIES:Konsert
END:VEVENT
BEGIN:VEVENT
DTSTART;VALUE=DATE:20251220
DTEND;VALUE=DATE:20251221
DTSTAMP:20260420T024113
CREATED:20250926T060041Z
LAST-MODIFIED:20250925T125749Z
UID:10001345-1766188800-1766275199@jubel.se
SUMMARY:Peter Jöback
DESCRIPTION:
URL:https://jubel.se/biljetter/peter-joback-33
LOCATION:Sara Kulturhus\, Skellefteå
CATEGORIES:Konsert
END:VEVENT
BEGIN:VEVENT
DTSTART;VALUE=DATE:20251220
DTEND;VALUE=DATE:20251221
DTSTAMP:20260420T024113
CREATED:20250911T082711Z
LAST-MODIFIED:20250911T082711Z
UID:10001324-1766188800-1766275199@jubel.se
SUMMARY:Barnens Julvärld
DESCRIPTION:
URL:https://jubel.se/biljetter/barnens-julvarld-8
LOCATION:Kulturhuset\, Bollnäs
CATEGORIES:Föreställning
END:VEVENT
BEGIN:VEVENT
DTSTART;VALUE=DATE:20251220
DTEND;VALUE=DATE:20251221
DTSTAMP:20260420T024113
CREATED:20250903T060056Z
LAST-MODIFIED:20250902T130437Z
UID:10001306-1766188800-1766275199@jubel.se
SUMMARY:Stjärnenätter
DESCRIPTION:
URL:https://jubel.se/biljetter/stjarnenatter-25
LOCATION:Kulturhuset Ytterjärna\, Järna
CATEGORIES:Konsert
END:VEVENT
BEGIN:VEVENT
DTSTART;TZID=Europe/Stockholm:20251219T200000
DTEND;TZID=Europe/Stockholm:20251219T213000
DTSTAMP:20260420T024113
CREATED:20251114T070958Z
LAST-MODIFIED:20251116T101533Z
UID:10001385-1766174400-1766179800@jubel.se
SUMMARY:Annika Wickihalder & Janice
DESCRIPTION:
URL:https://jubel.se/biljetter/annika-wickihalder-janice-2
LOCATION:Seglora kyrka\, Stockholm
CATEGORIES:Konsert
END:VEVENT
BEGIN:VEVENT
DTSTART;TZID=Europe/Stockholm:20251219T173000
DTEND;TZID=Europe/Stockholm:20251219T190000
DTSTAMP:20260420T024113
CREATED:20251114T070702Z
LAST-MODIFIED:20251116T101618Z
UID:10001384-1766165400-1766170800@jubel.se
SUMMARY:Annika Wickihalder & Janice
DESCRIPTION:
URL:https://jubel.se/biljetter/annika-wickihalder-janice
LOCATION:Seglora kyrka\, Stockholm
CATEGORIES:Konsert
END:VEVENT
BEGIN:VEVENT
DTSTART;VALUE=DATE:20251219
DTEND;VALUE=DATE:20251220
DTSTAMP:20260420T024113
CREATED:20251016T131527Z
LAST-MODIFIED:20251016T131527Z
UID:10001368-1766102400-1766188799@jubel.se
SUMMARY:John Lindberg Trio
DESCRIPTION:
URL:https://jubel.se/biljetter/john-lindberg-trio-74
LOCATION:Hotell Klockargården\, Tällberg
CATEGORIES:Konsert
END:VEVENT
BEGIN:VEVENT
DTSTART;VALUE=DATE:20251219
DTEND;VALUE=DATE:20251220
DTSTAMP:20260420T024113
CREATED:20250926T060053Z
LAST-MODIFIED:20250925T123635Z
UID:10001344-1766102400-1766188799@jubel.se
SUMMARY:Peter Jöback
DESCRIPTION:
URL:https://jubel.se/biljetter/peter-joback-32
LOCATION:Parksnäckan\, Uppsala
CATEGORIES:Konsert
END:VEVENT
BEGIN:VEVENT
DTSTART;VALUE=DATE:20251219
DTEND;VALUE=DATE:20251220
DTSTAMP:20260420T024113
CREATED:20250925T140042Z
LAST-MODIFIED:20250925T140042Z
UID:10001348-1766102400-1766188799@jubel.se
SUMMARY:Mark Levengood & Viktor Norén
DESCRIPTION:
URL:https://jubel.se/biljetter/mark-levengood-viktor-noren-2
LOCATION:Strömma Farmlodge\, Tvååker
CATEGORIES:Konsert
END:VEVENT
BEGIN:VEVENT
DTSTART;VALUE=DATE:20251219
DTEND;VALUE=DATE:20251220
DTSTAMP:20260420T024113
CREATED:20250903T060055Z
LAST-MODIFIED:20250903T082812Z
UID:10001305-1766102400-1766188799@jubel.se
SUMMARY:Stjärnenätter
DESCRIPTION:
URL:https://jubel.se/biljetter/stjarnenatter-24
LOCATION:Katalin\, Uppsala
CATEGORIES:Konsert
END:VEVENT
BEGIN:VEVENT
DTSTART;VALUE=DATE:20251218
DTEND;VALUE=DATE:20251219
DTSTAMP:20260420T024113
CREATED:20251125T135954Z
LAST-MODIFIED:20251125T135954Z
UID:10001411-1766016000-1766102399@jubel.se
SUMMARY:Engmans Kapell
DESCRIPTION:
URL:https://jubel.se/biljetter/engmans-kapell-51
LOCATION:Säters Folkets Hus\, Säter
CATEGORIES:Konsert
END:VEVENT
BEGIN:VEVENT
DTSTART;VALUE=DATE:20251218
DTEND;VALUE=DATE:20251219
DTSTAMP:20260420T024113
CREATED:20250903T060023Z
LAST-MODIFIED:20250902T125930Z
UID:10001304-1766016000-1766102399@jubel.se
SUMMARY:Stjärnenätter
DESCRIPTION:
URL:https://jubel.se/biljetter/stjarnenatter-23
LOCATION:Sala Missionskyrka\, Sala
CATEGORIES:Konsert
END:VEVENT
BEGIN:VEVENT
DTSTART;VALUE=DATE:20251217
DTEND;VALUE=DATE:20251218
DTSTAMP:20260420T024113
CREATED:20251002T080056Z
LAST-MODIFIED:20251008T070021Z
UID:10001353-1765929600-1766015999@jubel.se
SUMMARY:Engmans Kapell
DESCRIPTION:
URL:https://jubel.se/biljetter/engmans-kapell-49
LOCATION:Centralteatern\, Gävle\, Sweden
CATEGORIES:Konsert
END:VEVENT
BEGIN:VEVENT
DTSTART;VALUE=DATE:20251217
DTEND;VALUE=DATE:20251218
DTSTAMP:20260420T024113
CREATED:20250903T060031Z
LAST-MODIFIED:20250903T071945Z
UID:10001303-1765929600-1766015999@jubel.se
SUMMARY:Stjärnenätter
DESCRIPTION:
URL:https://jubel.se/biljetter/stjarnenatter-22
LOCATION:Stadsteatern\, Skövde
CATEGORIES:Konsert
END:VEVENT
BEGIN:VEVENT
DTSTART;VALUE=DATE:20251214
DTEND;VALUE=DATE:20251215
DTSTAMP:20260420T024113
CREATED:20251027T095608Z
LAST-MODIFIED:20251027T095657Z
UID:10001374-1765670400-1765756799@jubel.se
SUMMARY:Barnens Julvärld
DESCRIPTION:
URL:https://jubel.se/biljetter/barnens-julvarld-12
LOCATION:Kulturhuset Stadsteatern\, Stockholm
CATEGORIES:Föreställning
END:VEVENT
BEGIN:VEVENT
DTSTART;VALUE=DATE:20251214
DTEND;VALUE=DATE:20251215
DTSTAMP:20260420T024113
CREATED:20250926T060031Z
LAST-MODIFIED:20250925T123447Z
UID:10001343-1765670400-1765756799@jubel.se
SUMMARY:Peter Jöback
DESCRIPTION:
URL:https://jubel.se/biljetter/peter-joback-31
LOCATION:Träslottet\, Arbrå
CATEGORIES:Konsert
END:VEVENT
BEGIN:VEVENT
DTSTART;VALUE=DATE:20251214
DTEND;VALUE=DATE:20251215
DTSTAMP:20260420T024113
CREATED:20250911T082537Z
LAST-MODIFIED:20251027T095424Z
UID:10001323-1765670400-1765756799@jubel.se
SUMMARY:Barnens Julvärld
DESCRIPTION:
URL:https://jubel.se/biljetter/barnens-julvarld-7
LOCATION:Kulturhuset Stadsteatern\, Stockholm
CATEGORIES:Föreställning
END:VEVENT
BEGIN:VEVENT
DTSTART;VALUE=DATE:20251214
DTEND;VALUE=DATE:20251215
DTSTAMP:20260420T024113
CREATED:20250903T060043Z
LAST-MODIFIED:20250902T124928Z
UID:10001302-1765670400-1765756799@jubel.se
SUMMARY:Stjärnenätter
DESCRIPTION:
URL:https://jubel.se/biljetter/stjarnenatter-21
LOCATION:Rival\, Stockholm
CATEGORIES:Konsert
END:VEVENT
BEGIN:VEVENT
DTSTART;VALUE=DATE:20251213
DTEND;VALUE=DATE:20251214
DTSTAMP:20260420T024113
CREATED:20251016T131456Z
LAST-MODIFIED:20251016T131456Z
UID:10001367-1765584000-1765670399@jubel.se
SUMMARY:John Lindberg Trio
DESCRIPTION:
URL:https://jubel.se/biljetter/john-lindberg-trio-73
LOCATION:Hotell Klockargården\, Tällberg
CATEGORIES:Konsert
END:VEVENT
BEGIN:VEVENT
DTSTART;VALUE=DATE:20251213
DTEND;VALUE=DATE:20251214
DTSTAMP:20260420T024113
CREATED:20250926T060026Z
LAST-MODIFIED:20250926T053520Z
UID:10001342-1765584000-1765670399@jubel.se
SUMMARY:Peter Jöback
DESCRIPTION:
URL:https://jubel.se/biljetter/peter-joback-30
LOCATION:Bruket i Wiared\, Borås
CATEGORIES:Konsert
END:VEVENT
BEGIN:VEVENT
DTSTART;VALUE=DATE:20251213
DTEND;VALUE=DATE:20251214
DTSTAMP:20260420T024113
CREATED:20250911T082428Z
LAST-MODIFIED:20250911T082428Z
UID:10001322-1765584000-1765670399@jubel.se
SUMMARY:Barnens Julvärld
DESCRIPTION:
URL:https://jubel.se/biljetter/barnens-julvarld-6
LOCATION:Eskilstuna Teater\, Eskilstuna
CATEGORIES:Föreställning
END:VEVENT
BEGIN:VEVENT
DTSTART;VALUE=DATE:20251213
DTEND;VALUE=DATE:20251214
DTSTAMP:20260420T024113
CREATED:20250904T082453Z
LAST-MODIFIED:20250904T082453Z
UID:10001314-1765584000-1765670399@jubel.se
SUMMARY:Carola
DESCRIPTION:
URL:https://jubel.se/biljetter/carola-84
LOCATION:Scandinavium\, Göteborg
CATEGORIES:Konsert
END:VEVENT
BEGIN:VEVENT
DTSTART;VALUE=DATE:20251213
DTEND;VALUE=DATE:20251214
DTSTAMP:20260420T024113
CREATED:20250903T060030Z
LAST-MODIFIED:20250902T124833Z
UID:10001301-1765584000-1765670399@jubel.se
SUMMARY:Stjärnenätter
DESCRIPTION:
URL:https://jubel.se/biljetter/stjarnenatter-20
LOCATION:Stora Teatern\, Göteborg
CATEGORIES:Konsert
END:VEVENT
BEGIN:VEVENT
DTSTART;VALUE=DATE:20251212
DTEND;VALUE=DATE:20251213
DTSTAMP:20260420T024113
CREATED:20251210T131739Z
LAST-MODIFIED:20251210T131739Z
UID:10001441-1765497600-1765583999@jubel.se
SUMMARY:Hanna Järver
DESCRIPTION:
URL:https://jubel.se/biljetter/hanna-jarver-11
LOCATION:Boqueria\, Stockholm
CATEGORIES:Konsert
END:VEVENT
BEGIN:VEVENT
DTSTART;VALUE=DATE:20251212
DTEND;VALUE=DATE:20251213
DTSTAMP:20260420T024113
CREATED:20251016T131422Z
LAST-MODIFIED:20251016T131422Z
UID:10001366-1765497600-1765583999@jubel.se
SUMMARY:John Lindberg Trio
DESCRIPTION:
URL:https://jubel.se/biljetter/john-lindberg-trio-72
LOCATION:Hotell Klockargården\, Tällberg
CATEGORIES:Konsert
END:VEVENT
BEGIN:VEVENT
DTSTART;VALUE=DATE:20251212
DTEND;VALUE=DATE:20251213
DTSTAMP:20260420T024113
CREATED:20251002T080020Z
LAST-MODIFIED:20251002T082709Z
UID:10001352-1765497600-1765583999@jubel.se
SUMMARY:Engmans Kapell
DESCRIPTION:
URL:https://jubel.se/biljetter/engmans-kapell-48
LOCATION:Kilafors biografteater\, Kilafors
CATEGORIES:Konsert
END:VEVENT
BEGIN:VEVENT
DTSTART;VALUE=DATE:20251212
DTEND;VALUE=DATE:20251213
DTSTAMP:20260420T024113
CREATED:20250926T060003Z
LAST-MODIFIED:20250925T123123Z
UID:10001341-1765497600-1765583999@jubel.se
SUMMARY:Peter Jöback
DESCRIPTION:
URL:https://jubel.se/biljetter/peter-joback-29
LOCATION:Strömma Farmlodge\, Tvååker
CATEGORIES:Konsert
END:VEVENT
END:VCALENDAR