BEGIN:VCALENDAR
VERSION:2.0
PRODID:-//Jubel - ECPv6.15.20//NONSGML v1.0//EN
CALSCALE:GREGORIAN
METHOD:PUBLISH
X-WR-CALNAME:Jubel
X-ORIGINAL-URL:https://jubel.se
X-WR-CALDESC:Händelser för Jubel
REFRESH-INTERVAL;VALUE=DURATION:PT1H
X-Robots-Tag:noindex
X-PUBLISHED-TTL:PT1H
BEGIN:VTIMEZONE
TZID:Europe/Stockholm
BEGIN:DAYLIGHT
TZOFFSETFROM:+0100
TZOFFSETTO:+0200
TZNAME:CEST
DTSTART:20250330T010000
END:DAYLIGHT
BEGIN:STANDARD
TZOFFSETFROM:+0200
TZOFFSETTO:+0100
TZNAME:CET
DTSTART:20251026T010000
END:STANDARD
BEGIN:DAYLIGHT
TZOFFSETFROM:+0100
TZOFFSETTO:+0200
TZNAME:CEST
DTSTART:20260329T010000
END:DAYLIGHT
BEGIN:STANDARD
TZOFFSETFROM:+0200
TZOFFSETTO:+0100
TZNAME:CET
DTSTART:20261025T010000
END:STANDARD
BEGIN:DAYLIGHT
TZOFFSETFROM:+0100
TZOFFSETTO:+0200
TZNAME:CEST
DTSTART:20270328T010000
END:DAYLIGHT
BEGIN:STANDARD
TZOFFSETFROM:+0200
TZOFFSETTO:+0100
TZNAME:CET
DTSTART:20271031T010000
END:STANDARD
END:VTIMEZONE
BEGIN:VEVENT
DTSTART;VALUE=DATE:20260626
DTEND;VALUE=DATE:20260627
DTSTAMP:20260419T221614
CREATED:20260416T135841Z
LAST-MODIFIED:20260416T135841Z
UID:10001663-1782432000-1782518399@jubel.se
SUMMARY:Lukas Söderholm
DESCRIPTION:
URL:https://jubel.se/biljetter/lukas-soderholm-6
LOCATION:Scensommar Växjö
CATEGORIES:Konsert
END:VEVENT
BEGIN:VEVENT
DTSTART;VALUE=DATE:20260627
DTEND;VALUE=DATE:20260628
DTSTAMP:20260419T221614
CREATED:20260211T163151Z
LAST-MODIFIED:20260211T163151Z
UID:10001534-1782518400-1782604799@jubel.se
SUMMARY:Maxida Märak
DESCRIPTION:
URL:https://jubel.se/biljetter/maxida-marak-54
LOCATION:Nöjesfabriken\, Karlstad
END:VEVENT
BEGIN:VEVENT
DTSTART;VALUE=DATE:20260630
DTEND;VALUE=DATE:20260701
DTSTAMP:20260419T221614
CREATED:20260130T084420Z
LAST-MODIFIED:20260130T084420Z
UID:10001516-1782777600-1782863999@jubel.se
SUMMARY:Division 7
DESCRIPTION:
URL:https://jubel.se/biljetter/division-7-36
LOCATION:Kackelstugan\, Borgholm
CATEGORIES:Konsert
END:VEVENT
BEGIN:VEVENT
DTSTART;VALUE=DATE:20260630
DTEND;VALUE=DATE:20260701
DTSTAMP:20260419T221614
CREATED:20260227T130025Z
LAST-MODIFIED:20260311T120402Z
UID:10001567-1782777600-1782863999@jubel.se
SUMMARY:noll2
DESCRIPTION:
URL:https://jubel.se/biljetter/noll2-13
LOCATION:Hearts Festival\, Halmstad
END:VEVENT
BEGIN:VEVENT
DTSTART;VALUE=DATE:20260630
DTEND;VALUE=DATE:20260701
DTSTAMP:20260419T221614
CREATED:20260318T090917Z
LAST-MODIFIED:20260318T090917Z
UID:10001602-1782777600-1782863999@jubel.se
SUMMARY:Eagle-Eye Cherry
DESCRIPTION:
URL:https://jubel.se/biljetter/eagle-eye-cherry-2
LOCATION:Söderköpings brunn\, Söderköping
CATEGORIES:Konsert
END:VEVENT
BEGIN:VEVENT
DTSTART;VALUE=DATE:20260702
DTEND;VALUE=DATE:20260703
DTSTAMP:20260419T221614
CREATED:20260225T080607Z
LAST-MODIFIED:20260310T100557Z
UID:10001556-1782950400-1783036799@jubel.se
SUMMARY:Tommy Nilsson
DESCRIPTION:
URL:https://jubel.se/biljetter/tommy-nilsson-17
LOCATION:Bruket i Wiared\, Borås
CATEGORIES:Konsert
END:VEVENT
BEGIN:VEVENT
DTSTART;VALUE=DATE:20260702
DTEND;VALUE=DATE:20260705
DTSTAMP:20260419T221614
CREATED:20251106T095118Z
LAST-MODIFIED:20251106T095118Z
UID:10001380-1782950400-1783209599@jubel.se
SUMMARY:John Lindberg Trio
DESCRIPTION:
URL:https://jubel.se/biljetter/john-lindberg-trio-76
LOCATION:Alive festival\, Borlänge
CATEGORIES:Festival
END:VEVENT
BEGIN:VEVENT
DTSTART;VALUE=DATE:20260703
DTEND;VALUE=DATE:20260704
DTSTAMP:20260419T221614
CREATED:20260123T221244Z
LAST-MODIFIED:20260123T221244Z
UID:10001503-1783036800-1783123199@jubel.se
SUMMARY:Division 7
DESCRIPTION:
URL:https://jubel.se/biljetter/division-7-34
LOCATION:Latitud 57\, Oskarshamn
CATEGORIES:Festival
END:VEVENT
BEGIN:VEVENT
DTSTART;VALUE=DATE:20260703
DTEND;VALUE=DATE:20260704
DTSTAMP:20260419T221614
CREATED:20260227T130406Z
LAST-MODIFIED:20260227T130406Z
UID:10001568-1783036800-1783123199@jubel.se
SUMMARY:noll2
DESCRIPTION:
URL:https://jubel.se/biljetter/noll2-14
LOCATION:Latitud 57\, Oskarshamn
CATEGORIES:Festival
END:VEVENT
BEGIN:VEVENT
DTSTART;VALUE=DATE:20260703
DTEND;VALUE=DATE:20260704
DTSTAMP:20260419T221614
CREATED:20260414T093842Z
LAST-MODIFIED:20260414T095045Z
UID:10001643-1783036800-1783123199@jubel.se
SUMMARY:Viktor Norén
DESCRIPTION:
URL:https://jubel.se/biljetter/viktor-noren-93
LOCATION:Allsång i Karlsborg\, Karlsborg
CATEGORIES:Konsert
END:VEVENT
BEGIN:VEVENT
DTSTART;VALUE=DATE:20260704
DTEND;VALUE=DATE:20260705
DTSTAMP:20260419T221614
CREATED:20260209T085554Z
LAST-MODIFIED:20260209T085644Z
UID:10001530-1783123200-1783209599@jubel.se
SUMMARY:noll2
DESCRIPTION:
URL:https://jubel.se/biljetter/noll2-3
LOCATION:A Day At The Park\, Varberg
CATEGORIES:Festival
END:VEVENT
BEGIN:VEVENT
DTSTART;VALUE=DATE:20260704
DTEND;VALUE=DATE:20260705
DTSTAMP:20260419T221614
CREATED:20260226T172934Z
LAST-MODIFIED:20260226T172934Z
UID:10001564-1783123200-1783209599@jubel.se
SUMMARY:Lasse Holm
DESCRIPTION:
URL:https://jubel.se/biljetter/lasse-holm-17
LOCATION:Drömmen Festival Finland
CATEGORIES:Konsert
END:VEVENT
BEGIN:VEVENT
DTSTART;VALUE=DATE:20260704
DTEND;VALUE=DATE:20260705
DTSTAMP:20260419T221614
CREATED:20260306T100049Z
LAST-MODIFIED:20260305T135625Z
UID:10001588-1783123200-1783209599@jubel.se
SUMMARY:Sanna Nielsen
DESCRIPTION:
URL:https://jubel.se/biljetter/sanna-nielsen-5
LOCATION:Stadsparken\, Örebro
CATEGORIES:Konsert
END:VEVENT
BEGIN:VEVENT
DTSTART;VALUE=DATE:20260704
DTEND;VALUE=DATE:20260705
DTSTAMP:20260419T221614
CREATED:20260313T104038Z
LAST-MODIFIED:20260313T104038Z
UID:10001596-1783123200-1783209599@jubel.se
SUMMARY:Moa Lignell
DESCRIPTION:
URL:https://jubel.se/biljetter/moa-lignell-24
LOCATION:Fåfängans Trädgårdscafé\, Nyköping
CATEGORIES:Konsert
END:VEVENT
BEGIN:VEVENT
DTSTART;VALUE=DATE:20260704
DTEND;VALUE=DATE:20260705
DTSTAMP:20260419T221614
CREATED:20260327T100948Z
LAST-MODIFIED:20260327T100948Z
UID:10001622-1783123200-1783209599@jubel.se
SUMMARY:Uppsala Rumble
DESCRIPTION:
URL:https://jubel.se/biljetter/uppsala-rumble-2
LOCATION:Parksnäckan\, Uppsala
CATEGORIES:Festival
END:VEVENT
BEGIN:VEVENT
DTSTART;VALUE=DATE:20260704
DTEND;VALUE=DATE:20260705
DTSTAMP:20260419T221614
CREATED:20260414T094030Z
LAST-MODIFIED:20260414T095045Z
UID:10001644-1783123200-1783209599@jubel.se
SUMMARY:Viktor Norén
DESCRIPTION:
URL:https://jubel.se/biljetter/viktor-noren-94
LOCATION:Folkfest\, Docksta
CATEGORIES:Konsert
END:VEVENT
BEGIN:VEVENT
DTSTART;VALUE=DATE:20260704
DTEND;VALUE=DATE:20260705
DTSTAMP:20260419T221614
CREATED:20260415T192834Z
LAST-MODIFIED:20260415T192834Z
UID:10001659-1783123200-1783209599@jubel.se
SUMMARY:atomic swing
DESCRIPTION:
URL:https://jubel.se/biljetter/atomic-swing-32
LOCATION:Time To Rock\, Knislinge
CATEGORIES:Festival
END:VEVENT
BEGIN:VEVENT
DTSTART;VALUE=DATE:20260707
DTEND;VALUE=DATE:20260708
DTSTAMP:20260419T221614
CREATED:20251208T134025Z
LAST-MODIFIED:20251208T134025Z
UID:10001431-1783382400-1783468799@jubel.se
SUMMARY:Maxida Märak
DESCRIPTION:
URL:https://jubel.se/biljetter/maxida-marak-44
LOCATION:Ovikens Nya Kyrka\, Oviken
END:VEVENT
BEGIN:VEVENT
DTSTART;VALUE=DATE:20260708
DTEND;VALUE=DATE:20260709
DTSTAMP:20260419T221614
CREATED:20251218T103754Z
LAST-MODIFIED:20251218T103754Z
UID:10001458-1783468800-1783555199@jubel.se
SUMMARY:Tommy Nilsson
DESCRIPTION:
URL:https://jubel.se/biljetter/tommy-nilsson-2
LOCATION:Äteriet\, Borlänge
CATEGORIES:Konsert
END:VEVENT
BEGIN:VEVENT
DTSTART;VALUE=DATE:20260708
DTEND;VALUE=DATE:20260709
DTSTAMP:20260419T221614
CREATED:20260414T094238Z
LAST-MODIFIED:20260414T095045Z
UID:10001645-1783468800-1783555199@jubel.se
SUMMARY:Viktor Norén
DESCRIPTION:
URL:https://jubel.se/biljetter/viktor-noren-95
LOCATION:Sveriges Sydligaste Allsång\, Smykehuk
CATEGORIES:Konsert
END:VEVENT
BEGIN:VEVENT
DTSTART;VALUE=DATE:20260709
DTEND;VALUE=DATE:20260710
DTSTAMP:20260419T221614
CREATED:20251217T081610Z
LAST-MODIFIED:20251217T081610Z
UID:10001453-1783555200-1783641599@jubel.se
SUMMARY:Tommy Nilsson
DESCRIPTION:
URL:https://jubel.se/biljetter/tommy-nilsson
LOCATION:Axmar Bruk\, Axmar
CATEGORIES:Konsert
END:VEVENT
BEGIN:VEVENT
DTSTART;VALUE=DATE:20260710
DTEND;VALUE=DATE:20260711
DTSTAMP:20260419T221614
CREATED:20251219T154416Z
LAST-MODIFIED:20251219T154416Z
UID:10001471-1783641600-1783727999@jubel.se
SUMMARY:Tommy Nilsson
DESCRIPTION:
URL:https://jubel.se/biljetter/tommy-nilsson-3
LOCATION:Parksnäckan\, Uppsala
CATEGORIES:Konsert
END:VEVENT
BEGIN:VEVENT
DTSTART;VALUE=DATE:20260710
DTEND;VALUE=DATE:20260711
DTSTAMP:20260419T221614
CREATED:20260213T091650Z
LAST-MODIFIED:20260213T091650Z
UID:10001538-1783641600-1783727999@jubel.se
SUMMARY:noll2
DESCRIPTION:
URL:https://jubel.se/biljetter/noll2-7
LOCATION:Playa Festival\, Sundsvall
CATEGORIES:Festival
END:VEVENT
BEGIN:VEVENT
DTSTART;VALUE=DATE:20260710
DTEND;VALUE=DATE:20260711
DTSTAMP:20260419T221614
CREATED:20260320T135250Z
LAST-MODIFIED:20260320T135424Z
UID:10001610-1783641600-1783727999@jubel.se
SUMMARY:Viktor Norén & Björn Dixgård
DESCRIPTION:
URL:https://jubel.se/biljetter/viktor-noren-bjorn-dixgard-4
LOCATION:Pensionat Lövängen\, Ljugarn
CATEGORIES:Konsert
END:VEVENT
BEGIN:VEVENT
DTSTART;VALUE=DATE:20260710
DTEND;VALUE=DATE:20260712
DTSTAMP:20260419T221614
CREATED:20251112T140535Z
LAST-MODIFIED:20251112T140535Z
UID:10001382-1783641600-1783814399@jubel.se
SUMMARY:Silvana Imam
DESCRIPTION:
URL:https://jubel.se/biljetter/silvana-imam-22
LOCATION:Downtown Calling\, Helsinki\, Finland
CATEGORIES:Festival
END:VEVENT
BEGIN:VEVENT
DTSTART;TZID=Europe/Stockholm:20260710T220000
DTEND;TZID=Europe/Stockholm:20260710T233000
DTSTAMP:20260419T221614
CREATED:20260318T082626Z
LAST-MODIFIED:20260318T082626Z
UID:10001600-1783720800-1783726200@jubel.se
SUMMARY:John Lindberg Trio
DESCRIPTION:
URL:https://jubel.se/biljetter/john-lindberg-trio-93
LOCATION:Classic Motor Meet\, Haparanda
CATEGORIES:Festival
END:VEVENT
BEGIN:VEVENT
DTSTART;VALUE=DATE:20260711
DTEND;VALUE=DATE:20260712
DTSTAMP:20260419T221614
CREATED:20251203T070009Z
LAST-MODIFIED:20251202T205529Z
UID:10001428-1783728000-1783814399@jubel.se
SUMMARY:The Tallest Man on Earth
DESCRIPTION:
URL:https://jubel.se/biljetter/the-tallest-man-on-earth
LOCATION:Musikkväll på Kalfjäll\, Tänndalen
CATEGORIES:Konsert
END:VEVENT
BEGIN:VEVENT
DTSTART;VALUE=DATE:20260711
DTEND;VALUE=DATE:20260712
DTSTAMP:20260419T221614
CREATED:20260112T125501Z
LAST-MODIFIED:20260112T125640Z
UID:10001485-1783728000-1783814399@jubel.se
SUMMARY:Hemma med Annelie och Bittis från Ainbusk
DESCRIPTION:
URL:https://jubel.se/biljetter/hemma-med-annelie-och-bittis
LOCATION:Närsakar Scen\, Gotland
CATEGORIES:Konsert
END:VEVENT
BEGIN:VEVENT
DTSTART;VALUE=DATE:20260711
DTEND;VALUE=DATE:20260712
DTSTAMP:20260419T221614
CREATED:20260224T084234Z
LAST-MODIFIED:20260224T084234Z
UID:10001550-1783728000-1783814399@jubel.se
SUMMARY:Tommy Nilsson
DESCRIPTION:
URL:https://jubel.se/biljetter/tommy-nilsson-14
LOCATION:Sommarhäng på Skrikhult\, Svärtinge
CATEGORIES:Konsert
END:VEVENT
BEGIN:VEVENT
DTSTART;VALUE=DATE:20260711
DTEND;VALUE=DATE:20260712
DTSTAMP:20260419T221614
CREATED:20260226T171828Z
LAST-MODIFIED:20260226T171828Z
UID:10001560-1783728000-1783814399@jubel.se
SUMMARY:Engmans Kapell
DESCRIPTION:
URL:https://jubel.se/biljetter/engmans-kapell-55
LOCATION:Folkets Park\, Bollnäs
CATEGORIES:Konsert
END:VEVENT
END:VCALENDAR