BEGIN:VCALENDAR
VERSION:2.0
PRODID:-//Jubel - ECPv6.15.20//NONSGML v1.0//EN
CALSCALE:GREGORIAN
METHOD:PUBLISH
X-ORIGINAL-URL:https://jubel.se
X-WR-CALDESC:Händelser för Jubel
REFRESH-INTERVAL;VALUE=DURATION:PT1H
X-Robots-Tag:noindex
X-PUBLISHED-TTL:PT1H
BEGIN:VTIMEZONE
TZID:Europe/Stockholm
BEGIN:DAYLIGHT
TZOFFSETFROM:+0100
TZOFFSETTO:+0200
TZNAME:CEST
DTSTART:20220327T010000
END:DAYLIGHT
BEGIN:STANDARD
TZOFFSETFROM:+0200
TZOFFSETTO:+0100
TZNAME:CET
DTSTART:20221030T010000
END:STANDARD
BEGIN:DAYLIGHT
TZOFFSETFROM:+0100
TZOFFSETTO:+0200
TZNAME:CEST
DTSTART:20230326T010000
END:DAYLIGHT
BEGIN:STANDARD
TZOFFSETFROM:+0200
TZOFFSETTO:+0100
TZNAME:CET
DTSTART:20231029T010000
END:STANDARD
BEGIN:DAYLIGHT
TZOFFSETFROM:+0100
TZOFFSETTO:+0200
TZNAME:CEST
DTSTART:20240331T010000
END:DAYLIGHT
BEGIN:STANDARD
TZOFFSETFROM:+0200
TZOFFSETTO:+0100
TZNAME:CET
DTSTART:20241027T010000
END:STANDARD
END:VTIMEZONE
BEGIN:VEVENT
DTSTART;VALUE=DATE:20230701
DTEND;VALUE=DATE:20230702
DTSTAMP:20260425T182535
CREATED:20230513T231133Z
LAST-MODIFIED:20230513T231133Z
UID:10000275-1688169600-1688255999@jubel.se
SUMMARY:Cornelia Jakobs
DESCRIPTION:
URL:https://jubel.se/biljetter/cornelia-jakobs-18
LOCATION:Lollapalooza\, Stockholm
CATEGORIES:Konsert
END:VEVENT
BEGIN:VEVENT
DTSTART;VALUE=DATE:20230701
DTEND;VALUE=DATE:20230702
DTSTAMP:20260425T182535
CREATED:20230427T141700Z
LAST-MODIFIED:20230427T141700Z
UID:10000258-1688169600-1688255999@jubel.se
SUMMARY:Daniel Adams-Ray
DESCRIPTION:
URL:https://jubel.se/biljetter/daniel-adams-ray-6
LOCATION:Torsjö Live\, Hässleholm
CATEGORIES:Konsert
END:VEVENT
BEGIN:VEVENT
DTSTART;VALUE=DATE:20230630
DTEND;VALUE=DATE:20230701
DTSTAMP:20260425T182535
CREATED:20230502T073150Z
LAST-MODIFIED:20230502T073237Z
UID:10000267-1688083200-1688169599@jubel.se
SUMMARY:Atomic Swing
DESCRIPTION:
URL:https://jubel.se/biljetter/atomic-swing-6
LOCATION:Torsjö Live\, Hässleholm
CATEGORIES:Konsert
END:VEVENT
BEGIN:VEVENT
DTSTART;VALUE=DATE:20230630
DTEND;VALUE=DATE:20230701
DTSTAMP:20260425T182535
CREATED:20230420T074610Z
LAST-MODIFIED:20230420T074903Z
UID:10000246-1688083200-1688169599@jubel.se
SUMMARY:Per Persson & Nya Packet
DESCRIPTION:
URL:https://jubel.se/biljetter/per-persson-nya-packet-14
LOCATION:Sommarhäng på Skrikhult\, Svärtinge
CATEGORIES:Konsert
END:VEVENT
BEGIN:VEVENT
DTSTART;VALUE=DATE:20230629
DTEND;VALUE=DATE:20230630
DTSTAMP:20260425T182535
CREATED:20230420T074513Z
LAST-MODIFIED:20230420T074513Z
UID:10000245-1687996800-1688083199@jubel.se
SUMMARY:Per Persson & Nya Packet
DESCRIPTION:
URL:https://jubel.se/biljetter/per-persson-nya-packet-13
LOCATION:Medley\, Malmö
CATEGORIES:Konsert
END:VEVENT
BEGIN:VEVENT
DTSTART;VALUE=DATE:20230628
DTEND;VALUE=DATE:20230629
DTSTAMP:20260425T182535
CREATED:20230607T143241Z
LAST-MODIFIED:20230607T143241Z
UID:10000307-1687910400-1687996799@jubel.se
SUMMARY:Rebecca & Fiona
DESCRIPTION:
URL:https://jubel.se/biljetter/rebecca-fiona-3
LOCATION:Steam Hotel\, Västerås
CATEGORIES:Konsert
END:VEVENT
BEGIN:VEVENT
DTSTART;VALUE=DATE:20230624
DTEND;VALUE=DATE:20230625
DTSTAMP:20260425T182535
CREATED:20230602T114724Z
LAST-MODIFIED:20230602T114724Z
UID:10000305-1687564800-1687651199@jubel.se
SUMMARY:Daniel Adams-Ray
DESCRIPTION:
URL:https://jubel.se/biljetter/daniel-adams-ray-9
LOCATION:Midsommarfesten\, Leksand
CATEGORIES:Konsert
END:VEVENT
BEGIN:VEVENT
DTSTART;VALUE=DATE:20230624
DTEND;VALUE=DATE:20230625
DTSTAMP:20260425T182535
CREATED:20230321T163021Z
LAST-MODIFIED:20230330T084122Z
UID:10000172-1687564800-1687651199@jubel.se
SUMMARY:Atomic Swing
DESCRIPTION:
URL:https://jubel.se/biljetter/atomic-swing-5
LOCATION:Haneberg Har Fest\, Haneberg Säteri\, Västra Näshulta
CATEGORIES:Konsert
END:VEVENT
BEGIN:VEVENT
DTSTART;VALUE=DATE:20230624
DTEND;VALUE=DATE:20230625
DTSTAMP:20260425T182535
CREATED:20230116T133300Z
LAST-MODIFIED:20230330T084122Z
UID:10000122-1687564800-1687651199@jubel.se
SUMMARY:Cornelia Jakobs
DESCRIPTION:
URL:https://jubel.se/biljetter/cornelia-jakobs-9
LOCATION:Steinkjerfestivalen\, Steinkjer\, NO
CATEGORIES:Konsert
END:VEVENT
BEGIN:VEVENT
DTSTART;VALUE=DATE:20230623
DTEND;VALUE=DATE:20230624
DTSTAMP:20260425T182535
CREATED:20230502T073511Z
LAST-MODIFIED:20230510T115156Z
UID:10000269-1687478400-1687564799@jubel.se
SUMMARY:Atomic Swing
DESCRIPTION:
URL:https://jubel.se/biljetter/atomic-swing-8
LOCATION:Midsommarfest\, Vattholma
CATEGORIES:Konsert
END:VEVENT
BEGIN:VEVENT
DTSTART;VALUE=DATE:20230620
DTEND;VALUE=DATE:20230621
DTSTAMP:20260425T182535
CREATED:20230525T091700Z
LAST-MODIFIED:20230525T091700Z
UID:10000291-1687219200-1687305599@jubel.se
SUMMARY:Maxida Märak
DESCRIPTION:
URL:https://jubel.se/biljetter/maxida-marak-4
LOCATION:Kulturhustorget Live\, Skövde
CATEGORIES:Konsert
END:VEVENT
BEGIN:VEVENT
DTSTART;VALUE=DATE:20230617
DTEND;VALUE=DATE:20230618
DTSTAMP:20260425T182535
CREATED:20230607T143154Z
LAST-MODIFIED:20230607T143154Z
UID:10000306-1686960000-1687046399@jubel.se
SUMMARY:Rebecca & Fiona
DESCRIPTION:
URL:https://jubel.se/biljetter/rebecca-fiona-2
LOCATION:Dreamhack\, Jönköping
CATEGORIES:Konsert
END:VEVENT
BEGIN:VEVENT
DTSTART;VALUE=DATE:20230617
DTEND;VALUE=DATE:20230618
DTSTAMP:20260425T182535
CREATED:20230513T231053Z
LAST-MODIFIED:20230608T072036Z
UID:10000274-1686960000-1687046399@jubel.se
SUMMARY:Cornelia Jakobs
DESCRIPTION:
URL:https://jubel.se/biljetter/cornelia-jakobs-17
LOCATION:Kungsbacka kulturfestival\, Kungsbacka
CATEGORIES:Konsert
END:VEVENT
BEGIN:VEVENT
DTSTART;VALUE=DATE:20230617
DTEND;VALUE=DATE:20230618
DTSTAMP:20260425T182535
CREATED:20230403T122857Z
LAST-MODIFIED:20230403T122857Z
UID:10000215-1686960000-1687046399@jubel.se
SUMMARY:Per Persson & Nya Packet
DESCRIPTION:
URL:https://jubel.se/biljetter/per-persson-nya-packet-11
LOCATION:Hasselbacken\, Stockholm
CATEGORIES:Konsert
END:VEVENT
BEGIN:VEVENT
DTSTART;VALUE=DATE:20230617
DTEND;VALUE=DATE:20230618
DTSTAMP:20260425T182535
CREATED:20230403T122748Z
LAST-MODIFIED:20230403T123001Z
UID:10000214-1686960000-1687046399@jubel.se
SUMMARY:Engmans Kapell
DESCRIPTION:
URL:https://jubel.se/biljetter/engmans-kapell-3
LOCATION:Hasselbacken\, Stockholm
CATEGORIES:Konsert
END:VEVENT
BEGIN:VEVENT
DTSTART;VALUE=DATE:20230617
DTEND;VALUE=DATE:20230618
DTSTAMP:20260425T182535
CREATED:20230322T101352Z
LAST-MODIFIED:20230330T084122Z
UID:10000175-1686960000-1687046399@jubel.se
SUMMARY:Daniel Adams-Ray
DESCRIPTION:
URL:https://jubel.se/biljetter/daniel-adams-ray-3
LOCATION:Summer On\, Båstad
CATEGORIES:Konsert
END:VEVENT
BEGIN:VEVENT
DTSTART;VALUE=DATE:20230616
DTEND;VALUE=DATE:20230617
DTSTAMP:20260425T182535
CREATED:20230525T091532Z
LAST-MODIFIED:20230525T091532Z
UID:10000290-1686873600-1686959999@jubel.se
SUMMARY:Maxida Märak
DESCRIPTION:
URL:https://jubel.se/biljetter/maxida-marak-3
LOCATION:Schools out\, Kungsbacka
CATEGORIES:Konsert
END:VEVENT
BEGIN:VEVENT
DTSTART;VALUE=DATE:20230612
DTEND;VALUE=DATE:20230613
DTSTAMP:20260425T182535
CREATED:20230417T125738Z
LAST-MODIFIED:20230417T125738Z
UID:10000233-1686528000-1686614399@jubel.se
SUMMARY:Sofia Karlsson
DESCRIPTION:
URL:https://jubel.se/biljetter/sofia-karlsson-14
LOCATION:Festspelen i Piteå\, Piteå
CATEGORIES:Konsert
END:VEVENT
BEGIN:VEVENT
DTSTART;VALUE=DATE:20230610
DTEND;VALUE=DATE:20230611
DTSTAMP:20260425T182535
CREATED:20230525T091203Z
LAST-MODIFIED:20230525T091203Z
UID:10000289-1686355200-1686441599@jubel.se
SUMMARY:Maxida Märak
DESCRIPTION:
URL:https://jubel.se/biljetter/maxida-marak-2
LOCATION:Revanschen\, Jokkmokk
CATEGORIES:Konsert
END:VEVENT
BEGIN:VEVENT
DTSTART;VALUE=DATE:20230610
DTEND;VALUE=DATE:20230611
DTSTAMP:20260425T182535
CREATED:20230427T143910Z
LAST-MODIFIED:20230427T143910Z
UID:10000262-1686355200-1686441599@jubel.se
SUMMARY:Cornelia Jakobs
DESCRIPTION:
URL:https://jubel.se/biljetter/cornelia-jakobs-13
LOCATION:Humlehagen\, Örebro
CATEGORIES:Konsert
END:VEVENT
BEGIN:VEVENT
DTSTART;VALUE=DATE:20230609
DTEND;VALUE=DATE:20230610
DTSTAMP:20260425T182535
CREATED:20230515T152952Z
LAST-MODIFIED:20230515T152952Z
UID:10000288-1686268800-1686355199@jubel.se
SUMMARY:Annika Wickihalder
DESCRIPTION:
URL:https://jubel.se/biljetter/annika-wickihalder-3
LOCATION:Schools out\, Söderhamn
CATEGORIES:Konsert
END:VEVENT
BEGIN:VEVENT
DTSTART;VALUE=DATE:20230609
DTEND;VALUE=DATE:20230610
DTSTAMP:20260425T182535
CREATED:20230427T143831Z
LAST-MODIFIED:20230427T143831Z
UID:10000261-1686268800-1686355199@jubel.se
SUMMARY:Cornelia Jakobs
DESCRIPTION:
URL:https://jubel.se/biljetter/cornelia-jakobs-12
LOCATION:Schools out\, Söderhamn
CATEGORIES:Konsert
END:VEVENT
BEGIN:VEVENT
DTSTART;VALUE=DATE:20230609
DTEND;VALUE=DATE:20230610
DTSTAMP:20260425T182535
CREATED:20230420T074325Z
LAST-MODIFIED:20230420T074325Z
UID:10000244-1686268800-1686355199@jubel.se
SUMMARY:Per Persson & Nya Packet
DESCRIPTION:
URL:https://jubel.se/biljetter/per-persson-nya-packet-12
LOCATION:Liseberg\, Göteborg
CATEGORIES:Konsert
END:VEVENT
BEGIN:VEVENT
DTSTART;VALUE=DATE:20230607
DTEND;VALUE=DATE:20230608
DTSTAMP:20260425T182535
CREATED:20230417T131450Z
LAST-MODIFIED:20230417T131450Z
UID:10000237-1686096000-1686182399@jubel.se
SUMMARY:Sofia Karlsson
DESCRIPTION:
URL:https://jubel.se/biljetter/sofia-karlsson-18
LOCATION:Under Bar Himmel\, Örebro
CATEGORIES:Konsert
END:VEVENT
BEGIN:VEVENT
DTSTART;VALUE=DATE:20230606
DTEND;VALUE=DATE:20230607
DTSTAMP:20260425T182535
CREATED:20230418T183050Z
LAST-MODIFIED:20230418T183050Z
UID:10000239-1686009600-1686095999@jubel.se
SUMMARY:Sofia Karlsson
DESCRIPTION:
URL:https://jubel.se/biljetter/sofia-karlsson-19
LOCATION:Stadsträdgården\, Lidköping
CATEGORIES:Konsert
END:VEVENT
BEGIN:VEVENT
DTSTART;VALUE=DATE:20230603
DTEND;VALUE=DATE:20230604
DTSTAMP:20260425T182535
CREATED:20230417T124122Z
LAST-MODIFIED:20230417T124122Z
UID:10000232-1685750400-1685836799@jubel.se
SUMMARY:Sofia Karlsson
DESCRIPTION:
URL:https://jubel.se/biljetter/sofia-karlsson-13
LOCATION:Liseberg\, Göteborg
CATEGORIES:Konsert
END:VEVENT
BEGIN:VEVENT
DTSTART;VALUE=DATE:20230602
DTEND;VALUE=DATE:20230603
DTSTAMP:20260425T182535
CREATED:20230403T075913Z
LAST-MODIFIED:20230403T083018Z
UID:10000201-1685664000-1685750399@jubel.se
SUMMARY:Tomas Andersson Wij
DESCRIPTION:
URL:https://jubel.se/biljetter/tomas-andersson-wij-28
LOCATION:Åfesten\, Falun
CATEGORIES:Konsert
END:VEVENT
BEGIN:VEVENT
DTSTART;VALUE=DATE:20230602
DTEND;VALUE=DATE:20230603
DTSTAMP:20260425T182535
CREATED:20230322T091048Z
LAST-MODIFIED:20230330T084123Z
UID:10000174-1685664000-1685750399@jubel.se
SUMMARY:Daniel Adams-Ray
DESCRIPTION:
URL:https://jubel.se/biljetter/daniel-adams-ray-2
LOCATION:Gröna Lund\, Stockholm
CATEGORIES:Konsert
END:VEVENT
BEGIN:VEVENT
DTSTART;VALUE=DATE:20230527
DTEND;VALUE=DATE:20230528
DTSTAMP:20260425T182535
CREATED:20230113T160902Z
LAST-MODIFIED:20230330T084123Z
UID:10000112-1685145600-1685231999@jubel.se
SUMMARY:Carola
DESCRIPTION:
URL:https://jubel.se/biljetter/carola
LOCATION:Avicii Arena\, Stockholm
CATEGORIES:Konsert
END:VEVENT
BEGIN:VEVENT
DTSTART;VALUE=DATE:20230520
DTEND;VALUE=DATE:20230521
DTSTAMP:20260425T182535
CREATED:20230417T123501Z
LAST-MODIFIED:20230417T123847Z
UID:10000231-1684540800-1684627199@jubel.se
SUMMARY:Sofia Karlsson
DESCRIPTION:
URL:https://jubel.se/biljetter/sofia-karlsson-12
LOCATION:Musik i Äppelriket\, Kivik
CATEGORIES:Konsert
END:VEVENT
END:VCALENDAR