BEGIN:VCALENDAR
VERSION:2.0
PRODID:-//Jubel - ECPv6.15.20//NONSGML v1.0//EN
CALSCALE:GREGORIAN
METHOD:PUBLISH
X-WR-CALNAME:Jubel
X-ORIGINAL-URL:https://jubel.se
X-WR-CALDESC:Händelser för Jubel
REFRESH-INTERVAL;VALUE=DURATION:PT1H
X-Robots-Tag:noindex
X-PUBLISHED-TTL:PT1H
BEGIN:VTIMEZONE
TZID:Europe/Stockholm
BEGIN:DAYLIGHT
TZOFFSETFROM:+0100
TZOFFSETTO:+0200
TZNAME:CEST
DTSTART:20240331T010000
END:DAYLIGHT
BEGIN:STANDARD
TZOFFSETFROM:+0200
TZOFFSETTO:+0100
TZNAME:CET
DTSTART:20241027T010000
END:STANDARD
BEGIN:DAYLIGHT
TZOFFSETFROM:+0100
TZOFFSETTO:+0200
TZNAME:CEST
DTSTART:20250330T010000
END:DAYLIGHT
BEGIN:STANDARD
TZOFFSETFROM:+0200
TZOFFSETTO:+0100
TZNAME:CET
DTSTART:20251026T010000
END:STANDARD
BEGIN:DAYLIGHT
TZOFFSETFROM:+0100
TZOFFSETTO:+0200
TZNAME:CEST
DTSTART:20260329T010000
END:DAYLIGHT
BEGIN:STANDARD
TZOFFSETFROM:+0200
TZOFFSETTO:+0100
TZNAME:CET
DTSTART:20261025T010000
END:STANDARD
END:VTIMEZONE
BEGIN:VEVENT
DTSTART;VALUE=DATE:20251206
DTEND;VALUE=DATE:20251207
DTSTAMP:20260420T041719
CREATED:20251113T155716Z
LAST-MODIFIED:20251113T155716Z
UID:10001383-1764979200-1765065599@jubel.se
SUMMARY:Annika Wickihalder
DESCRIPTION:
URL:https://jubel.se/biljetter/annika-wickihalder-25
LOCATION:Vasakyrkan\, Umeå
CATEGORIES:Konsert
END:VEVENT
BEGIN:VEVENT
DTSTART;VALUE=DATE:20251206
DTEND;VALUE=DATE:20251207
DTSTAMP:20260420T041719
CREATED:20251016T131406Z
LAST-MODIFIED:20251016T131406Z
UID:10001365-1764979200-1765065599@jubel.se
SUMMARY:John Lindberg Trio
DESCRIPTION:
URL:https://jubel.se/biljetter/john-lindberg-trio-71
LOCATION:Hotell Klockargården\, Tällberg
CATEGORIES:Konsert
END:VEVENT
BEGIN:VEVENT
DTSTART;VALUE=DATE:20251206
DTEND;VALUE=DATE:20251207
DTSTAMP:20260420T041719
CREATED:20251002T080015Z
LAST-MODIFIED:20251002T082745Z
UID:10001350-1764979200-1765065599@jubel.se
SUMMARY:Engmans Kapell
DESCRIPTION:
URL:https://jubel.se/biljetter/engmans-kapell-46
LOCATION:Gnarp kyrka\, Gnarp
CATEGORIES:Konsert
END:VEVENT
BEGIN:VEVENT
DTSTART;VALUE=DATE:20251206
DTEND;VALUE=DATE:20251207
DTSTAMP:20260420T041719
CREATED:20250925T135850Z
LAST-MODIFIED:20250925T135850Z
UID:10001347-1764979200-1765065599@jubel.se
SUMMARY:Mark Levengood & Viktor Norén
DESCRIPTION:
URL:https://jubel.se/biljetter/mark-levengood-viktor-noren
LOCATION:Sara Kulturhus\, Skellefteå
CATEGORIES:Konsert
END:VEVENT
BEGIN:VEVENT
DTSTART;VALUE=DATE:20251206
DTEND;VALUE=DATE:20251207
DTSTAMP:20260420T041719
CREATED:20250911T082040Z
LAST-MODIFIED:20250911T082218Z
UID:10001320-1764979200-1765065599@jubel.se
SUMMARY:Barnens Julvärld
DESCRIPTION:
URL:https://jubel.se/biljetter/barnens-julvarld-4
LOCATION:Nyköpings Teater\, Nyköping
CATEGORIES:Föreställning
END:VEVENT
BEGIN:VEVENT
DTSTART;VALUE=DATE:20251206
DTEND;VALUE=DATE:20251207
DTSTAMP:20260420T041719
CREATED:20250903T060027Z
LAST-MODIFIED:20250902T123823Z
UID:10001293-1764979200-1765065599@jubel.se
SUMMARY:Stjärnenätter
DESCRIPTION:
URL:https://jubel.se/biljetter/stjarnenatter-14
LOCATION:Kulturens Hus\, Luleå
CATEGORIES:Konsert
END:VEVENT
BEGIN:VEVENT
DTSTART;VALUE=DATE:20251205
DTEND;VALUE=DATE:20251206
DTSTAMP:20260420T041719
CREATED:20251016T131251Z
LAST-MODIFIED:20251016T131251Z
UID:10001363-1764892800-1764979199@jubel.se
SUMMARY:John Lindberg Trio
DESCRIPTION:
URL:https://jubel.se/biljetter/john-lindberg-trio-69
LOCATION:Hotell Klockargården\, Tällberg
CATEGORIES:Konsert
END:VEVENT
BEGIN:VEVENT
DTSTART;VALUE=DATE:20251205
DTEND;VALUE=DATE:20251206
DTSTAMP:20260420T041719
CREATED:20250904T082011Z
LAST-MODIFIED:20250904T082011Z
UID:10001311-1764892800-1764979199@jubel.se
SUMMARY:Carola
DESCRIPTION:
URL:https://jubel.se/biljetter/carola-81
LOCATION:Cirkus\, Stockholm
CATEGORIES:Konsert
END:VEVENT
BEGIN:VEVENT
DTSTART;VALUE=DATE:20251205
DTEND;VALUE=DATE:20251206
DTSTAMP:20260420T041719
CREATED:20250903T060025Z
LAST-MODIFIED:20250902T122619Z
UID:10001292-1764892800-1764979199@jubel.se
SUMMARY:Stjärnenätter
DESCRIPTION:
URL:https://jubel.se/biljetter/stjarnenatter-13
LOCATION:Storsjöteatern\, Östersund
CATEGORIES:Konsert
END:VEVENT
BEGIN:VEVENT
DTSTART;VALUE=DATE:20251204
DTEND;VALUE=DATE:20251205
DTSTAMP:20260420T041719
CREATED:20251106T090005Z
LAST-MODIFIED:20251106T093437Z
UID:10001379-1764806400-1764892799@jubel.se
SUMMARY:Barnens Julvärld
DESCRIPTION:
URL:https://jubel.se/biljetter/barnens-julvarld-13
LOCATION:Wisby Strand\, Visby
CATEGORIES:Föreställning
END:VEVENT
BEGIN:VEVENT
DTSTART;VALUE=DATE:20251204
DTEND;VALUE=DATE:20251205
DTSTAMP:20260420T041719
CREATED:20250904T081804Z
LAST-MODIFIED:20250904T081906Z
UID:10001310-1764806400-1764892799@jubel.se
SUMMARY:Carola
DESCRIPTION:
URL:https://jubel.se/biljetter/carola-80
LOCATION:Cirkus\, Stockholm
CATEGORIES:Konsert
END:VEVENT
BEGIN:VEVENT
DTSTART;VALUE=DATE:20251204
DTEND;VALUE=DATE:20251205
DTSTAMP:20260420T041719
CREATED:20250903T060048Z
LAST-MODIFIED:20250909T094914Z
UID:10001297-1764806400-1764892799@jubel.se
SUMMARY:Stjärnenätter
DESCRIPTION:
URL:https://jubel.se/biljetter/stjarnenatter-17
LOCATION:Kulturhuset\, Bollnäs
CATEGORIES:Konsert
END:VEVENT
BEGIN:VEVENT
DTSTART;VALUE=DATE:20251130
DTEND;VALUE=DATE:20251201
DTSTAMP:20260420T041719
CREATED:20250922T110607Z
LAST-MODIFIED:20250922T120319Z
UID:10001337-1764460800-1764547199@jubel.se
SUMMARY:Mark Levengood & Viktor Norén
DESCRIPTION:
URL:https://jubel.se/biljetter/mark-levengood-viktor-noren-viktor-noren
LOCATION:Filadelfiakyrkan\, Stockholm
CATEGORIES:Konsert
END:VEVENT
BEGIN:VEVENT
DTSTART;VALUE=DATE:20251130
DTEND;VALUE=DATE:20251201
DTSTAMP:20260420T041719
CREATED:20250911T081934Z
LAST-MODIFIED:20250911T081934Z
UID:10001319-1764460800-1764547199@jubel.se
SUMMARY:Barnens Julvärld
DESCRIPTION:
URL:https://jubel.se/biljetter/barnens-julvarld-3
LOCATION:Larslunds scen\, Strängnäs
CATEGORIES:Föreställning
END:VEVENT
BEGIN:VEVENT
DTSTART;VALUE=DATE:20251129
DTEND;VALUE=DATE:20251130
DTSTAMP:20260420T041719
CREATED:20251117T143131Z
LAST-MODIFIED:20251117T143131Z
UID:10001389-1764374400-1764460799@jubel.se
SUMMARY:Sofia Karlsson
DESCRIPTION:
URL:https://jubel.se/biljetter/sofia-karlsson-112
LOCATION:Cirkus\, Stockholm
CATEGORIES:Konsert
END:VEVENT
BEGIN:VEVENT
DTSTART;VALUE=DATE:20251129
DTEND;VALUE=DATE:20251130
DTSTAMP:20260420T041719
CREATED:20251016T131337Z
LAST-MODIFIED:20251016T131337Z
UID:10001364-1764374400-1764460799@jubel.se
SUMMARY:John Lindberg Trio
DESCRIPTION:
URL:https://jubel.se/biljetter/john-lindberg-trio-70
LOCATION:Hotell Klockargården\, Tällberg
CATEGORIES:Konsert
END:VEVENT
BEGIN:VEVENT
DTSTART;VALUE=DATE:20251129
DTEND;VALUE=DATE:20251130
DTSTAMP:20260420T041719
CREATED:20250224T153945Z
LAST-MODIFIED:20250224T153945Z
UID:10000988-1764374400-1764460799@jubel.se
SUMMARY:Peter Jöback
DESCRIPTION:
URL:https://jubel.se/biljetter/peter-joback-21
LOCATION:Avicii Arena\, Stockholm
CATEGORIES:Konsert
END:VEVENT
BEGIN:VEVENT
DTSTART;VALUE=DATE:20251128
DTEND;VALUE=DATE:20251129
DTSTAMP:20260420T041719
CREATED:20251016T131213Z
LAST-MODIFIED:20251016T131213Z
UID:10001362-1764288000-1764374399@jubel.se
SUMMARY:John Lindberg Trio
DESCRIPTION:
URL:https://jubel.se/biljetter/john-lindberg-trio-68
LOCATION:Hotell Klockargården\, Tällberg
END:VEVENT
BEGIN:VEVENT
DTSTART;VALUE=DATE:20251128
DTEND;VALUE=DATE:20251129
DTSTAMP:20260420T041719
CREATED:20250612T140752Z
LAST-MODIFIED:20250612T140752Z
UID:10001242-1764288000-1764374399@jubel.se
SUMMARY:Maxida Märak
DESCRIPTION:
URL:https://jubel.se/biljetter/maxida-marak-40
LOCATION:Cirkus\, Stockholm
CATEGORIES:Konsert
END:VEVENT
BEGIN:VEVENT
DTSTART;TZID=Europe/Stockholm:20251127T080000
DTEND;TZID=Europe/Stockholm:20251127T170000
DTSTAMP:20260420T041719
CREATED:20251128T090052Z
LAST-MODIFIED:20251127T152315Z
UID:10001416-1764230400-1764262800@jubel.se
SUMMARY:John Lindberg Trio
DESCRIPTION:
URL:https://jubel.se/biljetter/john-lindberg-trio-82
CATEGORIES:Konsert
END:VEVENT
BEGIN:VEVENT
DTSTART;VALUE=DATE:20251127
DTEND;VALUE=DATE:20251130
DTSTAMP:20260420T041719
CREATED:20250612T083902Z
LAST-MODIFIED:20250612T084318Z
UID:10001237-1764201600-1764460799@jubel.se
SUMMARY:En helg för Cornelis
DESCRIPTION:
URL:https://jubel.se/biljetter/en-helg-for-cornelis
LOCATION:Cirkus\, Stockholm
CATEGORIES:Konsert
END:VEVENT
BEGIN:VEVENT
DTSTART;VALUE=DATE:20251127
DTEND;VALUE=DATE:20251128
DTSTAMP:20260420T041719
CREATED:20251006T133850Z
LAST-MODIFIED:20251006T133850Z
UID:10001354-1764201600-1764287999@jubel.se
SUMMARY:AKA Lisa
DESCRIPTION:
URL:https://jubel.se/biljetter/aka-lisa-4
LOCATION:Viva Sounds\, Göteborg
CATEGORIES:Konsert
END:VEVENT
BEGIN:VEVENT
DTSTART;VALUE=DATE:20251127
DTEND;VALUE=DATE:20251128
DTSTAMP:20260420T041719
CREATED:20250521T085015Z
LAST-MODIFIED:20251007T101336Z
UID:10001166-1764201600-1764287999@jubel.se
SUMMARY:Moa Lignell
DESCRIPTION:
URL:https://jubel.se/biljetter/moa-lignell-20
LOCATION:Victoriateatern\, Malmö
CATEGORIES:Konsert
END:VEVENT
BEGIN:VEVENT
DTSTART;VALUE=DATE:20251123
DTEND;VALUE=DATE:20251124
DTSTAMP:20260420T041719
CREATED:20250911T081832Z
LAST-MODIFIED:20250911T081832Z
UID:10001318-1763856000-1763942399@jubel.se
SUMMARY:Barnens Julvärld
DESCRIPTION:
URL:https://jubel.se/biljetter/barnens-julvarld-2
LOCATION:Biljardkompaniet\, Kristianstad
CATEGORIES:Föreställning
END:VEVENT
BEGIN:VEVENT
DTSTART;VALUE=DATE:20251123
DTEND;VALUE=DATE:20251124
DTSTAMP:20260420T041719
CREATED:20250521T084609Z
LAST-MODIFIED:20250521T084609Z
UID:10001165-1763856000-1763942399@jubel.se
SUMMARY:Moa Lignell
DESCRIPTION:
URL:https://jubel.se/biljetter/moa-lignell-19
LOCATION:Bio Skandia\, Stockholm
CATEGORIES:Konsert
END:VEVENT
BEGIN:VEVENT
DTSTART;VALUE=DATE:20251122
DTEND;VALUE=DATE:20251123
DTSTAMP:20260420T041719
CREATED:20250911T074146Z
LAST-MODIFIED:20250911T080704Z
UID:10001317-1763769600-1763855999@jubel.se
SUMMARY:Barnens Julvärld
DESCRIPTION:
URL:https://jubel.se/biljetter/barnens-julvarld
LOCATION:The Pot\, Karlshamn
CATEGORIES:Föreställning
END:VEVENT
BEGIN:VEVENT
DTSTART;VALUE=DATE:20251122
DTEND;VALUE=DATE:20251123
DTSTAMP:20260420T041719
CREATED:20250820T080039Z
LAST-MODIFIED:20250819T133704Z
UID:10001279-1763769600-1763855999@jubel.se
SUMMARY:Moa Lignell
DESCRIPTION:
URL:https://jubel.se/biljetter/moa-lignell-21
LOCATION:Skeppet GBG\, Göteborg
CATEGORIES:Konsert
END:VEVENT
BEGIN:VEVENT
DTSTART;VALUE=DATE:20251122
DTEND;VALUE=DATE:20251123
DTSTAMP:20260420T041719
CREATED:20250224T153855Z
LAST-MODIFIED:20250224T153855Z
UID:10000987-1763769600-1763855999@jubel.se
SUMMARY:Peter Jöback
DESCRIPTION:
URL:https://jubel.se/biljetter/peter-joback-20
LOCATION:Göransson Arena\, Sandviken
CATEGORIES:Konsert
END:VEVENT
BEGIN:VEVENT
DTSTART;VALUE=DATE:20251121
DTEND;VALUE=DATE:20251122
DTSTAMP:20260420T041719
CREATED:20250224T153755Z
LAST-MODIFIED:20250224T153755Z
UID:10000986-1763683200-1763769599@jubel.se
SUMMARY:Peter Jöback
DESCRIPTION:
URL:https://jubel.se/biljetter/peter-joback-19
LOCATION:Hägglunds Arena\, Örnsköldsvik
CATEGORIES:Konsert
END:VEVENT
BEGIN:VEVENT
DTSTART;VALUE=DATE:20251121
DTEND;VALUE=DATE:20251122
DTSTAMP:20260420T041719
CREATED:20241217T080635Z
LAST-MODIFIED:20250917T072702Z
UID:10000911-1763683200-1763769599@jubel.se
SUMMARY:Tomas Andersson Wij
DESCRIPTION:
URL:https://jubel.se/biljetter/tomas-andersson-wij-98
LOCATION:Katarina kyrka\, Stockholm
CATEGORIES:Konsert
END:VEVENT
END:VCALENDAR