BEGIN:VCALENDAR
VERSION:2.0
PRODID:-//Jubel - ECPv6.15.20//NONSGML v1.0//EN
CALSCALE:GREGORIAN
METHOD:PUBLISH
X-WR-CALNAME:Jubel
X-ORIGINAL-URL:https://jubel.se
X-WR-CALDESC:Händelser för Jubel
REFRESH-INTERVAL;VALUE=DURATION:PT1H
X-Robots-Tag:noindex
X-PUBLISHED-TTL:PT1H
BEGIN:VTIMEZONE
TZID:Europe/Stockholm
BEGIN:DAYLIGHT
TZOFFSETFROM:+0100
TZOFFSETTO:+0200
TZNAME:CEST
DTSTART:20250330T010000
END:DAYLIGHT
BEGIN:STANDARD
TZOFFSETFROM:+0200
TZOFFSETTO:+0100
TZNAME:CET
DTSTART:20251026T010000
END:STANDARD
BEGIN:DAYLIGHT
TZOFFSETFROM:+0100
TZOFFSETTO:+0200
TZNAME:CEST
DTSTART:20260329T010000
END:DAYLIGHT
BEGIN:STANDARD
TZOFFSETFROM:+0200
TZOFFSETTO:+0100
TZNAME:CET
DTSTART:20261025T010000
END:STANDARD
BEGIN:DAYLIGHT
TZOFFSETFROM:+0100
TZOFFSETTO:+0200
TZNAME:CEST
DTSTART:20270328T010000
END:DAYLIGHT
BEGIN:STANDARD
TZOFFSETFROM:+0200
TZOFFSETTO:+0100
TZNAME:CET
DTSTART:20271031T010000
END:STANDARD
END:VTIMEZONE
BEGIN:VEVENT
DTSTART;VALUE=DATE:20260716
DTEND;VALUE=DATE:20260717
DTSTAMP:20260419T235337
CREATED:20251218T084242Z
LAST-MODIFIED:20251218T084242Z
UID:10001457-1784160000-1784246399@jubel.se
SUMMARY:Per Persson
DESCRIPTION:
URL:https://jubel.se/biljetter/per-persson-16
LOCATION:Äteriet\, Borlänge
CATEGORIES:Konsert
END:VEVENT
BEGIN:VEVENT
DTSTART;VALUE=DATE:20260716
DTEND;VALUE=DATE:20260717
DTSTAMP:20260419T235337
CREATED:20260130T084628Z
LAST-MODIFIED:20260130T084628Z
UID:10001518-1784160000-1784246399@jubel.se
SUMMARY:Tommy Nilsson
DESCRIPTION:
URL:https://jubel.se/biljetter/tommy-nilsson-12
LOCATION:Kackelstugan\, Borgholm
CATEGORIES:Konsert
END:VEVENT
BEGIN:VEVENT
DTSTART;VALUE=DATE:20260717
DTEND;VALUE=DATE:20260718
DTSTAMP:20260419T235337
CREATED:20251203T070033Z
LAST-MODIFIED:20251202T205628Z
UID:10001429-1784246400-1784332799@jubel.se
SUMMARY:Tommy Körberg
DESCRIPTION:
URL:https://jubel.se/biljetter/tommy-korberg
LOCATION:Musikkväll på Kalfjäll\, Tänndalen
CATEGORIES:Konsert
END:VEVENT
BEGIN:VEVENT
DTSTART;VALUE=DATE:20260717
DTEND;VALUE=DATE:20260718
DTSTAMP:20260419T235337
CREATED:20251217T080053Z
LAST-MODIFIED:20251216T153751Z
UID:10001447-1784246400-1784332799@jubel.se
SUMMARY:Viktor Norén
DESCRIPTION:
URL:https://jubel.se/biljetter/viktor-noren-67
LOCATION:Högbo bruk\, Sandviken
CATEGORIES:Konsert
END:VEVENT
BEGIN:VEVENT
DTSTART;VALUE=DATE:20260717
DTEND;VALUE=DATE:20260718
DTSTAMP:20260419T235337
CREATED:20251217T081701Z
LAST-MODIFIED:20251217T081701Z
UID:10001454-1784246400-1784332799@jubel.se
SUMMARY:Moa Lignell
DESCRIPTION:
URL:https://jubel.se/biljetter/moa-lignell-22
LOCATION:Axmar Bruk\, Axmar
CATEGORIES:Konsert
END:VEVENT
BEGIN:VEVENT
DTSTART;VALUE=DATE:20260717
DTEND;VALUE=DATE:20260718
DTSTAMP:20260419T235337
CREATED:20260213T093157Z
LAST-MODIFIED:20260213T093349Z
UID:10001539-1784246400-1784332799@jubel.se
SUMMARY:noll2
DESCRIPTION:
URL:https://jubel.se/biljetter/noll2-8
LOCATION:Härnösands Stadsfest
CATEGORIES:Konsert
END:VEVENT
BEGIN:VEVENT
DTSTART;VALUE=DATE:20260718
DTEND;VALUE=DATE:20260719
DTSTAMP:20260419T235337
CREATED:20251217T080032Z
LAST-MODIFIED:20251216T153103Z
UID:10001448-1784332800-1784419199@jubel.se
SUMMARY:Viktor Norén
DESCRIPTION:
URL:https://jubel.se/biljetter/viktor-noren-68
LOCATION:Alsters herrgård\, Karlstad
CATEGORIES:Konsert
END:VEVENT
BEGIN:VEVENT
DTSTART;VALUE=DATE:20260718
DTEND;VALUE=DATE:20260719
DTSTAMP:20260419T235337
CREATED:20260206T154944Z
LAST-MODIFIED:20260213T092700Z
UID:10001528-1784332800-1784419199@jubel.se
SUMMARY:noll2
DESCRIPTION:
URL:https://jubel.se/biljetter/noll2
LOCATION:Gröna Lund\, Stockholm
CATEGORIES:Konsert
END:VEVENT
BEGIN:VEVENT
DTSTART;VALUE=DATE:20260719
DTEND;VALUE=DATE:20260720
DTSTAMP:20260419T235337
CREATED:20251217T080010Z
LAST-MODIFIED:20260129T124813Z
UID:10001449-1784419200-1784505599@jubel.se
SUMMARY:Viktor Norén
DESCRIPTION:
URL:https://jubel.se/biljetter/viktor-noren-69
LOCATION:Stenegård\, Järvsö
CATEGORIES:Konsert
END:VEVENT
BEGIN:VEVENT
DTSTART;VALUE=DATE:20260719
DTEND;VALUE=DATE:20260720
DTSTAMP:20260419T235337
CREATED:20251219T160046Z
LAST-MODIFIED:20251219T160046Z
UID:10001475-1784419200-1784505599@jubel.se
SUMMARY:Engmans Kapell
DESCRIPTION:
URL:https://jubel.se/biljetter/engmans-kapell-53
LOCATION:Stenegård\, Järvsö
CATEGORIES:Konsert
END:VEVENT
BEGIN:VEVENT
DTSTART;VALUE=DATE:20260720
DTEND;VALUE=DATE:20260721
DTSTAMP:20260419T235337
CREATED:20260227T095354Z
LAST-MODIFIED:20260227T095354Z
UID:10001565-1784505600-1784591999@jubel.se
SUMMARY:Ainbusk
DESCRIPTION:
URL:https://jubel.se/biljetter/ainbusk
LOCATION:Närsakar Scen\, Gotland
CATEGORIES:Konsert
END:VEVENT
BEGIN:VEVENT
DTSTART;VALUE=DATE:20260720
DTEND;VALUE=DATE:20260721
DTSTAMP:20260419T235337
CREATED:20260306T090400Z
LAST-MODIFIED:20260306T090400Z
UID:10001589-1784505600-1784591999@jubel.se
SUMMARY:Viktor Norén
DESCRIPTION:
URL:https://jubel.se/biljetter/viktor-noren-80
LOCATION:Alsters herrgård\, Karlstad
CATEGORIES:Konsert
END:VEVENT
BEGIN:VEVENT
DTSTART;VALUE=DATE:20260721
DTEND;VALUE=DATE:20260722
DTSTAMP:20260419T235337
CREATED:20251217T081757Z
LAST-MODIFIED:20251217T081757Z
UID:10001455-1784592000-1784678399@jubel.se
SUMMARY:Eric Gadd
DESCRIPTION:
URL:https://jubel.se/biljetter/eric-gadd
LOCATION:Axmar Bruk\, Axmar
CATEGORIES:Konsert
END:VEVENT
BEGIN:VEVENT
DTSTART;VALUE=DATE:20260721
DTEND;VALUE=DATE:20260722
DTSTAMP:20260419T235337
CREATED:20260325T070055Z
LAST-MODIFIED:20260324T155257Z
UID:10001618-1784592000-1784678399@jubel.se
SUMMARY:Peter Jöback
DESCRIPTION:
URL:https://jubel.se/biljetter/peter-joback-49
LOCATION:Ystegårn\, Forsa
CATEGORIES:Konsert
END:VEVENT
BEGIN:VEVENT
DTSTART;VALUE=DATE:20260721
DTEND;VALUE=DATE:20260722
DTSTAMP:20260419T235337
CREATED:20260414T094354Z
LAST-MODIFIED:20260414T095045Z
UID:10001646-1784592000-1784678399@jubel.se
SUMMARY:Viktor Norén
DESCRIPTION:
URL:https://jubel.se/biljetter/viktor-noren-96
LOCATION:Solliden Sessions\, Borgholm
CATEGORIES:Konsert
END:VEVENT
BEGIN:VEVENT
DTSTART;VALUE=DATE:20260722
DTEND;VALUE=DATE:20260723
DTSTAMP:20260419T235337
CREATED:20251219T074740Z
LAST-MODIFIED:20251219T074914Z
UID:10001459-1784678400-1784764799@jubel.se
SUMMARY:Eric Gadd & Blacknuss
DESCRIPTION:
URL:https://jubel.se/biljetter/eric-gadd-blacknuss
LOCATION:Åresjön\, Åre
CATEGORIES:Konsert
END:VEVENT
BEGIN:VEVENT
DTSTART;VALUE=DATE:20260723
DTEND;VALUE=DATE:20260724
DTSTAMP:20260419T235337
CREATED:20260408T151322Z
LAST-MODIFIED:20260408T151322Z
UID:10001636-1784764800-1784851199@jubel.se
SUMMARY:noll2
DESCRIPTION:
URL:https://jubel.se/biljetter/noll2-24
LOCATION:Kulturhustorget Live\, Skövde
END:VEVENT
BEGIN:VEVENT
DTSTART;VALUE=DATE:20260724
DTEND;VALUE=DATE:20260725
DTSTAMP:20260419T235337
CREATED:20251217T080007Z
LAST-MODIFIED:20251216T153451Z
UID:10001450-1784851200-1784937599@jubel.se
SUMMARY:Viktor Norén
DESCRIPTION:
URL:https://jubel.se/biljetter/viktor-noren-70
LOCATION:Vassholmen\, Kalix
CATEGORIES:Konsert
END:VEVENT
BEGIN:VEVENT
DTSTART;VALUE=DATE:20260724
DTEND;VALUE=DATE:20260725
DTSTAMP:20260419T235337
CREATED:20260225T075300Z
LAST-MODIFIED:20260225T075300Z
UID:10001555-1784851200-1784937599@jubel.se
SUMMARY:Tommy Nilsson
DESCRIPTION:
URL:https://jubel.se/biljetter/tommy-nilsson-16
LOCATION:Under Bar Himmel\, Örebro
CATEGORIES:Konsert
END:VEVENT
BEGIN:VEVENT
DTSTART;VALUE=DATE:20260724
DTEND;VALUE=DATE:20260725
DTSTAMP:20260419T235337
CREATED:20260225T110037Z
LAST-MODIFIED:20260225T124052Z
UID:10001558-1784851200-1784937599@jubel.se
SUMMARY:Sanna Nielsen
DESCRIPTION:
URL:https://jubel.se/biljetter/sanna-nielsen-4
LOCATION:Solliden Sessions\, Borgholm
CATEGORIES:Konsert
END:VEVENT
BEGIN:VEVENT
DTSTART;VALUE=DATE:20260725
DTEND;VALUE=DATE:20260726
DTSTAMP:20260419T235337
CREATED:20251211T143538Z
LAST-MODIFIED:20251211T143538Z
UID:10001442-1784937600-1785023999@jubel.se
SUMMARY:Mimikry
DESCRIPTION:
URL:https://jubel.se/biljetter/mimikry-34
LOCATION:Solsting 2026\, Lindesberg
CATEGORIES:Festival
END:VEVENT
BEGIN:VEVENT
DTSTART;VALUE=DATE:20260725
DTEND;VALUE=DATE:20260726
DTSTAMP:20260419T235337
CREATED:20251216T094641Z
LAST-MODIFIED:20251216T094641Z
UID:10001444-1784937600-1785023999@jubel.se
SUMMARY:Markus Krunegård
DESCRIPTION:
URL:https://jubel.se/biljetter/markus-krunegard
LOCATION:Musikkväll på Kalfjäll\, Tänndalen
CATEGORIES:Konsert
END:VEVENT
BEGIN:VEVENT
DTSTART;VALUE=DATE:20260725
DTEND;VALUE=DATE:20260726
DTSTAMP:20260419T235337
CREATED:20251217T094917Z
LAST-MODIFIED:20251217T094917Z
UID:10001456-1784937600-1785023999@jubel.se
SUMMARY:Sanna Nielsen
DESCRIPTION:
URL:https://jubel.se/biljetter/sanna-nielsen-3
LOCATION:Bäckaskog slott\, Fjälkinge
CATEGORIES:Konsert
END:VEVENT
BEGIN:VEVENT
DTSTART;VALUE=DATE:20260725
DTEND;VALUE=DATE:20260726
DTSTAMP:20260419T235337
CREATED:20251219T155809Z
LAST-MODIFIED:20251219T155809Z
UID:10001474-1784937600-1785023999@jubel.se
SUMMARY:Engmans Kapell
DESCRIPTION:
URL:https://jubel.se/biljetter/engmans-kapell-52
LOCATION:Hudikkalaset\, Hudiksvall
CATEGORIES:Konsert
END:VEVENT
BEGIN:VEVENT
DTSTART;VALUE=DATE:20260725
DTEND;VALUE=DATE:20260726
DTSTAMP:20260419T235337
CREATED:20260213T091529Z
LAST-MODIFIED:20260213T091529Z
UID:10001537-1784937600-1785023999@jubel.se
SUMMARY:noll2
DESCRIPTION:
URL:https://jubel.se/biljetter/noll2-6
LOCATION:Hudikkalaset\, Hudiksvall
CATEGORIES:Festival
END:VEVENT
BEGIN:VEVENT
DTSTART;VALUE=DATE:20260725
DTEND;VALUE=DATE:20260726
DTSTAMP:20260419T235337
CREATED:20260225T110007Z
LAST-MODIFIED:20260225T101913Z
UID:10001557-1784937600-1785023999@jubel.se
SUMMARY:Peter Jöback
DESCRIPTION:
URL:https://jubel.se/biljetter/peter-joback-48
LOCATION:Solliden Sessions\, Borgholm
CATEGORIES:Konsert
END:VEVENT
BEGIN:VEVENT
DTSTART;VALUE=DATE:20260725
DTEND;VALUE=DATE:20260726
DTSTAMP:20260419T235337
CREATED:20260226T172816Z
LAST-MODIFIED:20260226T172816Z
UID:10001563-1784937600-1785023999@jubel.se
SUMMARY:Lasse Holm
DESCRIPTION:
URL:https://jubel.se/biljetter/lasse-holm-16
LOCATION:Drömmen Festival\, Tylösand
CATEGORIES:Konsert
END:VEVENT
BEGIN:VEVENT
DTSTART;VALUE=DATE:20260725
DTEND;VALUE=DATE:20260726
DTSTAMP:20260419T235337
CREATED:20260302T081219Z
LAST-MODIFIED:20260302T081254Z
UID:10001573-1784937600-1785023999@jubel.se
SUMMARY:Maxida Märak
DESCRIPTION:
URL:https://jubel.se/biljetter/maxida-marak-55
LOCATION:Márkomeannu\, Evenskjer (NO)
CATEGORIES:Festival
END:VEVENT
BEGIN:VEVENT
DTSTART;VALUE=DATE:20260726
DTEND;VALUE=DATE:20260727
DTSTAMP:20260419T235337
CREATED:20251205T143812Z
LAST-MODIFIED:20251205T143812Z
UID:10001430-1785024000-1785110399@jubel.se
SUMMARY:John Lindberg Trio
DESCRIPTION:
URL:https://jubel.se/biljetter/john-lindberg-trio-88
LOCATION:Classic-kalaset\, Rättvik
CATEGORIES:Festival
END:VEVENT
BEGIN:VEVENT
DTSTART;VALUE=DATE:20260728
DTEND;VALUE=DATE:20260729
DTSTAMP:20260419T235337
CREATED:20251125T070027Z
LAST-MODIFIED:20251124T225536Z
UID:10001410-1785196800-1785283199@jubel.se
SUMMARY:Moonica Mac
DESCRIPTION:
URL:https://jubel.se/biljetter/moonica-mac
LOCATION:Ystegårn\, Forsa
CATEGORIES:Konsert
END:VEVENT
END:VCALENDAR