BEGIN:VCALENDAR
VERSION:2.0
PRODID:-//Jubel - ECPv6.15.20//NONSGML v1.0//EN
CALSCALE:GREGORIAN
METHOD:PUBLISH
X-ORIGINAL-URL:https://jubel.se
X-WR-CALDESC:Händelser för Jubel
REFRESH-INTERVAL;VALUE=DURATION:PT1H
X-Robots-Tag:noindex
X-PUBLISHED-TTL:PT1H
BEGIN:VTIMEZONE
TZID:Europe/Stockholm
BEGIN:DAYLIGHT
TZOFFSETFROM:+0100
TZOFFSETTO:+0200
TZNAME:CEST
DTSTART:20240331T010000
END:DAYLIGHT
BEGIN:STANDARD
TZOFFSETFROM:+0200
TZOFFSETTO:+0100
TZNAME:CET
DTSTART:20241027T010000
END:STANDARD
BEGIN:DAYLIGHT
TZOFFSETFROM:+0100
TZOFFSETTO:+0200
TZNAME:CEST
DTSTART:20250330T010000
END:DAYLIGHT
BEGIN:STANDARD
TZOFFSETFROM:+0200
TZOFFSETTO:+0100
TZNAME:CET
DTSTART:20251026T010000
END:STANDARD
BEGIN:DAYLIGHT
TZOFFSETFROM:+0100
TZOFFSETTO:+0200
TZNAME:CEST
DTSTART:20260329T010000
END:DAYLIGHT
BEGIN:STANDARD
TZOFFSETFROM:+0200
TZOFFSETTO:+0100
TZNAME:CET
DTSTART:20261025T010000
END:STANDARD
END:VTIMEZONE
BEGIN:VEVENT
DTSTART;VALUE=DATE:20251018
DTEND;VALUE=DATE:20251019
DTSTAMP:20260420T072305
CREATED:20250224T153340Z
LAST-MODIFIED:20250224T153340Z
UID:10000982-1760745600-1760831999@jubel.se
SUMMARY:Peter Jöback
DESCRIPTION:
URL:https://jubel.se/biljetter/peter-joback-15
LOCATION:Vida Arena\, Växjö
CATEGORIES:Konsert
END:VEVENT
BEGIN:VEVENT
DTSTART;VALUE=DATE:20251018
DTEND;VALUE=DATE:20251019
DTSTAMP:20260420T072305
CREATED:20250424T080656Z
LAST-MODIFIED:20250425T133126Z
UID:10001108-1760745600-1760831999@jubel.se
SUMMARY:Viktor Norén
DESCRIPTION:
URL:https://jubel.se/biljetter/viktor-noren-49
LOCATION:Magasinet\, Tullkammaregatan 12\, Falun\, 791 31
CATEGORIES:Konsert
END:VEVENT
BEGIN:VEVENT
DTSTART;VALUE=DATE:20251017
DTEND;VALUE=DATE:20251018
DTSTAMP:20260420T072305
CREATED:20250224T152820Z
LAST-MODIFIED:20250224T152820Z
UID:10000981-1760659200-1760745599@jubel.se
SUMMARY:Peter Jöback
DESCRIPTION:
URL:https://jubel.se/biljetter/peter-joback-14
LOCATION:Helsingborg Arena\, Helsingborg
CATEGORIES:Konsert
END:VEVENT
BEGIN:VEVENT
DTSTART;VALUE=DATE:20251011
DTEND;VALUE=DATE:20251012
DTSTAMP:20260420T072305
CREATED:20250711T151635Z
LAST-MODIFIED:20250711T151635Z
UID:10001262-1760140800-1760227199@jubel.se
SUMMARY:John Lindberg Trio
DESCRIPTION:
URL:https://jubel.se/biljetter/john-lindberg-trio-54
LOCATION:Öja Krog\, Ystad
CATEGORIES:Konsert
END:VEVENT
BEGIN:VEVENT
DTSTART;VALUE=DATE:20251011
DTEND;VALUE=DATE:20251012
DTSTAMP:20260420T072305
CREATED:20250528T070004Z
LAST-MODIFIED:20250527T134025Z
UID:10001190-1760140800-1760227199@jubel.se
SUMMARY:Tomas Andersson Wij
DESCRIPTION:
URL:https://jubel.se/biljetter/tomas-andersson-wij-121
LOCATION:Carl Gustafs kyrka\, Karlshamn
CATEGORIES:Konsert
END:VEVENT
BEGIN:VEVENT
DTSTART;VALUE=DATE:20251011
DTEND;VALUE=DATE:20251012
DTSTAMP:20260420T072305
CREATED:20250224T152645Z
LAST-MODIFIED:20250224T152645Z
UID:10000980-1760140800-1760227199@jubel.se
SUMMARY:Peter Jöback
DESCRIPTION:
URL:https://jubel.se/biljetter/peter-joback-13
LOCATION:Saab Arena\, Linköping
CATEGORIES:Konsert
END:VEVENT
BEGIN:VEVENT
DTSTART;VALUE=DATE:20251011
DTEND;VALUE=DATE:20251012
DTSTAMP:20260420T072305
CREATED:20250206T152730Z
LAST-MODIFIED:20250206T152730Z
UID:10000970-1760140800-1760227199@jubel.se
SUMMARY:Moreau
DESCRIPTION:
URL:https://jubel.se/biljetter/moreau-18
LOCATION:Biljardkompaniet\, Kristianstad
CATEGORIES:Konsert
END:VEVENT
BEGIN:VEVENT
DTSTART;VALUE=DATE:20251011
DTEND;VALUE=DATE:20251012
DTSTAMP:20260420T072305
CREATED:20241218T191527Z
LAST-MODIFIED:20241218T191527Z
UID:10000941-1760140800-1760227199@jubel.se
SUMMARY:Carola
DESCRIPTION:
URL:https://jubel.se/biljetter/carola-79
LOCATION:Unity Arena\, Fornebu
CATEGORIES:Konsert
END:VEVENT
BEGIN:VEVENT
DTSTART;VALUE=DATE:20251011
DTEND;VALUE=DATE:20251012
DTSTAMP:20260420T072305
CREATED:20250424T080532Z
LAST-MODIFIED:20250424T081008Z
UID:10001107-1760140800-1760227199@jubel.se
SUMMARY:Viktor Norén
DESCRIPTION:
URL:https://jubel.se/biljetter/viktor-noren-48
LOCATION:Idunteatern\, Folkets Hus\, Umeå
CATEGORIES:Konsert
END:VEVENT
BEGIN:VEVENT
DTSTART;TZID=Europe/Stockholm:20251010T190000
DTEND;TZID=Europe/Stockholm:20251010T210000
DTSTAMP:20260420T072305
CREATED:20250523T124158Z
LAST-MODIFIED:20250523T124158Z
UID:10001180-1760122800-1760130000@jubel.se
SUMMARY:Tomas Andersson Wij
DESCRIPTION:
URL:https://jubel.se/biljetter/tomas-andersson-wij-116
LOCATION:Allhelgonakyrkan\, Allhelgona kyrkogata 1\, Lund\, 222 21\, Sweden
CATEGORIES:Konsert
END:VEVENT
BEGIN:VEVENT
DTSTART;VALUE=DATE:20251010
DTEND;VALUE=DATE:20251011
DTSTAMP:20260420T072305
CREATED:20250606T073032Z
LAST-MODIFIED:20250606T075443Z
UID:10001229-1760054400-1760140799@jubel.se
SUMMARY:Maxida Märak
DESCRIPTION:
URL:https://jubel.se/biljetter/maxida-marak-38
LOCATION:Kulturhuset grand\, Ljungby
CATEGORIES:Konsert
END:VEVENT
BEGIN:VEVENT
DTSTART;VALUE=DATE:20251010
DTEND;VALUE=DATE:20251011
DTSTAMP:20260420T072305
CREATED:20250303T152246Z
LAST-MODIFIED:20250303T152246Z
UID:10001000-1760054400-1760140799@jubel.se
SUMMARY:Atomic Swing
DESCRIPTION:
URL:https://jubel.se/biljetter/atomic-swing-20
LOCATION:Tavara-asema\, Tampere\, Finland
CATEGORIES:Konsert
END:VEVENT
BEGIN:VEVENT
DTSTART;VALUE=DATE:20251010
DTEND;VALUE=DATE:20251011
DTSTAMP:20260420T072305
CREATED:20250224T152557Z
LAST-MODIFIED:20250224T152557Z
UID:10000979-1760054400-1760140799@jubel.se
SUMMARY:Peter Jöback
DESCRIPTION:
URL:https://jubel.se/biljetter/peter-joback-12
LOCATION:Löfbergs Arena\, Karlstad
CATEGORIES:Konsert
END:VEVENT
BEGIN:VEVENT
DTSTART;VALUE=DATE:20251010
DTEND;VALUE=DATE:20251011
DTSTAMP:20260420T072305
CREATED:20250424T080429Z
LAST-MODIFIED:20250425T133018Z
UID:10001106-1760054400-1760140799@jubel.se
SUMMARY:Viktor Norén
DESCRIPTION:
URL:https://jubel.se/biljetter/viktor-noren-47
LOCATION:Kulturens Hus\, Luleå
CATEGORIES:Konsert
END:VEVENT
BEGIN:VEVENT
DTSTART;VALUE=DATE:20251009
DTEND;VALUE=DATE:20251010
DTSTAMP:20260420T072305
CREATED:20250528T070039Z
LAST-MODIFIED:20250527T144012Z
UID:10001198-1759968000-1760054399@jubel.se
SUMMARY:Tomas Andersson Wij
DESCRIPTION:
URL:https://jubel.se/biljetter/tomas-andersson-wij-128
LOCATION:Sankt Anna kyrka\, Söderköping
CATEGORIES:Konsert
END:VEVENT
BEGIN:VEVENT
DTSTART;VALUE=DATE:20251009
DTEND;VALUE=DATE:20251010
DTSTAMP:20260420T072305
CREATED:20250303T152114Z
LAST-MODIFIED:20250303T152114Z
UID:10000998-1759968000-1760054399@jubel.se
SUMMARY:Atomic Swing
DESCRIPTION:
URL:https://jubel.se/biljetter/atomic-swing-19
LOCATION:Kulttuuritehdas Korjaamo\, Helsinki\, Finland
CATEGORIES:Konsert
END:VEVENT
BEGIN:VEVENT
DTSTART;VALUE=DATE:20251009
DTEND;VALUE=DATE:20251010
DTSTAMP:20260420T072305
CREATED:20250224T152339Z
LAST-MODIFIED:20250224T152339Z
UID:10000978-1759968000-1760054399@jubel.se
SUMMARY:Peter Jöback
DESCRIPTION:
URL:https://jubel.se/biljetter/peter-joback-11
LOCATION:Rosvalla Arena\, Nyköping
CATEGORIES:Konsert
END:VEVENT
BEGIN:VEVENT
DTSTART;VALUE=DATE:20251008
DTEND;VALUE=DATE:20251009
DTSTAMP:20260420T072305
CREATED:20250528T070006Z
LAST-MODIFIED:20250527T140351Z
UID:10001188-1759881600-1759967999@jubel.se
SUMMARY:Tomas Andersson Wij
DESCRIPTION:
URL:https://jubel.se/biljetter/tomas-andersson-wij-119
LOCATION:Immanuelskyrkan i Halmstad
CATEGORIES:Konsert
END:VEVENT
BEGIN:VEVENT
DTSTART;VALUE=DATE:20251008
DTEND;VALUE=DATE:20251009
DTSTAMP:20260420T072305
CREATED:20250303T151938Z
LAST-MODIFIED:20250303T151938Z
UID:10000997-1759881600-1759967999@jubel.se
SUMMARY:Atomic Swing
DESCRIPTION:
URL:https://jubel.se/biljetter/atomic-swing-18
LOCATION:Logomo Oy\, Turku\, Finland
CATEGORIES:Konsert
END:VEVENT
BEGIN:VEVENT
DTSTART;VALUE=DATE:20251007
DTEND;VALUE=DATE:20251008
DTSTAMP:20260420T072305
CREATED:20250922T142915Z
LAST-MODIFIED:20250922T142915Z
UID:10001338-1759795200-1759881599@jubel.se
SUMMARY:AKA Lisa
DESCRIPTION:
URL:https://jubel.se/biljetter/aka-lisa-3
LOCATION:Debaser Strand\, Stockholm
END:VEVENT
BEGIN:VEVENT
DTSTART;VALUE=DATE:20251007
DTEND;VALUE=DATE:20251008
DTSTAMP:20260420T072305
CREATED:20250528T070010Z
LAST-MODIFIED:20250604T122335Z
UID:10001195-1759795200-1759881599@jubel.se
SUMMARY:Tomas Andersson Wij
DESCRIPTION:
URL:https://jubel.se/biljetter/tomas-andersson-wij-120
LOCATION:Växjö domkyrka
CATEGORIES:Konsert
END:VEVENT
BEGIN:VEVENT
DTSTART;VALUE=DATE:20251006
DTEND;VALUE=DATE:20251007
DTSTAMP:20260420T072305
CREATED:20250625T135704Z
LAST-MODIFIED:20250625T135704Z
UID:10001254-1759708800-1759795199@jubel.se
SUMMARY:Tomas Andersson Wij
DESCRIPTION:
URL:https://jubel.se/biljetter/tomas-andersson-wij-126
LOCATION:Brunnparkskyran\, Tranås
CATEGORIES:Konsert
END:VEVENT
BEGIN:VEVENT
DTSTART;VALUE=DATE:20251005
DTEND;VALUE=DATE:20251006
DTSTAMP:20260420T072305
CREATED:20250606T073023Z
LAST-MODIFIED:20250606T080431Z
UID:10001228-1759622400-1759708799@jubel.se
SUMMARY:Maxida Märak
DESCRIPTION:
URL:https://jubel.se/biljetter/maxida-marak-37
LOCATION:Bio Skandia\, Stockholm
END:VEVENT
BEGIN:VEVENT
DTSTART;VALUE=DATE:20251005
DTEND;VALUE=DATE:20251006
DTSTAMP:20260420T072305
CREATED:20250528T070000Z
LAST-MODIFIED:20250527T143834Z
UID:10001197-1759622400-1759708799@jubel.se
SUMMARY:Tomas Andersson Wij
DESCRIPTION:
URL:https://jubel.se/biljetter/tomas-andersson-wij-127
LOCATION:S:t Lars kyrka\, Linköping
CATEGORIES:Konsert
END:VEVENT
BEGIN:VEVENT
DTSTART;VALUE=DATE:20251004
DTEND;VALUE=DATE:20251005
DTSTAMP:20260420T072305
CREATED:20250606T073002Z
LAST-MODIFIED:20250605T142719Z
UID:10001227-1759536000-1759622399@jubel.se
SUMMARY:Maxida Märak
DESCRIPTION:
URL:https://jubel.se/biljetter/maxida-marak-36
LOCATION:Mejeriet\, Lund
CATEGORIES:Konsert
END:VEVENT
BEGIN:VEVENT
DTSTART;VALUE=DATE:20251004
DTEND;VALUE=DATE:20251005
DTSTAMP:20260420T072305
CREATED:20250528T070023Z
LAST-MODIFIED:20250527T133049Z
UID:10001187-1759536000-1759622399@jubel.se
SUMMARY:Tomas Andersson Wij
DESCRIPTION:
URL:https://jubel.se/biljetter/tomas-andersson-wij-118
LOCATION:Sala Missionskyrka
CATEGORIES:Konsert
END:VEVENT
BEGIN:VEVENT
DTSTART;VALUE=DATE:20251004
DTEND;VALUE=DATE:20251005
DTSTAMP:20260420T072305
CREATED:20250522T070046Z
LAST-MODIFIED:20250520T144253Z
UID:10001157-1759536000-1759622399@jubel.se
SUMMARY:Engmans Kapell
DESCRIPTION:
URL:https://jubel.se/biljetter/engmans-kapell-35
LOCATION:Nalen\, Stockholm
CATEGORIES:Konsert
END:VEVENT
BEGIN:VEVENT
DTSTART;VALUE=DATE:20251004
DTEND;VALUE=DATE:20251005
DTSTAMP:20260420T072305
CREATED:20250509T075525Z
LAST-MODIFIED:20250509T075525Z
UID:10001127-1759536000-1759622399@jubel.se
SUMMARY:Lina Hedlund
DESCRIPTION:
URL:https://jubel.se/biljetter/lina-hedlund-3
LOCATION:Biljardkompaniet\, Kristianstad
CATEGORIES:Föreställning
END:VEVENT
BEGIN:VEVENT
DTSTART;VALUE=DATE:20251004
DTEND;VALUE=DATE:20251005
DTSTAMP:20260420T072305
CREATED:20250602T111330Z
LAST-MODIFIED:20250711T151439Z
UID:10001209-1759536000-1759622399@jubel.se
SUMMARY:John Lindberg Trio
DESCRIPTION:
URL:https://jubel.se/biljetter/john-lindberg-trio-61
LOCATION:Katalin\, Uppsala
CATEGORIES:Konsert
END:VEVENT
BEGIN:VEVENT
DTSTART;VALUE=DATE:20251004
DTEND;VALUE=DATE:20251005
DTSTAMP:20260420T072305
CREATED:20250424T080320Z
LAST-MODIFIED:20250424T081059Z
UID:10001105-1759536000-1759622399@jubel.se
SUMMARY:Viktor Norén
DESCRIPTION:
URL:https://jubel.se/biljetter/viktor-noren-46
LOCATION:Rival\, Mariatorget 3\, Stockholm\, 118 48
CATEGORIES:Konsert
END:VEVENT
END:VCALENDAR