BEGIN:VCALENDAR
VERSION:2.0
PRODID:-//Jubel - ECPv6.15.20//NONSGML v1.0//EN
CALSCALE:GREGORIAN
METHOD:PUBLISH
X-WR-CALNAME:Jubel
X-ORIGINAL-URL:https://jubel.se
X-WR-CALDESC:Händelser för Jubel
REFRESH-INTERVAL;VALUE=DURATION:PT1H
X-Robots-Tag:noindex
X-PUBLISHED-TTL:PT1H
BEGIN:VTIMEZONE
TZID:Europe/Stockholm
BEGIN:DAYLIGHT
TZOFFSETFROM:+0100
TZOFFSETTO:+0200
TZNAME:CEST
DTSTART:20240331T010000
END:DAYLIGHT
BEGIN:STANDARD
TZOFFSETFROM:+0200
TZOFFSETTO:+0100
TZNAME:CET
DTSTART:20241027T010000
END:STANDARD
BEGIN:DAYLIGHT
TZOFFSETFROM:+0100
TZOFFSETTO:+0200
TZNAME:CEST
DTSTART:20250330T010000
END:DAYLIGHT
BEGIN:STANDARD
TZOFFSETFROM:+0200
TZOFFSETTO:+0100
TZNAME:CET
DTSTART:20251026T010000
END:STANDARD
BEGIN:DAYLIGHT
TZOFFSETFROM:+0100
TZOFFSETTO:+0200
TZNAME:CEST
DTSTART:20260329T010000
END:DAYLIGHT
BEGIN:STANDARD
TZOFFSETFROM:+0200
TZOFFSETTO:+0100
TZNAME:CET
DTSTART:20261025T010000
END:STANDARD
END:VTIMEZONE
BEGIN:VEVENT
DTSTART;VALUE=DATE:20250927
DTEND;VALUE=DATE:20250928
DTSTAMP:20260420T085330
CREATED:20250522T071451Z
LAST-MODIFIED:20250522T133732Z
UID:10001168-1758931200-1759017599@jubel.se
SUMMARY:Engmans Kapell
DESCRIPTION:
URL:https://jubel.se/biljetter/engmans-kapell-44
LOCATION:Iggesunds Folkets Hus
CATEGORIES:Konsert
END:VEVENT
BEGIN:VEVENT
DTSTART;VALUE=DATE:20250927
DTEND;VALUE=DATE:20250928
DTSTAMP:20260420T085330
CREATED:20250424T080137Z
LAST-MODIFIED:20250424T081137Z
UID:10001102-1758931200-1759017599@jubel.se
SUMMARY:Viktor Norén
DESCRIPTION:
URL:https://jubel.se/biljetter/viktor-noren-43
LOCATION:Kalmarsalen\, Kalmar
CATEGORIES:Konsert
END:VEVENT
BEGIN:VEVENT
DTSTART;VALUE=DATE:20250926
DTEND;VALUE=DATE:20250927
DTSTAMP:20260420T085330
CREATED:20250916T141801Z
LAST-MODIFIED:20250916T141801Z
UID:10001329-1758844800-1758931199@jubel.se
SUMMARY:Division 7
DESCRIPTION:
URL:https://jubel.se/biljetter/division-7-32
LOCATION:Södermanlands-Nerikes Nation\, Uppsala
CATEGORIES:Konsert
END:VEVENT
BEGIN:VEVENT
DTSTART;VALUE=DATE:20250926
DTEND;VALUE=DATE:20250927
DTSTAMP:20260420T085330
CREATED:20241217T092511Z
LAST-MODIFIED:20250917T072832Z
UID:10000919-1758844800-1758931199@jubel.se
SUMMARY:Tomas Andersson Wij
DESCRIPTION:
URL:https://jubel.se/biljetter/tomas-andersson-wij-106
LOCATION:Danderyds Kyrka\, Danderyd
CATEGORIES:Konsert
END:VEVENT
BEGIN:VEVENT
DTSTART;VALUE=DATE:20250926
DTEND;VALUE=DATE:20250927
DTSTAMP:20260420T085330
CREATED:20250424T080037Z
LAST-MODIFIED:20250424T081018Z
UID:10001100-1758844800-1758931199@jubel.se
SUMMARY:Viktor Norén
DESCRIPTION:
URL:https://jubel.se/biljetter/viktor-noren-41
LOCATION:Crusellhallen\, Linköping
CATEGORIES:Konsert
END:VEVENT
BEGIN:VEVENT
DTSTART;VALUE=DATE:20250921
DTEND;VALUE=DATE:20250922
DTSTAMP:20260420T085330
CREATED:20250424T075859Z
LAST-MODIFIED:20250612T122324Z
UID:10001097-1758412800-1758499199@jubel.se
SUMMARY:Viktor Norén
DESCRIPTION:
URL:https://jubel.se/biljetter/viktor-noren-38
LOCATION:Örebro konserthus\, Örebro
CATEGORIES:Konsert
END:VEVENT
BEGIN:VEVENT
DTSTART;VALUE=DATE:20250920
DTEND;VALUE=DATE:20250921
DTSTAMP:20260420T085330
CREATED:20250828T144209Z
LAST-MODIFIED:20250828T144209Z
UID:10001289-1758326400-1758412799@jubel.se
SUMMARY:Sofia Karlsson
DESCRIPTION:
URL:https://jubel.se/biljetter/sofia-karlsson-111
LOCATION:Litteraturfest\, Røros
CATEGORIES:Konsert
END:VEVENT
BEGIN:VEVENT
DTSTART;VALUE=DATE:20250920
DTEND;VALUE=DATE:20250921
DTSTAMP:20260420T085330
CREATED:20250403T080621Z
LAST-MODIFIED:20250403T080621Z
UID:10001062-1758326400-1758412799@jubel.se
SUMMARY:Silvana Imam
DESCRIPTION:
URL:https://jubel.se/biljetter/silvana-imam-14
LOCATION:Uppsala Pride\, Vaksalagatan 1\, Uppsala\, 753 31
CATEGORIES:Festival
END:VEVENT
BEGIN:VEVENT
DTSTART;VALUE=DATE:20250920
DTEND;VALUE=DATE:20250921
DTSTAMP:20260420T085330
CREATED:20250424T075643Z
LAST-MODIFIED:20250424T081122Z
UID:10001093-1758326400-1758412799@jubel.se
SUMMARY:Viktor Norén
DESCRIPTION:
URL:https://jubel.se/biljetter/viktor-noren-35
LOCATION:Gävle Konserthus\, Gävle
CATEGORIES:Konsert
END:VEVENT
BEGIN:VEVENT
DTSTART;VALUE=DATE:20250920
DTEND;VALUE=DATE:20250921
DTSTAMP:20260420T085330
CREATED:20250602T131529Z
LAST-MODIFIED:20250711T151325Z
UID:10001213-1758326400-1758412799@jubel.se
SUMMARY:John Lindberg Trio
DESCRIPTION:
URL:https://jubel.se/biljetter/john-lindberg-trio-64
LOCATION:Rockfickan\, Hova
CATEGORIES:Konsert
END:VEVENT
BEGIN:VEVENT
DTSTART;VALUE=DATE:20250914
DTEND;VALUE=DATE:20250915
DTSTAMP:20260420T085330
CREATED:20250828T144030Z
LAST-MODIFIED:20250828T144030Z
UID:10001288-1757808000-1757894399@jubel.se
SUMMARY:Sofia Karlsson
DESCRIPTION:
URL:https://jubel.se/biljetter/sofia-karlsson-110
LOCATION:Stora Teatern\, Göteborg
CATEGORIES:Konsert
END:VEVENT
BEGIN:VEVENT
DTSTART;VALUE=DATE:20250913
DTEND;VALUE=DATE:20250914
DTSTAMP:20260420T085330
CREATED:20250808T110046Z
LAST-MODIFIED:20250807T102638Z
UID:10001275-1757721600-1757807999@jubel.se
SUMMARY:Annika Wickihalder
DESCRIPTION:
URL:https://jubel.se/biljetter/annika-wickihalder-21
LOCATION:Var den du är\, Vetlanda
CATEGORIES:Konsert
END:VEVENT
BEGIN:VEVENT
DTSTART;VALUE=DATE:20250913
DTEND;VALUE=DATE:20250914
DTSTAMP:20260420T085330
CREATED:20250512T082723Z
LAST-MODIFIED:20250512T082723Z
UID:10001140-1757721600-1757807999@jubel.se
SUMMARY:Hanna Järver
DESCRIPTION:
URL:https://jubel.se/biljetter/hanna-jarver-10
LOCATION:Fållan
CATEGORIES:Konsert
END:VEVENT
BEGIN:VEVENT
DTSTART;VALUE=DATE:20250913
DTEND;VALUE=DATE:20250914
DTSTAMP:20260420T085330
CREATED:20250424T075535Z
LAST-MODIFIED:20250424T081040Z
UID:10001094-1757721600-1757807999@jubel.se
SUMMARY:Viktor Norén
DESCRIPTION:
URL:https://jubel.se/biljetter/viktor-noren-33
LOCATION:Lorensbergsteatern\, Karl Gerhards Plats 1\, Göteborg\, 412 53
CATEGORIES:Konsert
END:VEVENT
BEGIN:VEVENT
DTSTART;VALUE=DATE:20250913
DTEND;VALUE=DATE:20250914
DTSTAMP:20260420T085330
CREATED:20250303T151701Z
LAST-MODIFIED:20250303T151701Z
UID:10000996-1757721600-1757807999@jubel.se
SUMMARY:Atomic Swing
DESCRIPTION:
URL:https://jubel.se/biljetter/atomic-swing-17
LOCATION:Paletten\, Viborg\, DK
CATEGORIES:Konsert
END:VEVENT
BEGIN:VEVENT
DTSTART;VALUE=DATE:20250913
DTEND;VALUE=DATE:20250914
DTSTAMP:20260420T085330
CREATED:20241122T090048Z
LAST-MODIFIED:20250512T081557Z
UID:10000882-1757721600-1757807999@jubel.se
SUMMARY:Division 7
DESCRIPTION:
URL:https://jubel.se/biljetter/division-7-22
LOCATION:Fållan\, Stockholm\, Hallgränd 19\, Johanneshov\, 121 62\, Sweden
CATEGORIES:Konsert
END:VEVENT
BEGIN:VEVENT
DTSTART;VALUE=DATE:20250912
DTEND;VALUE=DATE:20250913
DTSTAMP:20260420T085330
CREATED:20250125T180425Z
LAST-MODIFIED:20250904T122329Z
UID:10000968-1757635200-1757721599@jubel.se
SUMMARY:Atomic Swing
DESCRIPTION:
URL:https://jubel.se/biljetter/atomic-swing-14
LOCATION:Gimle\, Roskilde\, DK
CATEGORIES:Konsert
END:VEVENT
BEGIN:VEVENT
DTSTART;VALUE=DATE:20250911
DTEND;VALUE=DATE:20250912
DTSTAMP:20260420T085330
CREATED:20250424T094856Z
LAST-MODIFIED:20250812T105757Z
UID:10001109-1757548800-1757635199@jubel.se
SUMMARY:Division 7
DESCRIPTION:
URL:https://jubel.se/biljetter/division-7-27
LOCATION:by:Larm\, Oslo
CATEGORIES:Festival
END:VEVENT
BEGIN:VEVENT
DTSTART;VALUE=DATE:20250911
DTEND;VALUE=DATE:20250912
DTSTAMP:20260420T085330
CREATED:20250303T151512Z
LAST-MODIFIED:20250303T151512Z
UID:10000995-1757548800-1757635199@jubel.se
SUMMARY:Atomic Swing
DESCRIPTION:
URL:https://jubel.se/biljetter/atomic-swing-16
LOCATION:Mejeriet Sønderborg\, Denmark
CATEGORIES:Konsert
END:VEVENT
BEGIN:VEVENT
DTSTART;VALUE=DATE:20250907
DTEND;VALUE=DATE:20250908
DTSTAMP:20260420T085330
CREATED:20250828T143634Z
LAST-MODIFIED:20250828T143634Z
UID:10001287-1757203200-1757289599@jubel.se
SUMMARY:Sofia Karlsson
DESCRIPTION:
URL:https://jubel.se/biljetter/sofia-karlsson-109
LOCATION:Vara Konserthus\, Vara
CATEGORIES:Konsert
END:VEVENT
BEGIN:VEVENT
DTSTART;VALUE=DATE:20250906
DTEND;VALUE=DATE:20250907
DTSTAMP:20260420T085330
CREATED:20250902T123934Z
LAST-MODIFIED:20250902T123934Z
UID:10001294-1757116800-1757203199@jubel.se
SUMMARY:Maxida Märak
DESCRIPTION:
URL:https://jubel.se/biljetter/maxida-marak-41
LOCATION:Bruket i Wiared\, Borås
CATEGORIES:Konsert
END:VEVENT
BEGIN:VEVENT
DTSTART;VALUE=DATE:20250906
DTEND;VALUE=DATE:20250907
DTSTAMP:20260420T085330
CREATED:20250804T120116Z
LAST-MODIFIED:20250804T120425Z
UID:10001271-1757116800-1757203199@jubel.se
SUMMARY:Daniel Adams-Ray
DESCRIPTION:
URL:https://jubel.se/biljetter/daniel-adams-ray-37
LOCATION:Bruket i Wiared\, Borås
CATEGORIES:Festival
END:VEVENT
BEGIN:VEVENT
DTSTART;VALUE=DATE:20250906
DTEND;VALUE=DATE:20250907
DTSTAMP:20260420T085330
CREATED:20250602T131349Z
LAST-MODIFIED:20250602T131349Z
UID:10001210-1757116800-1757203199@jubel.se
SUMMARY:Viktor Norén
DESCRIPTION:
URL:https://jubel.se/biljetter/viktor-noren-54
LOCATION:Söderbärkeparken\, Söderbärke
CATEGORIES:Konsert
END:VEVENT
BEGIN:VEVENT
DTSTART;VALUE=DATE:20250906
DTEND;VALUE=DATE:20250907
DTSTAMP:20260420T085330
CREATED:20241217T090036Z
LAST-MODIFIED:20241216T161802Z
UID:10000901-1757116800-1757203199@jubel.se
SUMMARY:Division 7
DESCRIPTION:
URL:https://jubel.se/biljetter/division-7-23
LOCATION:Pustervik\, Göteborg
CATEGORIES:Konsert
END:VEVENT
BEGIN:VEVENT
DTSTART;VALUE=DATE:20250906
DTEND;VALUE=DATE:20250907
DTSTAMP:20260420T085330
CREATED:20250602T105734Z
LAST-MODIFIED:20250711T150028Z
UID:10001208-1757116800-1757203199@jubel.se
SUMMARY:John Lindberg Trio
DESCRIPTION:
URL:https://jubel.se/biljetter/john-lindberg-trio-60
LOCATION:Tidaholmsparken\, Tidaholm
CATEGORIES:Konsert
END:VEVENT
BEGIN:VEVENT
DTSTART;VALUE=DATE:20250906
DTEND;VALUE=DATE:20250907
DTSTAMP:20260420T085330
CREATED:20250610T150624Z
LAST-MODIFIED:20250612T105656Z
UID:10001233-1757116800-1757203199@jubel.se
SUMMARY:Popsicle
DESCRIPTION:
URL:https://jubel.se/biljetter/popsicle-4
LOCATION:Cozmoz Arena\, Borlänge
CATEGORIES:Konsert
END:VEVENT
BEGIN:VEVENT
DTSTART;VALUE=DATE:20250906
DTEND;VALUE=DATE:20250907
DTSTAMP:20260420T085330
CREATED:20250610T150551Z
LAST-MODIFIED:20250709T093123Z
UID:10001232-1757116800-1757203199@jubel.se
SUMMARY:Atomic Swing
DESCRIPTION:
URL:https://jubel.se/biljetter/atomic-swing-26
LOCATION:Cozmoz Arena\, Borlänge
END:VEVENT
BEGIN:VEVENT
DTSTART;VALUE=DATE:20250905
DTEND;VALUE=DATE:20250906
DTSTAMP:20260420T085330
CREATED:20250904T081015Z
LAST-MODIFIED:20250904T081107Z
UID:10001309-1757030400-1757116799@jubel.se
SUMMARY:AKA Lisa
DESCRIPTION:
URL:https://jubel.se/biljetter/aka-lisa-2
LOCATION:Örebro konserthus\, Örebro
CATEGORIES:Konsert
END:VEVENT
BEGIN:VEVENT
DTSTART;VALUE=DATE:20250905
DTEND;VALUE=DATE:20250906
DTSTAMP:20260420T085330
CREATED:20250901T153107Z
LAST-MODIFIED:20250901T153252Z
UID:10001291-1757030400-1757116799@jubel.se
SUMMARY:Division 7
DESCRIPTION:
URL:https://jubel.se/biljetter/division-7-31
LOCATION:Live At Heart\, Järnvägsgatan 8\, Örebro\, 703 61\, Sverige
CATEGORIES:Konsert
END:VEVENT
BEGIN:VEVENT
DTSTART;VALUE=DATE:20250905
DTEND;VALUE=DATE:20250906
DTSTAMP:20260420T085330
CREATED:20250311T090035Z
LAST-MODIFIED:20250310T162348Z
UID:10001034-1757030400-1757116799@jubel.se
SUMMARY:Atomic Swing
DESCRIPTION:
URL:https://jubel.se/biljetter/atomic-swing-25
LOCATION:Valhall\, Skövde
CATEGORIES:Konsert
END:VEVENT
END:VCALENDAR