BEGIN:VCALENDAR
VERSION:2.0
PRODID:-//Jubel - ECPv6.15.20//NONSGML v1.0//EN
CALSCALE:GREGORIAN
METHOD:PUBLISH
X-ORIGINAL-URL:https://jubel.se
X-WR-CALDESC:Händelser för Jubel
REFRESH-INTERVAL;VALUE=DURATION:PT1H
X-Robots-Tag:noindex
X-PUBLISHED-TTL:PT1H
BEGIN:VTIMEZONE
TZID:Europe/Stockholm
BEGIN:DAYLIGHT
TZOFFSETFROM:+0100
TZOFFSETTO:+0200
TZNAME:CEST
DTSTART:20240331T010000
END:DAYLIGHT
BEGIN:STANDARD
TZOFFSETFROM:+0200
TZOFFSETTO:+0100
TZNAME:CET
DTSTART:20241027T010000
END:STANDARD
BEGIN:DAYLIGHT
TZOFFSETFROM:+0100
TZOFFSETTO:+0200
TZNAME:CEST
DTSTART:20250330T010000
END:DAYLIGHT
BEGIN:STANDARD
TZOFFSETFROM:+0200
TZOFFSETTO:+0100
TZNAME:CET
DTSTART:20251026T010000
END:STANDARD
BEGIN:DAYLIGHT
TZOFFSETFROM:+0100
TZOFFSETTO:+0200
TZNAME:CEST
DTSTART:20260329T010000
END:DAYLIGHT
BEGIN:STANDARD
TZOFFSETFROM:+0200
TZOFFSETTO:+0100
TZNAME:CET
DTSTART:20261025T010000
END:STANDARD
END:VTIMEZONE
BEGIN:VEVENT
DTSTART;VALUE=DATE:20250723
DTEND;VALUE=DATE:20250724
DTSTAMP:20260419T184324
CREATED:20250311T090838Z
LAST-MODIFIED:20250311T091148Z
UID:10001039-1753228800-1753315199@jubel.se
SUMMARY:Dina Ögon
DESCRIPTION:
URL:https://jubel.se/biljetter/dina-ogon-2
LOCATION:Åresjön\, Åre
CATEGORIES:Konsert
END:VEVENT
BEGIN:VEVENT
DTSTART;VALUE=DATE:20250716
DTEND;VALUE=DATE:20250717
DTSTAMP:20260419T184324
CREATED:20250311T090718Z
LAST-MODIFIED:20250311T090718Z
UID:10001038-1752624000-1752710399@jubel.se
SUMMARY:Atomic Swing & Popsicle
DESCRIPTION:
URL:https://jubel.se/biljetter/atomic-swing-popsicle
LOCATION:Åresjön\, Åre
CATEGORIES:Konsert
END:VEVENT
BEGIN:VEVENT
DTSTART;VALUE=DATE:20250709
DTEND;VALUE=DATE:20250710
DTSTAMP:20260419T184324
CREATED:20250311T090246Z
LAST-MODIFIED:20250311T090307Z
UID:10001037-1752019200-1752105599@jubel.se
SUMMARY:Amanda Jenssen
DESCRIPTION:
URL:https://jubel.se/biljetter/amanda-jenssen-2
LOCATION:Åresjön\, Åre
CATEGORIES:Konsert
END:VEVENT
END:VCALENDAR