BEGIN:VCALENDAR
VERSION:2.0
PRODID:-//Jubel - ECPv6.15.20//NONSGML v1.0//EN
CALSCALE:GREGORIAN
METHOD:PUBLISH
X-WR-CALNAME:Jubel
X-ORIGINAL-URL:https://jubel.se
X-WR-CALDESC:Händelser för Jubel
REFRESH-INTERVAL;VALUE=DURATION:PT1H
X-Robots-Tag:noindex
X-PUBLISHED-TTL:PT1H
BEGIN:VTIMEZONE
TZID:Europe/Stockholm
BEGIN:DAYLIGHT
TZOFFSETFROM:+0100
TZOFFSETTO:+0200
TZNAME:CEST
DTSTART:20220327T010000
END:DAYLIGHT
BEGIN:STANDARD
TZOFFSETFROM:+0200
TZOFFSETTO:+0100
TZNAME:CET
DTSTART:20221030T010000
END:STANDARD
BEGIN:DAYLIGHT
TZOFFSETFROM:+0100
TZOFFSETTO:+0200
TZNAME:CEST
DTSTART:20230326T010000
END:DAYLIGHT
BEGIN:STANDARD
TZOFFSETFROM:+0200
TZOFFSETTO:+0100
TZNAME:CET
DTSTART:20231029T010000
END:STANDARD
BEGIN:DAYLIGHT
TZOFFSETFROM:+0100
TZOFFSETTO:+0200
TZNAME:CEST
DTSTART:20240331T010000
END:DAYLIGHT
BEGIN:STANDARD
TZOFFSETFROM:+0200
TZOFFSETTO:+0100
TZNAME:CET
DTSTART:20241027T010000
END:STANDARD
BEGIN:DAYLIGHT
TZOFFSETFROM:+0100
TZOFFSETTO:+0200
TZNAME:CEST
DTSTART:20250330T010000
END:DAYLIGHT
BEGIN:STANDARD
TZOFFSETFROM:+0200
TZOFFSETTO:+0100
TZNAME:CET
DTSTART:20251026T010000
END:STANDARD
BEGIN:DAYLIGHT
TZOFFSETFROM:+0100
TZOFFSETTO:+0200
TZNAME:CEST
DTSTART:20260329T010000
END:DAYLIGHT
BEGIN:STANDARD
TZOFFSETFROM:+0200
TZOFFSETTO:+0100
TZNAME:CET
DTSTART:20261025T010000
END:STANDARD
END:VTIMEZONE
BEGIN:VEVENT
DTSTART;VALUE=DATE:20251220
DTEND;VALUE=DATE:20251221
DTSTAMP:20260421T222706
CREATED:20251016T131548Z
LAST-MODIFIED:20251016T131548Z
UID:10001369-1766188800-1766275199@jubel.se
SUMMARY:John Lindberg Trio
DESCRIPTION:
URL:https://jubel.se/biljetter/john-lindberg-trio-75
LOCATION:Hotell Klockargården\, Tällberg
CATEGORIES:Konsert
END:VEVENT
BEGIN:VEVENT
DTSTART;VALUE=DATE:20251219
DTEND;VALUE=DATE:20251220
DTSTAMP:20260421T222706
CREATED:20251016T131527Z
LAST-MODIFIED:20251016T131527Z
UID:10001368-1766102400-1766188799@jubel.se
SUMMARY:John Lindberg Trio
DESCRIPTION:
URL:https://jubel.se/biljetter/john-lindberg-trio-74
LOCATION:Hotell Klockargården\, Tällberg
CATEGORIES:Konsert
END:VEVENT
BEGIN:VEVENT
DTSTART;VALUE=DATE:20251213
DTEND;VALUE=DATE:20251214
DTSTAMP:20260421T222706
CREATED:20251016T131456Z
LAST-MODIFIED:20251016T131456Z
UID:10001367-1765584000-1765670399@jubel.se
SUMMARY:John Lindberg Trio
DESCRIPTION:
URL:https://jubel.se/biljetter/john-lindberg-trio-73
LOCATION:Hotell Klockargården\, Tällberg
CATEGORIES:Konsert
END:VEVENT
BEGIN:VEVENT
DTSTART;VALUE=DATE:20251212
DTEND;VALUE=DATE:20251213
DTSTAMP:20260421T222706
CREATED:20251016T131422Z
LAST-MODIFIED:20251016T131422Z
UID:10001366-1765497600-1765583999@jubel.se
SUMMARY:John Lindberg Trio
DESCRIPTION:
URL:https://jubel.se/biljetter/john-lindberg-trio-72
LOCATION:Hotell Klockargården\, Tällberg
CATEGORIES:Konsert
END:VEVENT
BEGIN:VEVENT
DTSTART;VALUE=DATE:20251206
DTEND;VALUE=DATE:20251207
DTSTAMP:20260421T222706
CREATED:20251016T131406Z
LAST-MODIFIED:20251016T131406Z
UID:10001365-1764979200-1765065599@jubel.se
SUMMARY:John Lindberg Trio
DESCRIPTION:
URL:https://jubel.se/biljetter/john-lindberg-trio-71
LOCATION:Hotell Klockargården\, Tällberg
CATEGORIES:Konsert
END:VEVENT
BEGIN:VEVENT
DTSTART;VALUE=DATE:20251205
DTEND;VALUE=DATE:20251206
DTSTAMP:20260421T222706
CREATED:20251016T131251Z
LAST-MODIFIED:20251016T131251Z
UID:10001363-1764892800-1764979199@jubel.se
SUMMARY:John Lindberg Trio
DESCRIPTION:
URL:https://jubel.se/biljetter/john-lindberg-trio-69
LOCATION:Hotell Klockargården\, Tällberg
CATEGORIES:Konsert
END:VEVENT
BEGIN:VEVENT
DTSTART;VALUE=DATE:20251129
DTEND;VALUE=DATE:20251130
DTSTAMP:20260421T222706
CREATED:20251016T131337Z
LAST-MODIFIED:20251016T131337Z
UID:10001364-1764374400-1764460799@jubel.se
SUMMARY:John Lindberg Trio
DESCRIPTION:
URL:https://jubel.se/biljetter/john-lindberg-trio-70
LOCATION:Hotell Klockargården\, Tällberg
CATEGORIES:Konsert
END:VEVENT
BEGIN:VEVENT
DTSTART;VALUE=DATE:20251128
DTEND;VALUE=DATE:20251129
DTSTAMP:20260421T222706
CREATED:20251016T131213Z
LAST-MODIFIED:20251016T131213Z
UID:10001362-1764288000-1764374399@jubel.se
SUMMARY:John Lindberg Trio
DESCRIPTION:
URL:https://jubel.se/biljetter/john-lindberg-trio-68
LOCATION:Hotell Klockargården\, Tällberg
END:VEVENT
BEGIN:VEVENT
DTSTART;VALUE=DATE:20231028
DTEND;VALUE=DATE:20231029
DTSTAMP:20260421T222706
CREATED:20230621T093323Z
LAST-MODIFIED:20230621T093323Z
UID:10000312-1698451200-1698537599@jubel.se
SUMMARY:Sofia Karlsson
DESCRIPTION:
URL:https://jubel.se/biljetter/sofia-karlsson-25
LOCATION:Hotell Klockargården\, Tällberg
CATEGORIES:Konsert
END:VEVENT
END:VCALENDAR