BEGIN:VCALENDAR
VERSION:2.0
PRODID:-//Jubel - ECPv6.15.20//NONSGML v1.0//EN
CALSCALE:GREGORIAN
METHOD:PUBLISH
X-WR-CALNAME:Jubel
X-ORIGINAL-URL:https://jubel.se
X-WR-CALDESC:Händelser för Jubel
REFRESH-INTERVAL;VALUE=DURATION:PT1H
X-Robots-Tag:noindex
X-PUBLISHED-TTL:PT1H
BEGIN:VTIMEZONE
TZID:Europe/Stockholm
BEGIN:DAYLIGHT
TZOFFSETFROM:+0100
TZOFFSETTO:+0200
TZNAME:CEST
DTSTART:20240331T010000
END:DAYLIGHT
BEGIN:STANDARD
TZOFFSETFROM:+0200
TZOFFSETTO:+0100
TZNAME:CET
DTSTART:20241027T010000
END:STANDARD
BEGIN:DAYLIGHT
TZOFFSETFROM:+0100
TZOFFSETTO:+0200
TZNAME:CEST
DTSTART:20250330T010000
END:DAYLIGHT
BEGIN:STANDARD
TZOFFSETFROM:+0200
TZOFFSETTO:+0100
TZNAME:CET
DTSTART:20251026T010000
END:STANDARD
BEGIN:DAYLIGHT
TZOFFSETFROM:+0100
TZOFFSETTO:+0200
TZNAME:CEST
DTSTART:20260329T010000
END:DAYLIGHT
BEGIN:STANDARD
TZOFFSETFROM:+0200
TZOFFSETTO:+0100
TZNAME:CET
DTSTART:20261025T010000
END:STANDARD
END:VTIMEZONE
BEGIN:VEVENT
DTSTART;VALUE=DATE:20251127
DTEND;VALUE=DATE:20251128
DTSTAMP:20260419T182304
CREATED:20250521T085015Z
LAST-MODIFIED:20251007T101336Z
UID:10001166-1764201600-1764287999@jubel.se
SUMMARY:Moa Lignell
DESCRIPTION:
URL:https://jubel.se/biljetter/moa-lignell-20
LOCATION:Victoriateatern\, Malmö
CATEGORIES:Konsert
END:VEVENT
BEGIN:VEVENT
DTSTART;VALUE=DATE:20250315
DTEND;VALUE=DATE:20250316
DTSTAMP:20260419T182304
CREATED:20250116T153630Z
LAST-MODIFIED:20250116T153630Z
UID:10000957-1741996800-1742083199@jubel.se
SUMMARY:Sofia Karlsson
DESCRIPTION:
URL:https://jubel.se/biljetter/sofia-karlsson-81
LOCATION:Victoriateatern\, Malmö
CATEGORIES:Konsert
END:VEVENT
BEGIN:VEVENT
DTSTART;VALUE=DATE:20250314
DTEND;VALUE=DATE:20250315
DTSTAMP:20260419T182304
CREATED:20250116T153536Z
LAST-MODIFIED:20250116T153536Z
UID:10000956-1741910400-1741996799@jubel.se
SUMMARY:Sofia Karlsson
DESCRIPTION:
URL:https://jubel.se/biljetter/sofia-karlsson-80
LOCATION:Victoriateatern\, Malmö
CATEGORIES:Konsert
END:VEVENT
END:VCALENDAR